BEGIN:VCALENDAR
PRODID:-//WikiCFP//glipari 1.0//EN
VERSION:2.0
CALSCALE:GREGORIAN
BEGIN:VEVENT
DTSTAMP:20260421T024514Z
DTSTART;VALUE=DATE:20171019
DTEND;VALUE=DATE:20171020
SUMMARY:EWILI 2017
DESCRIPTION:The 7th Embedded Operating System Workshop
URL:http://www.wikicfp.com/cfp/servlet/event.showcfp?eventid=65157&copyow
 nerid=26541
UID:cfp672368-E@wikicfp.com
END:VEVENT
BEGIN:VEVENT
DTSTAMP:20260421T024514Z
DTSTART;VALUE=DATE:20170712
SUMMARY:EWILI 2017 Abstract Due
DESCRIPTION:The 7th Embedded Operating System Workshop
URL:http://www.wikicfp.com/cfp/servlet/event.showcfp?eventid=65157&copyow
 nerid=26541
UID:cfp672368-A@wikicfp.com
END:VEVENT
BEGIN:VEVENT
DTSTAMP:20260421T024514Z
DTSTART;VALUE=DATE:20170721
SUMMARY:EWILI 2017 Deadline
DESCRIPTION:The 7th Embedded Operating System Workshop
URL:http://www.wikicfp.com/cfp/servlet/event.showcfp?eventid=65157&copyow
 nerid=26541
UID:cfp672368-D@wikicfp.com
END:VEVENT
BEGIN:VEVENT
DTSTAMP:20260421T024514Z
DTSTART;VALUE=DATE:20170828
SUMMARY:EWILI 2017 Notification Due
DESCRIPTION:The 7th Embedded Operating System Workshop
URL:http://www.wikicfp.com/cfp/servlet/event.showcfp?eventid=65157&copyow
 nerid=26541
UID:cfp672368-N@wikicfp.com
END:VEVENT
BEGIN:VEVENT
DTSTAMP:20260421T024514Z
DTSTART;VALUE=DATE:20170811
SUMMARY:EWILI 2017 Final Version Due
DESCRIPTION:The 7th Embedded Operating System Workshop
URL:http://www.wikicfp.com/cfp/servlet/event.showcfp?eventid=65157&copyow
 nerid=26541
UID:cfp672368-N@wikicfp.com
END:VEVENT
BEGIN:VEVENT
DTSTAMP:20260421T024514Z
DTSTART;VALUE=DATE:20171217
DTEND;VALUE=DATE:20171220
SUMMARY:EDIS 2017
DESCRIPTION:International conference on Embedded & Distributed Systems
URL:http://www.wikicfp.com/cfp/servlet/event.showcfp?eventid=68205&copyow
 nerid=26541
UID:cfp686447-E@wikicfp.com
END:VEVENT
BEGIN:VEVENT
DTSTAMP:20260421T024514Z
DTSTART;VALUE=DATE:20171001
SUMMARY:EDIS 2017 Abstract Due
DESCRIPTION:International conference on Embedded & Distributed Systems
URL:http://www.wikicfp.com/cfp/servlet/event.showcfp?eventid=68205&copyow
 nerid=26541
UID:cfp686447-A@wikicfp.com
END:VEVENT
BEGIN:VEVENT
DTSTAMP:20260421T024514Z
DTSTART;VALUE=DATE:20171015
SUMMARY:EDIS 2017 Deadline
DESCRIPTION:International conference on Embedded & Distributed Systems
URL:http://www.wikicfp.com/cfp/servlet/event.showcfp?eventid=68205&copyow
 nerid=26541
UID:cfp686447-D@wikicfp.com
END:VEVENT
BEGIN:VEVENT
DTSTAMP:20260421T024514Z
DTSTART;VALUE=DATE:20171115
SUMMARY:EDIS 2017 Notification Due
DESCRIPTION:International conference on Embedded & Distributed Systems
URL:http://www.wikicfp.com/cfp/servlet/event.showcfp?eventid=68205&copyow
 nerid=26541
UID:cfp686447-N@wikicfp.com
END:VEVENT
BEGIN:VEVENT
DTSTAMP:20260421T024514Z
DTSTART;VALUE=DATE:20171201
SUMMARY:EDIS 2017 Final Version Due
DESCRIPTION:International conference on Embedded & Distributed Systems
URL:http://www.wikicfp.com/cfp/servlet/event.showcfp?eventid=68205&copyow
 nerid=26541
UID:cfp686447-N@wikicfp.com
END:VEVENT
END:VCALENDAR
