BEGIN:VCALENDAR
PRODID:-//WikiCFP//Surjyo 1.0//EN
VERSION:2.0
CALSCALE:GREGORIAN
BEGIN:VEVENT
DTSTAMP:20260419T161829Z
DTSTART;VALUE=DATE:20111116
DTEND;VALUE=DATE:20111119
SUMMARY:ICSIPA 2011
DESCRIPTION:IEEE International Conference on Signal and Image Processing 
 Applications
URL:http://www.wikicfp.com/cfp/servlet/event.showcfp?eventid=14154&copyow
 nerid=26303
UID:cfp183924-E@wikicfp.com
END:VEVENT
BEGIN:VEVENT
DTSTAMP:20260419T161829Z
DTSTART;VALUE=DATE:20110603
SUMMARY:ICSIPA 2011 Deadline
DESCRIPTION:IEEE International Conference on Signal and Image Processing 
 Applications
URL:http://www.wikicfp.com/cfp/servlet/event.showcfp?eventid=14154&copyow
 nerid=26303
UID:cfp183924-D@wikicfp.com
END:VEVENT
BEGIN:VEVENT
DTSTAMP:20260419T161829Z
DTSTART;VALUE=DATE:20110817
SUMMARY:ICSIPA 2011 Notification Due
DESCRIPTION:IEEE International Conference on Signal and Image Processing 
 Applications
URL:http://www.wikicfp.com/cfp/servlet/event.showcfp?eventid=14154&copyow
 nerid=26303
UID:cfp183924-N@wikicfp.com
END:VEVENT
BEGIN:VEVENT
DTSTAMP:20260419T161829Z
DTSTART;VALUE=DATE:20110930
SUMMARY:ICSIPA 2011 Final Version Due
DESCRIPTION:IEEE International Conference on Signal and Image Processing 
 Applications
URL:http://www.wikicfp.com/cfp/servlet/event.showcfp?eventid=14154&copyow
 nerid=26303
UID:cfp183924-N@wikicfp.com
END:VEVENT
BEGIN:VEVENT
DTSTAMP:20260419T161829Z
DTSTART;VALUE=DATE:20110726
DTEND;VALUE=DATE:20110729
SUMMARY:ICMT 2011
DESCRIPTION:International Conference on Multimedia Technology
URL:http://www.wikicfp.com/cfp/servlet/event.showcfp?eventid=13849&copyow
 nerid=26303
UID:cfp183922-E@wikicfp.com
END:VEVENT
BEGIN:VEVENT
DTSTAMP:20260419T161829Z
DTSTART;VALUE=DATE:20110605
SUMMARY:ICMT 2011 Deadline
DESCRIPTION:International Conference on Multimedia Technology
URL:http://www.wikicfp.com/cfp/servlet/event.showcfp?eventid=13849&copyow
 nerid=26303
UID:cfp183922-D@wikicfp.com
END:VEVENT
BEGIN:VEVENT
DTSTAMP:20260419T161829Z
DTSTART;VALUE=DATE:20110626
SUMMARY:ICMT 2011 Notification Due
DESCRIPTION:International Conference on Multimedia Technology
URL:http://www.wikicfp.com/cfp/servlet/event.showcfp?eventid=13849&copyow
 nerid=26303
UID:cfp183922-N@wikicfp.com
END:VEVENT
BEGIN:VEVENT
DTSTAMP:20260419T161829Z
DTSTART;VALUE=DATE:20111203
DTEND;VALUE=DATE:20111205
SUMMARY:CIS 2011
DESCRIPTION:2011 International Conference on Computational Intelligence a
 nd Security
URL:http://www.wikicfp.com/cfp/servlet/event.showcfp?eventid=15912&copyow
 nerid=26303
UID:cfp183930-E@wikicfp.com
END:VEVENT
BEGIN:VEVENT
DTSTAMP:20260419T161829Z
DTSTART;VALUE=DATE:20110630
SUMMARY:CIS 2011 Deadline
DESCRIPTION:2011 International Conference on Computational Intelligence a
 nd Security
URL:http://www.wikicfp.com/cfp/servlet/event.showcfp?eventid=15912&copyow
 nerid=26303
UID:cfp183930-D@wikicfp.com
END:VEVENT
BEGIN:VEVENT
DTSTAMP:20260419T161829Z
DTSTART;VALUE=DATE:20110815
SUMMARY:CIS 2011 Notification Due
DESCRIPTION:2011 International Conference on Computational Intelligence a
 nd Security
URL:http://www.wikicfp.com/cfp/servlet/event.showcfp?eventid=15912&copyow
 nerid=26303
UID:cfp183930-N@wikicfp.com
END:VEVENT
BEGIN:VEVENT
DTSTAMP:20260419T161829Z
DTSTART;VALUE=DATE:20110830
SUMMARY:CIS 2011 Final Version Due
DESCRIPTION:2011 International Conference on Computational Intelligence a
 nd Security
URL:http://www.wikicfp.com/cfp/servlet/event.showcfp?eventid=15912&copyow
 nerid=26303
UID:cfp183930-N@wikicfp.com
END:VEVENT
BEGIN:VEVENT
DTSTAMP:20260419T161829Z
DTSTART;VALUE=DATE:20111206
DTEND;VALUE=DATE:20111209
SUMMARY:DICTA 2011
DESCRIPTION:International Conference on Digital Image Computing: Techniqu
 es and Applications
URL:http://www.wikicfp.com/cfp/servlet/event.showcfp?eventid=14528&copyow
 nerid=26303
UID:cfp183926-E@wikicfp.com
END:VEVENT
BEGIN:VEVENT
DTSTAMP:20260419T161829Z
DTSTART;VALUE=DATE:20110705
SUMMARY:DICTA 2011 Deadline
DESCRIPTION:International Conference on Digital Image Computing: Techniqu
 es and Applications
URL:http://www.wikicfp.com/cfp/servlet/event.showcfp?eventid=14528&copyow
 nerid=26303
UID:cfp183926-D@wikicfp.com
END:VEVENT
BEGIN:VEVENT
DTSTAMP:20260419T161829Z
DTSTART;VALUE=DATE:20110805
SUMMARY:DICTA 2011 Notification Due
DESCRIPTION:International Conference on Digital Image Computing: Techniqu
 es and Applications
URL:http://www.wikicfp.com/cfp/servlet/event.showcfp?eventid=14528&copyow
 nerid=26303
UID:cfp183926-N@wikicfp.com
END:VEVENT
BEGIN:VEVENT
DTSTAMP:20260419T161829Z
DTSTART;VALUE=DATE:20110829
SUMMARY:DICTA 2011 Final Version Due
DESCRIPTION:International Conference on Digital Image Computing: Techniqu
 es and Applications
URL:http://www.wikicfp.com/cfp/servlet/event.showcfp?eventid=14528&copyow
 nerid=26303
UID:cfp183926-N@wikicfp.com
END:VEVENT
BEGIN:VEVENT
DTSTAMP:20260419T161829Z
DTSTART;VALUE=DATE:20111103
DTEND;VALUE=DATE:20111106
SUMMARY:ICIIP 2011
DESCRIPTION:2011 International Conference on Image Information Processing
 
URL:http://www.wikicfp.com/cfp/servlet/event.showcfp?eventid=14280&copyow
 nerid=26303
UID:cfp183925-E@wikicfp.com
END:VEVENT
BEGIN:VEVENT
DTSTAMP:20260419T161829Z
DTSTART;VALUE=DATE:20110714
SUMMARY:ICIIP 2011 Deadline
DESCRIPTION:2011 International Conference on Image Information Processing
 
URL:http://www.wikicfp.com/cfp/servlet/event.showcfp?eventid=14280&copyow
 nerid=26303
UID:cfp183925-D@wikicfp.com
END:VEVENT
BEGIN:VEVENT
DTSTAMP:20260419T161829Z
DTSTART;VALUE=DATE:20110814
SUMMARY:ICIIP 2011 Notification Due
DESCRIPTION:2011 International Conference on Image Information Processing
 
URL:http://www.wikicfp.com/cfp/servlet/event.showcfp?eventid=14280&copyow
 nerid=26303
UID:cfp183925-N@wikicfp.com
END:VEVENT
BEGIN:VEVENT
DTSTAMP:20260419T161829Z
DTSTART;VALUE=DATE:20110915
SUMMARY:ICIIP 2011 Final Version Due
DESCRIPTION:2011 International Conference on Image Information Processing
 
URL:http://www.wikicfp.com/cfp/servlet/event.showcfp?eventid=14280&copyow
 nerid=26303
UID:cfp183925-N@wikicfp.com
END:VEVENT
BEGIN:VEVENT
DTSTAMP:20260419T161829Z
DTSTART;VALUE=DATE:20111120
DTEND;VALUE=DATE:20111124
SUMMARY:PSIVT 2011
DESCRIPTION:Pacific-Rim Symposium on Image and Video Technology 2011 
URL:http://www.wikicfp.com/cfp/servlet/event.showcfp?eventid=16250&copyow
 nerid=26303
UID:cfp183931-E@wikicfp.com
END:VEVENT
BEGIN:VEVENT
DTSTAMP:20260419T161829Z
DTSTART;VALUE=DATE:20110715
SUMMARY:PSIVT 2011 Deadline
DESCRIPTION:Pacific-Rim Symposium on Image and Video Technology 2011 
URL:http://www.wikicfp.com/cfp/servlet/event.showcfp?eventid=16250&copyow
 nerid=26303
UID:cfp183931-D@wikicfp.com
END:VEVENT
BEGIN:VEVENT
DTSTAMP:20260419T161829Z
DTSTART;VALUE=DATE:20110831
SUMMARY:PSIVT 2011 Notification Due
DESCRIPTION:Pacific-Rim Symposium on Image and Video Technology 2011 
URL:http://www.wikicfp.com/cfp/servlet/event.showcfp?eventid=16250&copyow
 nerid=26303
UID:cfp183931-N@wikicfp.com
END:VEVENT
BEGIN:VEVENT
DTSTAMP:20260419T161829Z
DTSTART;VALUE=DATE:20110915
SUMMARY:PSIVT 2011 Final Version Due
DESCRIPTION:Pacific-Rim Symposium on Image and Video Technology 2011 
URL:http://www.wikicfp.com/cfp/servlet/event.showcfp?eventid=16250&copyow
 nerid=26303
UID:cfp183931-N@wikicfp.com
END:VEVENT
BEGIN:VEVENT
DTSTAMP:20260419T161829Z
DTSTART;VALUE=DATE:20111215
DTEND;VALUE=DATE:20111218
SUMMARY:NCVPRIPG 2011
DESCRIPTION:National Conference on Computer Vision\, Pattern Recognition\
 , Image Processing and Graphics
URL:http://www.wikicfp.com/cfp/servlet/event.showcfp?eventid=16600&copyow
 nerid=26303
UID:cfp183933-E@wikicfp.com
END:VEVENT
BEGIN:VEVENT
DTSTAMP:20260419T161829Z
DTSTART;VALUE=DATE:20110715
SUMMARY:NCVPRIPG 2011 Deadline
DESCRIPTION:National Conference on Computer Vision\, Pattern Recognition\
 , Image Processing and Graphics
URL:http://www.wikicfp.com/cfp/servlet/event.showcfp?eventid=16600&copyow
 nerid=26303
UID:cfp183933-D@wikicfp.com
END:VEVENT
BEGIN:VEVENT
DTSTAMP:20260419T161829Z
DTSTART;VALUE=DATE:20111116
DTEND;VALUE=DATE:20111118
SUMMARY:MVIP 2011
DESCRIPTION:7th Iranian Conference on Machine Vision and Image Processing
 
URL:http://www.wikicfp.com/cfp/servlet/event.showcfp?eventid=16422&copyow
 nerid=26303
UID:cfp183932-E@wikicfp.com
END:VEVENT
BEGIN:VEVENT
DTSTAMP:20260419T161829Z
DTSTART;VALUE=DATE:20110723
SUMMARY:MVIP 2011 Deadline
DESCRIPTION:7th Iranian Conference on Machine Vision and Image Processing
 
URL:http://www.wikicfp.com/cfp/servlet/event.showcfp?eventid=16422&copyow
 nerid=26303
UID:cfp183932-D@wikicfp.com
END:VEVENT
BEGIN:VEVENT
DTSTAMP:20260419T161829Z
DTSTART;VALUE=DATE:20111007
SUMMARY:MVIP 2011 Notification Due
DESCRIPTION:7th Iranian Conference on Machine Vision and Image Processing
 
URL:http://www.wikicfp.com/cfp/servlet/event.showcfp?eventid=16422&copyow
 nerid=26303
UID:cfp183932-N@wikicfp.com
END:VEVENT
BEGIN:VEVENT
DTSTAMP:20260419T161829Z
DTSTART;VALUE=DATE:20111023
SUMMARY:MVIP 2011 Final Version Due
DESCRIPTION:7th Iranian Conference on Machine Vision and Image Processing
 
URL:http://www.wikicfp.com/cfp/servlet/event.showcfp?eventid=16422&copyow
 nerid=26303
UID:cfp183932-N@wikicfp.com
END:VEVENT
BEGIN:VEVENT
DTSTAMP:20260419T161829Z
DTSTART;VALUE=DATE:20120109
DTEND;VALUE=DATE:20120111
SUMMARY:IPOE 2012
DESCRIPTION:2012 International Workshop on Image Processing and Optical E
 ngineering
URL:http://www.wikicfp.com/cfp/servlet/event.showcfp?eventid=16919&copyow
 nerid=26303
UID:cfp183936-E@wikicfp.com
END:VEVENT
BEGIN:VEVENT
DTSTAMP:20260419T161829Z
DTSTART;VALUE=DATE:20110810
SUMMARY:IPOE 2012 Deadline
DESCRIPTION:2012 International Workshop on Image Processing and Optical E
 ngineering
URL:http://www.wikicfp.com/cfp/servlet/event.showcfp?eventid=16919&copyow
 nerid=26303
UID:cfp183936-D@wikicfp.com
END:VEVENT
BEGIN:VEVENT
DTSTAMP:20260419T161829Z
DTSTART;VALUE=DATE:20110910
SUMMARY:IPOE 2012 Notification Due
DESCRIPTION:2012 International Workshop on Image Processing and Optical E
 ngineering
URL:http://www.wikicfp.com/cfp/servlet/event.showcfp?eventid=16919&copyow
 nerid=26303
UID:cfp183936-N@wikicfp.com
END:VEVENT
BEGIN:VEVENT
DTSTAMP:20260419T161829Z
DTSTART;VALUE=DATE:20110925
SUMMARY:IPOE 2012 Final Version Due
DESCRIPTION:2012 International Workshop on Image Processing and Optical E
 ngineering
URL:http://www.wikicfp.com/cfp/servlet/event.showcfp?eventid=16919&copyow
 nerid=26303
UID:cfp183936-N@wikicfp.com
END:VEVENT
BEGIN:VEVENT
DTSTAMP:20260419T161829Z
DTSTART;VALUE=DATE:20120108
DTEND;VALUE=DATE:20120110
SUMMARY:IPOE  2012
DESCRIPTION:2012 International Workshop on Image Processing and Optical E
 ngineering
URL:http://www.wikicfp.com/cfp/servlet/event.showcfp?eventid=16864&copyow
 nerid=26303
UID:cfp183935-E@wikicfp.com
END:VEVENT
BEGIN:VEVENT
DTSTAMP:20260419T161829Z
DTSTART;VALUE=DATE:20110825
SUMMARY:IPOE  2012 Deadline
DESCRIPTION:2012 International Workshop on Image Processing and Optical E
 ngineering
URL:http://www.wikicfp.com/cfp/servlet/event.showcfp?eventid=16864&copyow
 nerid=26303
UID:cfp183935-D@wikicfp.com
END:VEVENT
BEGIN:VEVENT
DTSTAMP:20260419T161829Z
DTSTART;VALUE=DATE:20110910
SUMMARY:IPOE  2012 Notification Due
DESCRIPTION:2012 International Workshop on Image Processing and Optical E
 ngineering
URL:http://www.wikicfp.com/cfp/servlet/event.showcfp?eventid=16864&copyow
 nerid=26303
UID:cfp183935-N@wikicfp.com
END:VEVENT
BEGIN:VEVENT
DTSTAMP:20260419T161829Z
DTSTART;VALUE=DATE:20110925
SUMMARY:IPOE  2012 Final Version Due
DESCRIPTION:2012 International Workshop on Image Processing and Optical E
 ngineering
URL:http://www.wikicfp.com/cfp/servlet/event.showcfp?eventid=16864&copyow
 nerid=26303
UID:cfp183935-N@wikicfp.com
END:VEVENT
BEGIN:VEVENT
DTSTAMP:20260419T161829Z
DTSTART;VALUE=DATE:20111003
DTEND;VALUE=DATE:20111008
SUMMARY:INIT 2011
DESCRIPTION:INIT Autumn School on 3D Imaging Technologies
URL:http://www.wikicfp.com/cfp/servlet/event.showcfp?eventid=16637&copyow
 nerid=26303
UID:cfp183934-E@wikicfp.com
END:VEVENT
BEGIN:VEVENT
DTSTAMP:20260419T161829Z
DTSTART;VALUE=DATE:20110914
SUMMARY:INIT 2011 Deadline
DESCRIPTION:INIT Autumn School on 3D Imaging Technologies
URL:http://www.wikicfp.com/cfp/servlet/event.showcfp?eventid=16637&copyow
 nerid=26303
UID:cfp183934-D@wikicfp.com
END:VEVENT
BEGIN:VEVENT
DTSTAMP:20260419T161829Z
DTSTART;VALUE=DATE:20110914
SUMMARY:INIT 2011 Final Version Due
DESCRIPTION:INIT Autumn School on 3D Imaging Technologies
URL:http://www.wikicfp.com/cfp/servlet/event.showcfp?eventid=16637&copyow
 nerid=26303
UID:cfp183934-N@wikicfp.com
END:VEVENT
BEGIN:VEVENT
DTSTAMP:20260419T161829Z
DTSTART;VALUE=DATE:20120411
DTEND;VALUE=DATE:20120414
SUMMARY:IWSSIP 2012
DESCRIPTION:International Conference on Systems\, Signals and Image Proce
 ssing
URL:http://www.wikicfp.com/cfp/servlet/event.showcfp?eventid=13682&copyow
 nerid=26303
UID:cfp183921-E@wikicfp.com
END:VEVENT
BEGIN:VEVENT
DTSTAMP:20260419T161829Z
DTSTART;VALUE=DATE:20110915
SUMMARY:IWSSIP 2012 Deadline
DESCRIPTION:International Conference on Systems\, Signals and Image Proce
 ssing
URL:http://www.wikicfp.com/cfp/servlet/event.showcfp?eventid=13682&copyow
 nerid=26303
UID:cfp183921-D@wikicfp.com
END:VEVENT
BEGIN:VEVENT
DTSTAMP:20260419T161829Z
DTSTART;VALUE=DATE:20111215
SUMMARY:IWSSIP 2012 Notification Due
DESCRIPTION:International Conference on Systems\, Signals and Image Proce
 ssing
URL:http://www.wikicfp.com/cfp/servlet/event.showcfp?eventid=13682&copyow
 nerid=26303
UID:cfp183921-N@wikicfp.com
END:VEVENT
BEGIN:VEVENT
DTSTAMP:20260419T161829Z
DTSTART;VALUE=DATE:20120131
SUMMARY:IWSSIP 2012 Final Version Due
DESCRIPTION:International Conference on Systems\, Signals and Image Proce
 ssing
URL:http://www.wikicfp.com/cfp/servlet/event.showcfp?eventid=13682&copyow
 nerid=26303
UID:cfp183921-N@wikicfp.com
END:VEVENT
BEGIN:VEVENT
DTSTAMP:20260419T161829Z
DTSTART;VALUE=DATE:20111214
DTEND;VALUE=DATE:20111217
SUMMARY:SIP 2011
DESCRIPTION:The 13th International Conference on Signal and Image Process
 ing
URL:http://www.wikicfp.com/cfp/servlet/event.showcfp?eventid=15563&copyow
 nerid=26303
UID:cfp183928-E@wikicfp.com
END:VEVENT
BEGIN:VEVENT
DTSTAMP:20260419T161829Z
DTSTART;VALUE=DATE:20110922
SUMMARY:SIP 2011 Deadline
DESCRIPTION:The 13th International Conference on Signal and Image Process
 ing
URL:http://www.wikicfp.com/cfp/servlet/event.showcfp?eventid=15563&copyow
 nerid=26303
UID:cfp183928-D@wikicfp.com
END:VEVENT
BEGIN:VEVENT
DTSTAMP:20260419T161829Z
DTSTART;VALUE=DATE:20111012
SUMMARY:SIP 2011 Notification Due
DESCRIPTION:The 13th International Conference on Signal and Image Process
 ing
URL:http://www.wikicfp.com/cfp/servlet/event.showcfp?eventid=15563&copyow
 nerid=26303
UID:cfp183928-N@wikicfp.com
END:VEVENT
BEGIN:VEVENT
DTSTAMP:20260419T161829Z
DTSTART;VALUE=DATE:20111028
SUMMARY:SIP 2011 Final Version Due
DESCRIPTION:The 13th International Conference on Signal and Image Process
 ing
URL:http://www.wikicfp.com/cfp/servlet/event.showcfp?eventid=15563&copyow
 nerid=26303
UID:cfp183928-N@wikicfp.com
END:VEVENT
BEGIN:VEVENT
DTSTAMP:20260419T161829Z
DTSTART;VALUE=DATE:20111011
DTEND;VALUE=DATE:20111014
SUMMARY:AIPR 2011
DESCRIPTION:Applied Imagery Pattern Recognition
URL:http://www.wikicfp.com/cfp/servlet/event.showcfp?eventid=14094&copyow
 nerid=26303
UID:cfp183923-E@wikicfp.com
END:VEVENT
BEGIN:VEVENT
DTSTAMP:20260419T161829Z
DTSTART;VALUE=DATE:20110701
SUMMARY:AIPR 2011 Abstract Due
DESCRIPTION:Applied Imagery Pattern Recognition
URL:http://www.wikicfp.com/cfp/servlet/event.showcfp?eventid=14094&copyow
 nerid=26303
UID:cfp183923-A@wikicfp.com
END:VEVENT
BEGIN:VEVENT
DTSTAMP:20260419T161829Z
DTSTART;VALUE=DATE:20111130
SUMMARY:AIPR 2011 Deadline
DESCRIPTION:Applied Imagery Pattern Recognition
URL:http://www.wikicfp.com/cfp/servlet/event.showcfp?eventid=14094&copyow
 nerid=26303
UID:cfp183923-D@wikicfp.com
END:VEVENT
BEGIN:VEVENT
DTSTAMP:20260419T161829Z
DTSTART;VALUE=DATE:20110801
SUMMARY:AIPR 2011 Notification Due
DESCRIPTION:Applied Imagery Pattern Recognition
URL:http://www.wikicfp.com/cfp/servlet/event.showcfp?eventid=14094&copyow
 nerid=26303
UID:cfp183923-N@wikicfp.com
END:VEVENT
BEGIN:VEVENT
DTSTAMP:20260419T161829Z
DTSTART;VALUE=DATE:20111130
SUMMARY:AIPR 2011 Final Version Due
DESCRIPTION:Applied Imagery Pattern Recognition
URL:http://www.wikicfp.com/cfp/servlet/event.showcfp?eventid=14094&copyow
 nerid=26303
UID:cfp183923-N@wikicfp.com
END:VEVENT
BEGIN:VEVENT
DTSTAMP:20260419T161829Z
DTSTART;VALUE=DATE:20121107
DTEND;VALUE=DATE:20121110
SUMMARY:S+SSPR 2012
DESCRIPTION:Joint IAPR International Workshops on Structural and Syntacti
 c Pattern Recognition (SSPR 2012) and Statistical Techniques in Pattern 
 Recognition (SPR 2012) 
URL:http://www.wikicfp.com/cfp/servlet/event.showcfp?eventid=11434&copyow
 nerid=26303
UID:cfp183920-E@wikicfp.com
END:VEVENT
BEGIN:VEVENT
DTSTAMP:20260419T161829Z
DTSTART;VALUE=DATE:20120713
SUMMARY:S+SSPR 2012 Deadline
DESCRIPTION:Joint IAPR International Workshops on Structural and Syntacti
 c Pattern Recognition (SSPR 2012) and Statistical Techniques in Pattern 
 Recognition (SPR 2012) 
URL:http://www.wikicfp.com/cfp/servlet/event.showcfp?eventid=11434&copyow
 nerid=26303
UID:cfp183920-D@wikicfp.com
END:VEVENT
BEGIN:VEVENT
DTSTAMP:20260419T161829Z
DTSTART;VALUE=DATE:20120815
SUMMARY:S+SSPR 2012 Notification Due
DESCRIPTION:Joint IAPR International Workshops on Structural and Syntacti
 c Pattern Recognition (SSPR 2012) and Statistical Techniques in Pattern 
 Recognition (SPR 2012) 
URL:http://www.wikicfp.com/cfp/servlet/event.showcfp?eventid=11434&copyow
 nerid=26303
UID:cfp183920-N@wikicfp.com
END:VEVENT
BEGIN:VEVENT
DTSTAMP:20260419T161829Z
DTSTART;VALUE=DATE:20120903
SUMMARY:S+SSPR 2012 Final Version Due
DESCRIPTION:Joint IAPR International Workshops on Structural and Syntacti
 c Pattern Recognition (SSPR 2012) and Statistical Techniques in Pattern 
 Recognition (SPR 2012) 
URL:http://www.wikicfp.com/cfp/servlet/event.showcfp?eventid=11434&copyow
 nerid=26303
UID:cfp183920-N@wikicfp.com
END:VEVENT
BEGIN:VEVENT
DTSTAMP:20260419T161829Z
DTSTART;VALUE=DATE:20121216
DTEND;VALUE=DATE:20121220
SUMMARY:ICVGIP 2012
DESCRIPTION:Indian Conference on Computer Vision\, Graphics and Image Pro
 cessing
URL:http://www.wikicfp.com/cfp/servlet/event.showcfp?eventid=22343&copyow
 nerid=26303
UID:cfp270662-E@wikicfp.com
END:VEVENT
BEGIN:VEVENT
DTSTAMP:20260419T161829Z
DTSTART;VALUE=DATE:20120731
SUMMARY:ICVGIP 2012 Abstract Due
DESCRIPTION:Indian Conference on Computer Vision\, Graphics and Image Pro
 cessing
URL:http://www.wikicfp.com/cfp/servlet/event.showcfp?eventid=22343&copyow
 nerid=26303
UID:cfp270662-A@wikicfp.com
END:VEVENT
BEGIN:VEVENT
DTSTAMP:20260419T161829Z
DTSTART;VALUE=DATE:20120807
SUMMARY:ICVGIP 2012 Deadline
DESCRIPTION:Indian Conference on Computer Vision\, Graphics and Image Pro
 cessing
URL:http://www.wikicfp.com/cfp/servlet/event.showcfp?eventid=22343&copyow
 nerid=26303
UID:cfp270662-D@wikicfp.com
END:VEVENT
BEGIN:VEVENT
DTSTAMP:20260419T161829Z
DTSTART;VALUE=DATE:20121120
DTEND;VALUE=DATE:20121123
SUMMARY:SBS 2012
DESCRIPTION:Special Session on Secure Biometric Systems
URL:http://www.wikicfp.com/cfp/servlet/event.showcfp?eventid=23425&copyow
 nerid=26303
UID:cfp270663-E@wikicfp.com
END:VEVENT
BEGIN:VEVENT
DTSTAMP:20260419T161829Z
DTSTART;VALUE=DATE:20120822
SUMMARY:SBS 2012 Deadline
DESCRIPTION:Special Session on Secure Biometric Systems
URL:http://www.wikicfp.com/cfp/servlet/event.showcfp?eventid=23425&copyow
 nerid=26303
UID:cfp270663-D@wikicfp.com
END:VEVENT
BEGIN:VEVENT
DTSTAMP:20260419T161829Z
DTSTART;VALUE=DATE:20120910
SUMMARY:SBS 2012 Notification Due
DESCRIPTION:Special Session on Secure Biometric Systems
URL:http://www.wikicfp.com/cfp/servlet/event.showcfp?eventid=23425&copyow
 nerid=26303
UID:cfp270663-N@wikicfp.com
END:VEVENT
BEGIN:VEVENT
DTSTAMP:20260419T161829Z
DTSTART;VALUE=DATE:20120930
SUMMARY:SBS 2012 Final Version Due
DESCRIPTION:Special Session on Secure Biometric Systems
URL:http://www.wikicfp.com/cfp/servlet/event.showcfp?eventid=23425&copyow
 nerid=26303
UID:cfp270663-N@wikicfp.com
END:VEVENT
BEGIN:VEVENT
DTSTAMP:20260419T161829Z
DTSTART;VALUE=DATE:20140602
DTEND;VALUE=DATE:20140607
SUMMARY:EuSAR 2014
DESCRIPTION:10th European Conference on Synthetic Aperture Radar
URL:http://www.wikicfp.com/cfp/servlet/event.showcfp?eventid=15890&copyow
 nerid=26303
UID:cfp183929-E@wikicfp.com
END:VEVENT
BEGIN:VEVENT
DTSTAMP:20260419T161829Z
DTSTART;VALUE=DATE:20131031
SUMMARY:EuSAR 2014 Deadline
DESCRIPTION:10th European Conference on Synthetic Aperture Radar
URL:http://www.wikicfp.com/cfp/servlet/event.showcfp?eventid=15890&copyow
 nerid=26303
UID:cfp183929-D@wikicfp.com
END:VEVENT
BEGIN:VEVENT
DTSTAMP:20260419T161829Z
DTSTART;VALUE=DATE:20140115
SUMMARY:EuSAR 2014 Notification Due
DESCRIPTION:10th European Conference on Synthetic Aperture Radar
URL:http://www.wikicfp.com/cfp/servlet/event.showcfp?eventid=15890&copyow
 nerid=26303
UID:cfp183929-N@wikicfp.com
END:VEVENT
BEGIN:VEVENT
DTSTAMP:20260419T161829Z
DTSTART;VALUE=DATE:20140401
SUMMARY:EuSAR 2014 Final Version Due
DESCRIPTION:10th European Conference on Synthetic Aperture Radar
URL:http://www.wikicfp.com/cfp/servlet/event.showcfp?eventid=15890&copyow
 nerid=26303
UID:cfp183929-N@wikicfp.com
END:VEVENT
BEGIN:VEVENT
DTSTAMP:20260419T161829Z
DTSTART;VALUE=DATE:20130101
DTEND;VALUE=DATE:20140101
SUMMARY:IJRA 2013
DESCRIPTION:International Journal of Robotics and Automation
URL:http://www.wikicfp.com/cfp/servlet/event.showcfp?eventid=14557&copyow
 nerid=26303
UID:cfp183927-E@wikicfp.com
END:VEVENT
BEGIN:VEVENT
DTSTAMP:20260419T161829Z
DTSTART;VALUE=DATE:20131231
SUMMARY:IJRA 2013 Deadline
DESCRIPTION:International Journal of Robotics and Automation
URL:http://www.wikicfp.com/cfp/servlet/event.showcfp?eventid=14557&copyow
 nerid=26303
UID:cfp183927-D@wikicfp.com
END:VEVENT
END:VCALENDAR
