BEGIN:VCALENDAR
PRODID:-//WikiCFP//zhlei06 1.0//EN
VERSION:2.0
CALSCALE:GREGORIAN
BEGIN:VEVENT
DTSTAMP:20260423T224730Z
DTSTART;VALUE=DATE:20111019
DTEND;VALUE=DATE:20111023
SUMMARY:iThings 2011
DESCRIPTION:The 2011 IEEE International Conference on Internet of Things 
 
URL:http://www.wikicfp.com/cfp/servlet/event.showcfp?eventid=15642&copyow
 nerid=25995
UID:cfp181114-E@wikicfp.com
END:VEVENT
BEGIN:VEVENT
DTSTAMP:20260423T224730Z
DTSTART;VALUE=DATE:20110615
SUMMARY:iThings 2011 Deadline
DESCRIPTION:The 2011 IEEE International Conference on Internet of Things 
 
URL:http://www.wikicfp.com/cfp/servlet/event.showcfp?eventid=15642&copyow
 nerid=25995
UID:cfp181114-D@wikicfp.com
END:VEVENT
BEGIN:VEVENT
DTSTAMP:20260423T224730Z
DTSTART;VALUE=DATE:20111206
DTEND;VALUE=DATE:20111210
SUMMARY:CoNext 2011
DESCRIPTION:ACM International Conference on emerging Networking EXperimen
 ts and Technologies
URL:http://www.wikicfp.com/cfp/servlet/event.showcfp?eventid=14759&copyow
 nerid=25995
UID:cfp181113-E@wikicfp.com
END:VEVENT
BEGIN:VEVENT
DTSTAMP:20260423T224730Z
DTSTART;VALUE=DATE:20110610
SUMMARY:CoNext 2011 Abstract Due
DESCRIPTION:ACM International Conference on emerging Networking EXperimen
 ts and Technologies
URL:http://www.wikicfp.com/cfp/servlet/event.showcfp?eventid=14759&copyow
 nerid=25995
UID:cfp181113-A@wikicfp.com
END:VEVENT
BEGIN:VEVENT
DTSTAMP:20260423T224730Z
DTSTART;VALUE=DATE:20110617
SUMMARY:CoNext 2011 Deadline
DESCRIPTION:ACM International Conference on emerging Networking EXperimen
 ts and Technologies
URL:http://www.wikicfp.com/cfp/servlet/event.showcfp?eventid=14759&copyow
 nerid=25995
UID:cfp181113-D@wikicfp.com
END:VEVENT
BEGIN:VEVENT
DTSTAMP:20260423T224730Z
DTSTART;VALUE=DATE:20110916
SUMMARY:CoNext 2011 Notification Due
DESCRIPTION:ACM International Conference on emerging Networking EXperimen
 ts and Technologies
URL:http://www.wikicfp.com/cfp/servlet/event.showcfp?eventid=14759&copyow
 nerid=25995
UID:cfp181113-N@wikicfp.com
END:VEVENT
BEGIN:VEVENT
DTSTAMP:20260423T224730Z
DTSTART;VALUE=DATE:20111031
SUMMARY:CoNext 2011 Final Version Due
DESCRIPTION:ACM International Conference on emerging Networking EXperimen
 ts and Technologies
URL:http://www.wikicfp.com/cfp/servlet/event.showcfp?eventid=14759&copyow
 nerid=25995
UID:cfp181113-N@wikicfp.com
END:VEVENT
END:VCALENDAR
