BEGIN:VCALENDAR
PRODID:-//WikiCFP//manu 1.0//EN
VERSION:2.0
CALSCALE:GREGORIAN
BEGIN:VEVENT
DTSTAMP:20260420T122231Z
DTSTART;VALUE=DATE:20111212
DTEND;VALUE=DATE:20111215
SUMMARY:ICSPCS 2011
DESCRIPTION:5th International Conference on Signal Processing and Communi
 cation Systems (ICSPCS 2011)
URL:http://www.wikicfp.com/cfp/servlet/event.showcfp?eventid=16106&copyow
 nerid=25784
UID:cfp179437-E@wikicfp.com
END:VEVENT
BEGIN:VEVENT
DTSTAMP:20260420T122231Z
DTSTART;VALUE=DATE:20110630
SUMMARY:ICSPCS 2011 Deadline
DESCRIPTION:5th International Conference on Signal Processing and Communi
 cation Systems (ICSPCS 2011)
URL:http://www.wikicfp.com/cfp/servlet/event.showcfp?eventid=16106&copyow
 nerid=25784
UID:cfp179437-D@wikicfp.com
END:VEVENT
BEGIN:VEVENT
DTSTAMP:20260420T122231Z
DTSTART;VALUE=DATE:20110915
SUMMARY:ICSPCS 2011 Notification Due
DESCRIPTION:5th International Conference on Signal Processing and Communi
 cation Systems (ICSPCS 2011)
URL:http://www.wikicfp.com/cfp/servlet/event.showcfp?eventid=16106&copyow
 nerid=25784
UID:cfp179437-N@wikicfp.com
END:VEVENT
BEGIN:VEVENT
DTSTAMP:20260420T122231Z
DTSTART;VALUE=DATE:20111015
SUMMARY:ICSPCS 2011 Final Version Due
DESCRIPTION:5th International Conference on Signal Processing and Communi
 cation Systems (ICSPCS 2011)
URL:http://www.wikicfp.com/cfp/servlet/event.showcfp?eventid=16106&copyow
 nerid=25784
UID:cfp179437-N@wikicfp.com
END:VEVENT
BEGIN:VEVENT
DTSTAMP:20260420T122231Z
DTSTART;VALUE=DATE:20111012
DTEND;VALUE=DATE:20111015
SUMMARY:UASP 2011
DESCRIPTION:IEEE Underwater Acoustic Signal Processing Workshop
URL:http://www.wikicfp.com/cfp/servlet/event.showcfp?eventid=15378&copyow
 nerid=25784
UID:cfp179433-E@wikicfp.com
END:VEVENT
BEGIN:VEVENT
DTSTAMP:20260420T122231Z
DTSTART;VALUE=DATE:20110711
SUMMARY:UASP 2011 Deadline
DESCRIPTION:IEEE Underwater Acoustic Signal Processing Workshop
URL:http://www.wikicfp.com/cfp/servlet/event.showcfp?eventid=15378&copyow
 nerid=25784
UID:cfp179433-D@wikicfp.com
END:VEVENT
BEGIN:VEVENT
DTSTAMP:20260420T122231Z
DTSTART;VALUE=DATE:20110822
SUMMARY:UASP 2011 Notification Due
DESCRIPTION:IEEE Underwater Acoustic Signal Processing Workshop
URL:http://www.wikicfp.com/cfp/servlet/event.showcfp?eventid=15378&copyow
 nerid=25784
UID:cfp179433-N@wikicfp.com
END:VEVENT
BEGIN:VEVENT
DTSTAMP:20260420T122231Z
DTSTART;VALUE=DATE:20111107
DTEND;VALUE=DATE:20111109
SUMMARY:NOLISP 2011
DESCRIPTION:NOn LInear Speech Processing
URL:http://www.wikicfp.com/cfp/servlet/event.showcfp?eventid=15760&copyow
 nerid=25784
UID:cfp179435-E@wikicfp.com
END:VEVENT
BEGIN:VEVENT
DTSTAMP:20260420T122231Z
DTSTART;VALUE=DATE:20110712
SUMMARY:NOLISP 2011 Deadline
DESCRIPTION:NOn LInear Speech Processing
URL:http://www.wikicfp.com/cfp/servlet/event.showcfp?eventid=15760&copyow
 nerid=25784
UID:cfp179435-D@wikicfp.com
END:VEVENT
BEGIN:VEVENT
DTSTAMP:20260420T122231Z
DTSTART;VALUE=DATE:20110912
SUMMARY:NOLISP 2011 Notification Due
DESCRIPTION:NOn LInear Speech Processing
URL:http://www.wikicfp.com/cfp/servlet/event.showcfp?eventid=15760&copyow
 nerid=25784
UID:cfp179435-N@wikicfp.com
END:VEVENT
BEGIN:VEVENT
DTSTAMP:20260420T122231Z
DTSTART;VALUE=DATE:20110726
SUMMARY:NOLISP 2011 Final Version Due
DESCRIPTION:NOn LInear Speech Processing
URL:http://www.wikicfp.com/cfp/servlet/event.showcfp?eventid=15760&copyow
 nerid=25784
UID:cfp179435-N@wikicfp.com
END:VEVENT
BEGIN:VEVENT
DTSTAMP:20260420T122231Z
DTSTART;VALUE=DATE:20111109
DTEND;VALUE=DATE:20111112
SUMMARY:WCSP 2011
DESCRIPTION:2011 International Conference on Wireless Communications and 
 Signal Processing
URL:http://www.wikicfp.com/cfp/servlet/event.showcfp?eventid=16627&copyow
 nerid=25784
UID:cfp179440-E@wikicfp.com
END:VEVENT
BEGIN:VEVENT
DTSTAMP:20260420T122231Z
DTSTART;VALUE=DATE:20110715
SUMMARY:WCSP 2011 Deadline
DESCRIPTION:2011 International Conference on Wireless Communications and 
 Signal Processing
URL:http://www.wikicfp.com/cfp/servlet/event.showcfp?eventid=16627&copyow
 nerid=25784
UID:cfp179440-D@wikicfp.com
END:VEVENT
BEGIN:VEVENT
DTSTAMP:20260420T122231Z
DTSTART;VALUE=DATE:20110831
SUMMARY:WCSP 2011 Notification Due
DESCRIPTION:2011 International Conference on Wireless Communications and 
 Signal Processing
URL:http://www.wikicfp.com/cfp/servlet/event.showcfp?eventid=16627&copyow
 nerid=25784
UID:cfp179440-N@wikicfp.com
END:VEVENT
BEGIN:VEVENT
DTSTAMP:20260420T122231Z
DTSTART;VALUE=DATE:20110930
SUMMARY:WCSP 2011 Final Version Due
DESCRIPTION:2011 International Conference on Wireless Communications and 
 Signal Processing
URL:http://www.wikicfp.com/cfp/servlet/event.showcfp?eventid=16627&copyow
 nerid=25784
UID:cfp179440-N@wikicfp.com
END:VEVENT
BEGIN:VEVENT
DTSTAMP:20260420T122231Z
DTSTART;VALUE=DATE:20111213
DTEND;VALUE=DATE:20111217
SUMMARY:CAMSAP 2011
DESCRIPTION:International Workshop on Computational Advances in Multi-Sen
 sor Adaptive Processing
URL:http://www.wikicfp.com/cfp/servlet/event.showcfp?eventid=12262&copyow
 nerid=25784
UID:cfp179428-E@wikicfp.com
END:VEVENT
BEGIN:VEVENT
DTSTAMP:20260420T122231Z
DTSTART;VALUE=DATE:20110722
SUMMARY:CAMSAP 2011 Deadline
DESCRIPTION:International Workshop on Computational Advances in Multi-Sen
 sor Adaptive Processing
URL:http://www.wikicfp.com/cfp/servlet/event.showcfp?eventid=12262&copyow
 nerid=25784
UID:cfp179428-D@wikicfp.com
END:VEVENT
BEGIN:VEVENT
DTSTAMP:20260420T122231Z
DTSTART;VALUE=DATE:20110916
SUMMARY:CAMSAP 2011 Notification Due
DESCRIPTION:International Workshop on Computational Advances in Multi-Sen
 sor Adaptive Processing
URL:http://www.wikicfp.com/cfp/servlet/event.showcfp?eventid=12262&copyow
 nerid=25784
UID:cfp179428-N@wikicfp.com
END:VEVENT
BEGIN:VEVENT
DTSTAMP:20260420T122231Z
DTSTART;VALUE=DATE:20111014
SUMMARY:CAMSAP 2011 Final Version Due
DESCRIPTION:International Workshop on Computational Advances in Multi-Sen
 sor Adaptive Processing
URL:http://www.wikicfp.com/cfp/servlet/event.showcfp?eventid=12262&copyow
 nerid=25784
UID:cfp179428-N@wikicfp.com
END:VEVENT
BEGIN:VEVENT
DTSTAMP:20260420T122231Z
DTSTART;VALUE=DATE:20110730
SUMMARY:CFP 2012 Deadline
DESCRIPTION:Call for Paper\, Majlesi Journal of Electrical Engineering\, 
 Special Issue on Multimedia Processing
URL:http://www.wikicfp.com/cfp/servlet/event.showcfp?eventid=16519&copyow
 nerid=25784
UID:cfp179439-D@wikicfp.com
END:VEVENT
BEGIN:VEVENT
DTSTAMP:20260420T122231Z
DTSTART;VALUE=DATE:20110930
SUMMARY:CFP 2012 Notification Due
DESCRIPTION:Call for Paper\, Majlesi Journal of Electrical Engineering\, 
 Special Issue on Multimedia Processing
URL:http://www.wikicfp.com/cfp/servlet/event.showcfp?eventid=16519&copyow
 nerid=25784
UID:cfp179439-N@wikicfp.com
END:VEVENT
BEGIN:VEVENT
DTSTAMP:20260420T122231Z
DTSTART;VALUE=DATE:20111030
SUMMARY:CFP 2012 Final Version Due
DESCRIPTION:Call for Paper\, Majlesi Journal of Electrical Engineering\, 
 Special Issue on Multimedia Processing
URL:http://www.wikicfp.com/cfp/servlet/event.showcfp?eventid=16519&copyow
 nerid=25784
UID:cfp179439-N@wikicfp.com
END:VEVENT
BEGIN:VEVENT
DTSTAMP:20260420T122231Z
DTSTART;VALUE=DATE:20120112
DTEND;VALUE=DATE:20120115
SUMMARY:DSPTech 2012
DESCRIPTION:IEEE Digital Signal Processing Technology Conference
URL:http://www.wikicfp.com/cfp/servlet/event.showcfp?eventid=12556&copyow
 nerid=25784
UID:cfp179429-E@wikicfp.com
END:VEVENT
BEGIN:VEVENT
DTSTAMP:20260420T122231Z
DTSTART;VALUE=DATE:20110731
SUMMARY:DSPTech 2012 Deadline
DESCRIPTION:IEEE Digital Signal Processing Technology Conference
URL:http://www.wikicfp.com/cfp/servlet/event.showcfp?eventid=12556&copyow
 nerid=25784
UID:cfp179429-D@wikicfp.com
END:VEVENT
BEGIN:VEVENT
DTSTAMP:20260420T122231Z
DTSTART;VALUE=DATE:20110911
SUMMARY:DSPTech 2012 Notification Due
DESCRIPTION:IEEE Digital Signal Processing Technology Conference
URL:http://www.wikicfp.com/cfp/servlet/event.showcfp?eventid=12556&copyow
 nerid=25784
UID:cfp179429-N@wikicfp.com
END:VEVENT
BEGIN:VEVENT
DTSTAMP:20260420T122231Z
DTSTART;VALUE=DATE:20111008
SUMMARY:DSPTech 2012 Final Version Due
DESCRIPTION:IEEE Digital Signal Processing Technology Conference
URL:http://www.wikicfp.com/cfp/servlet/event.showcfp?eventid=12556&copyow
 nerid=25784
UID:cfp179429-N@wikicfp.com
END:VEVENT
BEGIN:VEVENT
DTSTAMP:20260420T122231Z
DTSTART;VALUE=DATE:20111026
DTEND;VALUE=DATE:20111030
SUMMARY:ISABEL 2011
DESCRIPTION:4TH INTERNATIONAL SYMPOSIUM ON APPLIED SCIENCES IN BIOMEDICAL
  AND COMMUNICATION TECHNOLOGIES
URL:http://www.wikicfp.com/cfp/servlet/event.showcfp?eventid=14904&copyow
 nerid=25784
UID:cfp179431-E@wikicfp.com
END:VEVENT
BEGIN:VEVENT
DTSTAMP:20260420T122231Z
DTSTART;VALUE=DATE:20110731
SUMMARY:ISABEL 2011 Deadline
DESCRIPTION:4TH INTERNATIONAL SYMPOSIUM ON APPLIED SCIENCES IN BIOMEDICAL
  AND COMMUNICATION TECHNOLOGIES
URL:http://www.wikicfp.com/cfp/servlet/event.showcfp?eventid=14904&copyow
 nerid=25784
UID:cfp179431-D@wikicfp.com
END:VEVENT
BEGIN:VEVENT
DTSTAMP:20260420T122231Z
DTSTART;VALUE=DATE:20110915
SUMMARY:ISABEL 2011 Notification Due
DESCRIPTION:4TH INTERNATIONAL SYMPOSIUM ON APPLIED SCIENCES IN BIOMEDICAL
  AND COMMUNICATION TECHNOLOGIES
URL:http://www.wikicfp.com/cfp/servlet/event.showcfp?eventid=14904&copyow
 nerid=25784
UID:cfp179431-N@wikicfp.com
END:VEVENT
BEGIN:VEVENT
DTSTAMP:20260420T122231Z
DTSTART;VALUE=DATE:20110930
SUMMARY:ISABEL 2011 Final Version Due
DESCRIPTION:4TH INTERNATIONAL SYMPOSIUM ON APPLIED SCIENCES IN BIOMEDICAL
  AND COMMUNICATION TECHNOLOGIES
URL:http://www.wikicfp.com/cfp/servlet/event.showcfp?eventid=14904&copyow
 nerid=25784
UID:cfp179431-N@wikicfp.com
END:VEVENT
BEGIN:VEVENT
DTSTAMP:20260420T122231Z
DTSTART;VALUE=DATE:20111214
DTEND;VALUE=DATE:20111218
SUMMARY:ISSPIT 2011
DESCRIPTION:IEEE International Symposium on Signal Processing and Informa
 tion Technology
URL:http://www.wikicfp.com/cfp/servlet/event.showcfp?eventid=15354&copyow
 nerid=25784
UID:cfp179432-E@wikicfp.com
END:VEVENT
BEGIN:VEVENT
DTSTAMP:20260420T122231Z
DTSTART;VALUE=DATE:20110731
SUMMARY:ISSPIT 2011 Deadline
DESCRIPTION:IEEE International Symposium on Signal Processing and Informa
 tion Technology
URL:http://www.wikicfp.com/cfp/servlet/event.showcfp?eventid=15354&copyow
 nerid=25784
UID:cfp179432-D@wikicfp.com
END:VEVENT
BEGIN:VEVENT
DTSTAMP:20260420T122231Z
DTSTART;VALUE=DATE:20111001
SUMMARY:ISSPIT 2011 Notification Due
DESCRIPTION:IEEE International Symposium on Signal Processing and Informa
 tion Technology
URL:http://www.wikicfp.com/cfp/servlet/event.showcfp?eventid=15354&copyow
 nerid=25784
UID:cfp179432-N@wikicfp.com
END:VEVENT
BEGIN:VEVENT
DTSTAMP:20260420T122231Z
DTSTART;VALUE=DATE:20111015
SUMMARY:ISSPIT 2011 Final Version Due
DESCRIPTION:IEEE International Symposium on Signal Processing and Informa
 tion Technology
URL:http://www.wikicfp.com/cfp/servlet/event.showcfp?eventid=15354&copyow
 nerid=25784
UID:cfp179432-N@wikicfp.com
END:VEVENT
BEGIN:VEVENT
DTSTAMP:20260420T122231Z
DTSTART;VALUE=DATE:20120130
DTEND;VALUE=DATE:20120203
SUMMARY:SICPRO 2012
DESCRIPTION:System Identification and Control Problems\, IX International
  Conference
URL:http://www.wikicfp.com/cfp/servlet/event.showcfp?eventid=10043&copyow
 nerid=25784
UID:cfp179427-E@wikicfp.com
END:VEVENT
BEGIN:VEVENT
DTSTAMP:20260420T122231Z
DTSTART;VALUE=DATE:20110801
SUMMARY:SICPRO 2012 Deadline
DESCRIPTION:System Identification and Control Problems\, IX International
  Conference
URL:http://www.wikicfp.com/cfp/servlet/event.showcfp?eventid=10043&copyow
 nerid=25784
UID:cfp179427-D@wikicfp.com
END:VEVENT
BEGIN:VEVENT
DTSTAMP:20260420T122231Z
DTSTART;VALUE=DATE:20111101
SUMMARY:SICPRO 2012 Notification Due
DESCRIPTION:System Identification and Control Problems\, IX International
  Conference
URL:http://www.wikicfp.com/cfp/servlet/event.showcfp?eventid=10043&copyow
 nerid=25784
UID:cfp179427-N@wikicfp.com
END:VEVENT
BEGIN:VEVENT
DTSTAMP:20260420T122231Z
DTSTART;VALUE=DATE:20110801
SUMMARY:SICPRO 2012 Final Version Due
DESCRIPTION:System Identification and Control Problems\, IX International
  Conference
URL:http://www.wikicfp.com/cfp/servlet/event.showcfp?eventid=10043&copyow
 nerid=25784
UID:cfp179427-N@wikicfp.com
END:VEVENT
BEGIN:VEVENT
DTSTAMP:20260420T122231Z
DTSTART;VALUE=DATE:20111204
DTEND;VALUE=DATE:20111207
SUMMARY:GENSIPS 2011
DESCRIPTION:IEEE International Workshop on Genomic Signal Processing and 
 Statistics
URL:http://www.wikicfp.com/cfp/servlet/event.showcfp?eventid=15822&copyow
 nerid=25784
UID:cfp179436-E@wikicfp.com
END:VEVENT
BEGIN:VEVENT
DTSTAMP:20260420T122231Z
DTSTART;VALUE=DATE:20110801
SUMMARY:GENSIPS 2011 Deadline
DESCRIPTION:IEEE International Workshop on Genomic Signal Processing and 
 Statistics
URL:http://www.wikicfp.com/cfp/servlet/event.showcfp?eventid=15822&copyow
 nerid=25784
UID:cfp179436-D@wikicfp.com
END:VEVENT
BEGIN:VEVENT
DTSTAMP:20260420T122231Z
DTSTART;VALUE=DATE:20120112
DTEND;VALUE=DATE:20120115
SUMMARY:IEEE ESPA 2012
DESCRIPTION:1st IEEE International Conference on Emerging Signal Processi
 ng Applications
URL:http://www.wikicfp.com/cfp/servlet/event.showcfp?eventid=16286&copyow
 nerid=25784
UID:cfp179438-E@wikicfp.com
END:VEVENT
BEGIN:VEVENT
DTSTAMP:20260420T122231Z
DTSTART;VALUE=DATE:20110815
SUMMARY:IEEE ESPA 2012 Deadline
DESCRIPTION:1st IEEE International Conference on Emerging Signal Processi
 ng Applications
URL:http://www.wikicfp.com/cfp/servlet/event.showcfp?eventid=16286&copyow
 nerid=25784
UID:cfp179438-D@wikicfp.com
END:VEVENT
BEGIN:VEVENT
DTSTAMP:20260420T122231Z
DTSTART;VALUE=DATE:20111010
SUMMARY:IEEE ESPA 2012 Notification Due
DESCRIPTION:1st IEEE International Conference on Emerging Signal Processi
 ng Applications
URL:http://www.wikicfp.com/cfp/servlet/event.showcfp?eventid=16286&copyow
 nerid=25784
UID:cfp179438-N@wikicfp.com
END:VEVENT
BEGIN:VEVENT
DTSTAMP:20260420T122231Z
DTSTART;VALUE=DATE:20111111
SUMMARY:IEEE ESPA 2012 Final Version Due
DESCRIPTION:1st IEEE International Conference on Emerging Signal Processi
 ng Applications
URL:http://www.wikicfp.com/cfp/servlet/event.showcfp?eventid=16286&copyow
 nerid=25784
UID:cfp179438-N@wikicfp.com
END:VEVENT
BEGIN:VEVENT
DTSTAMP:20260420T122231Z
DTSTART;VALUE=DATE:20110215
DTEND;VALUE=DATE:20110808
SUMMARY:JSAC 2012
DESCRIPTION:IEEE Journal on Selected Areas in Communications (JSAC): Spec
 ial Issue on QoE-Aware Wireless Multimedia Systems
URL:http://www.wikicfp.com/cfp/servlet/event.showcfp?eventid=16682&copyow
 nerid=25784
UID:cfp179441-E@wikicfp.com
END:VEVENT
BEGIN:VEVENT
DTSTAMP:20260420T122231Z
DTSTART;VALUE=DATE:20110821
SUMMARY:JSAC 2012 Deadline
DESCRIPTION:IEEE Journal on Selected Areas in Communications (JSAC): Spec
 ial Issue on QoE-Aware Wireless Multimedia Systems
URL:http://www.wikicfp.com/cfp/servlet/event.showcfp?eventid=16682&copyow
 nerid=25784
UID:cfp179441-D@wikicfp.com
END:VEVENT
BEGIN:VEVENT
DTSTAMP:20260420T122231Z
DTSTART;VALUE=DATE:20120310
SUMMARY:JSAC 2012 Notification Due
DESCRIPTION:IEEE Journal on Selected Areas in Communications (JSAC): Spec
 ial Issue on QoE-Aware Wireless Multimedia Systems
URL:http://www.wikicfp.com/cfp/servlet/event.showcfp?eventid=16682&copyow
 nerid=25784
UID:cfp179441-N@wikicfp.com
END:VEVENT
BEGIN:VEVENT
DTSTAMP:20260420T122231Z
DTSTART;VALUE=DATE:20120815
SUMMARY:JSAC 2012 Final Version Due
DESCRIPTION:IEEE Journal on Selected Areas in Communications (JSAC): Spec
 ial Issue on QoE-Aware Wireless Multimedia Systems
URL:http://www.wikicfp.com/cfp/servlet/event.showcfp?eventid=16682&copyow
 nerid=25784
UID:cfp179441-N@wikicfp.com
END:VEVENT
BEGIN:VEVENT
DTSTAMP:20260420T122231Z
DTSTART;VALUE=DATE:20120411
DTEND;VALUE=DATE:20120414
SUMMARY:IWSSIP 2012
DESCRIPTION:International Conference on Systems\, Signals and Image Proce
 ssing
URL:http://www.wikicfp.com/cfp/servlet/event.showcfp?eventid=13682&copyow
 nerid=25784
UID:cfp179430-E@wikicfp.com
END:VEVENT
BEGIN:VEVENT
DTSTAMP:20260420T122231Z
DTSTART;VALUE=DATE:20110915
SUMMARY:IWSSIP 2012 Deadline
DESCRIPTION:International Conference on Systems\, Signals and Image Proce
 ssing
URL:http://www.wikicfp.com/cfp/servlet/event.showcfp?eventid=13682&copyow
 nerid=25784
UID:cfp179430-D@wikicfp.com
END:VEVENT
BEGIN:VEVENT
DTSTAMP:20260420T122231Z
DTSTART;VALUE=DATE:20111215
SUMMARY:IWSSIP 2012 Notification Due
DESCRIPTION:International Conference on Systems\, Signals and Image Proce
 ssing
URL:http://www.wikicfp.com/cfp/servlet/event.showcfp?eventid=13682&copyow
 nerid=25784
UID:cfp179430-N@wikicfp.com
END:VEVENT
BEGIN:VEVENT
DTSTAMP:20260420T122231Z
DTSTART;VALUE=DATE:20120131
SUMMARY:IWSSIP 2012 Final Version Due
DESCRIPTION:International Conference on Systems\, Signals and Image Proce
 ssing
URL:http://www.wikicfp.com/cfp/servlet/event.showcfp?eventid=13682&copyow
 nerid=25784
UID:cfp179430-N@wikicfp.com
END:VEVENT
BEGIN:VEVENT
DTSTAMP:20260420T122231Z
DTSTART;VALUE=DATE:20111214
DTEND;VALUE=DATE:20111217
SUMMARY:SIP 2011
DESCRIPTION:The 13th International Conference on Signal and Image Process
 ing
URL:http://www.wikicfp.com/cfp/servlet/event.showcfp?eventid=15563&copyow
 nerid=25784
UID:cfp179434-E@wikicfp.com
END:VEVENT
BEGIN:VEVENT
DTSTAMP:20260420T122231Z
DTSTART;VALUE=DATE:20110922
SUMMARY:SIP 2011 Deadline
DESCRIPTION:The 13th International Conference on Signal and Image Process
 ing
URL:http://www.wikicfp.com/cfp/servlet/event.showcfp?eventid=15563&copyow
 nerid=25784
UID:cfp179434-D@wikicfp.com
END:VEVENT
BEGIN:VEVENT
DTSTAMP:20260420T122231Z
DTSTART;VALUE=DATE:20111012
SUMMARY:SIP 2011 Notification Due
DESCRIPTION:The 13th International Conference on Signal and Image Process
 ing
URL:http://www.wikicfp.com/cfp/servlet/event.showcfp?eventid=15563&copyow
 nerid=25784
UID:cfp179434-N@wikicfp.com
END:VEVENT
BEGIN:VEVENT
DTSTAMP:20260420T122231Z
DTSTART;VALUE=DATE:20111028
SUMMARY:SIP 2011 Final Version Due
DESCRIPTION:The 13th International Conference on Signal and Image Process
 ing
URL:http://www.wikicfp.com/cfp/servlet/event.showcfp?eventid=15563&copyow
 nerid=25784
UID:cfp179434-N@wikicfp.com
END:VEVENT
BEGIN:VEVENT
DTSTAMP:20260420T122231Z
DTSTART;VALUE=DATE:20150715
SUMMARY:ATN 2015 Deadline
DESCRIPTION:Acta Technica Napocensis- Electronics and Telecommunications 
 3/2015
URL:http://www.wikicfp.com/cfp/servlet/event.showcfp?eventid=9454&copyown
 erid=25784
UID:cfp179426-D@wikicfp.com
END:VEVENT
BEGIN:VEVENT
DTSTAMP:20260420T122231Z
DTSTART;VALUE=DATE:20150908
SUMMARY:ATN 2015 Notification Due
DESCRIPTION:Acta Technica Napocensis- Electronics and Telecommunications 
 3/2015
URL:http://www.wikicfp.com/cfp/servlet/event.showcfp?eventid=9454&copyown
 erid=25784
UID:cfp179426-N@wikicfp.com
END:VEVENT
BEGIN:VEVENT
DTSTAMP:20260420T122231Z
DTSTART;VALUE=DATE:20150921
SUMMARY:ATN 2015 Final Version Due
DESCRIPTION:Acta Technica Napocensis- Electronics and Telecommunications 
 3/2015
URL:http://www.wikicfp.com/cfp/servlet/event.showcfp?eventid=9454&copyown
 erid=25784
UID:cfp179426-N@wikicfp.com
END:VEVENT
END:VCALENDAR
