BEGIN:VCALENDAR
PRODID:-//WikiCFP//shiella_nancy 1.0//EN
VERSION:2.0
CALSCALE:GREGORIAN
BEGIN:VEVENT
DTSTAMP:20260420T140446Z
DTSTART;VALUE=DATE:20110730
DTEND;VALUE=DATE:20110801
SUMMARY:IIOSCCS 2011
DESCRIPTION:First International Online Student Conference on Computer Sci
 ence
URL:http://www.wikicfp.com/cfp/servlet/event.showcfp?eventid=16915&copyow
 nerid=25472
UID:cfp181995-E@wikicfp.com
END:VEVENT
BEGIN:VEVENT
DTSTAMP:20260420T140446Z
DTSTART;VALUE=DATE:20110715
SUMMARY:IIOSCCS 2011 Deadline
DESCRIPTION:First International Online Student Conference on Computer Sci
 ence
URL:http://www.wikicfp.com/cfp/servlet/event.showcfp?eventid=16915&copyow
 nerid=25472
UID:cfp181995-D@wikicfp.com
END:VEVENT
BEGIN:VEVENT
DTSTAMP:20260420T140446Z
DTSTART;VALUE=DATE:20110722
SUMMARY:IIOSCCS 2011 Final Version Due
DESCRIPTION:First International Online Student Conference on Computer Sci
 ence
URL:http://www.wikicfp.com/cfp/servlet/event.showcfp?eventid=16915&copyow
 nerid=25472
UID:cfp181995-N@wikicfp.com
END:VEVENT
BEGIN:VEVENT
DTSTAMP:20260420T140446Z
DTSTART;VALUE=DATE:20110923
DTEND;VALUE=DATE:20110926
SUMMARY:IIOCC 2011
DESCRIPTION:First International Online Conference on Computing 2011 
URL:http://www.wikicfp.com/cfp/servlet/event.showcfp?eventid=16629&copyow
 nerid=25472
UID:cfp177281-E@wikicfp.com
END:VEVENT
BEGIN:VEVENT
DTSTAMP:20260420T140446Z
DTSTART;VALUE=DATE:20110730
SUMMARY:IIOCC 2011 Deadline
DESCRIPTION:First International Online Conference on Computing 2011 
URL:http://www.wikicfp.com/cfp/servlet/event.showcfp?eventid=16629&copyow
 nerid=25472
UID:cfp177281-D@wikicfp.com
END:VEVENT
BEGIN:VEVENT
DTSTAMP:20260420T140446Z
DTSTART;VALUE=DATE:20110815
SUMMARY:IIOCC 2011 Notification Due
DESCRIPTION:First International Online Conference on Computing 2011 
URL:http://www.wikicfp.com/cfp/servlet/event.showcfp?eventid=16629&copyow
 nerid=25472
UID:cfp177281-N@wikicfp.com
END:VEVENT
BEGIN:VEVENT
DTSTAMP:20260420T140446Z
DTSTART;VALUE=DATE:20110901
SUMMARY:IIOCC 2011 Final Version Due
DESCRIPTION:First International Online Conference on Computing 2011 
URL:http://www.wikicfp.com/cfp/servlet/event.showcfp?eventid=16629&copyow
 nerid=25472
UID:cfp177281-N@wikicfp.com
END:VEVENT
END:VCALENDAR
