BEGIN:VCALENDAR
PRODID:-//WikiCFP//Marcincin 1.0//EN
VERSION:2.0
CALSCALE:GREGORIAN
BEGIN:VEVENT
DTSTAMP:20260425T011910Z
DTSTART;VALUE=DATE:20110318
DTEND;VALUE=DATE:20110319
SUMMARY:VARE 2011
DESCRIPTION:The Annual International Conference on âVirtual and Augment
 ed Reality in Educationâ
URL:http://www.wikicfp.com/cfp/servlet/event.showcfp?eventid=10841&copyow
 nerid=25400
UID:cfp176891-E@wikicfp.com
END:VEVENT
BEGIN:VEVENT
DTSTAMP:20260425T011910Z
DTSTART;VALUE=DATE:20101217
SUMMARY:VARE 2011 Abstract Due
DESCRIPTION:The Annual International Conference on âVirtual and Augment
 ed Reality in Educationâ
URL:http://www.wikicfp.com/cfp/servlet/event.showcfp?eventid=10841&copyow
 nerid=25400
UID:cfp176891-A@wikicfp.com
END:VEVENT
BEGIN:VEVENT
DTSTAMP:20260425T011910Z
DTSTART;VALUE=DATE:20110120
SUMMARY:VARE 2011 Deadline
DESCRIPTION:The Annual International Conference on âVirtual and Augment
 ed Reality in Educationâ
URL:http://www.wikicfp.com/cfp/servlet/event.showcfp?eventid=10841&copyow
 nerid=25400
UID:cfp176891-D@wikicfp.com
END:VEVENT
BEGIN:VEVENT
DTSTAMP:20260425T011910Z
DTSTART;VALUE=DATE:20110224
SUMMARY:VARE 2011 Notification Due
DESCRIPTION:The Annual International Conference on âVirtual and Augment
 ed Reality in Educationâ
URL:http://www.wikicfp.com/cfp/servlet/event.showcfp?eventid=10841&copyow
 nerid=25400
UID:cfp176891-N@wikicfp.com
END:VEVENT
BEGIN:VEVENT
DTSTAMP:20260425T011910Z
DTSTART;VALUE=DATE:20110301
SUMMARY:VARE 2011 Final Version Due
DESCRIPTION:The Annual International Conference on âVirtual and Augment
 ed Reality in Educationâ
URL:http://www.wikicfp.com/cfp/servlet/event.showcfp?eventid=10841&copyow
 nerid=25400
UID:cfp176891-N@wikicfp.com
END:VEVENT
BEGIN:VEVENT
DTSTAMP:20260425T011910Z
DTSTART;VALUE=DATE:20110627
DTEND;VALUE=DATE:20110630
SUMMARY:ASME WINVR 2011
DESCRIPTION:ASME 2011 World Conference on Innovative Virtual Reality
URL:http://www.wikicfp.com/cfp/servlet/event.showcfp?eventid=12688&copyow
 nerid=25400
UID:cfp176888-E@wikicfp.com
END:VEVENT
BEGIN:VEVENT
DTSTAMP:20260425T011910Z
DTSTART;VALUE=DATE:20110214
SUMMARY:ASME WINVR 2011 Deadline
DESCRIPTION:ASME 2011 World Conference on Innovative Virtual Reality
URL:http://www.wikicfp.com/cfp/servlet/event.showcfp?eventid=12688&copyow
 nerid=25400
UID:cfp176888-D@wikicfp.com
END:VEVENT
BEGIN:VEVENT
DTSTAMP:20260425T011910Z
DTSTART;VALUE=DATE:20110307
SUMMARY:ASME WINVR 2011 Notification Due
DESCRIPTION:ASME 2011 World Conference on Innovative Virtual Reality
URL:http://www.wikicfp.com/cfp/servlet/event.showcfp?eventid=12688&copyow
 nerid=25400
UID:cfp176888-N@wikicfp.com
END:VEVENT
BEGIN:VEVENT
DTSTAMP:20260425T011910Z
DTSTART;VALUE=DATE:20110328
SUMMARY:ASME WINVR 2011 Final Version Due
DESCRIPTION:ASME 2011 World Conference on Innovative Virtual Reality
URL:http://www.wikicfp.com/cfp/servlet/event.showcfp?eventid=12688&copyow
 nerid=25400
UID:cfp176888-N@wikicfp.com
END:VEVENT
BEGIN:VEVENT
DTSTAMP:20260425T011910Z
DTSTART;VALUE=DATE:20110718
DTEND;VALUE=DATE:20110722
SUMMARY:CGVR 2011
DESCRIPTION:The 2011 International Conference on Computer Graphics and Vi
 rtual Reality
URL:http://www.wikicfp.com/cfp/servlet/event.showcfp?eventid=13366&copyow
 nerid=25400
UID:cfp176889-E@wikicfp.com
END:VEVENT
BEGIN:VEVENT
DTSTAMP:20260425T011910Z
DTSTART;VALUE=DATE:20110310
SUMMARY:CGVR 2011 Deadline
DESCRIPTION:The 2011 International Conference on Computer Graphics and Vi
 rtual Reality
URL:http://www.wikicfp.com/cfp/servlet/event.showcfp?eventid=13366&copyow
 nerid=25400
UID:cfp176889-D@wikicfp.com
END:VEVENT
BEGIN:VEVENT
DTSTAMP:20260425T011910Z
DTSTART;VALUE=DATE:20110711
DTEND;VALUE=DATE:20110714
SUMMARY:GRVR 2011
DESCRIPTION:IASTED International Conference on Graphics and Virtual Reali
 ty
URL:http://www.wikicfp.com/cfp/servlet/event.showcfp?eventid=12517&copyow
 nerid=25400
UID:cfp176893-E@wikicfp.com
END:VEVENT
BEGIN:VEVENT
DTSTAMP:20260425T011910Z
DTSTART;VALUE=DATE:20110401
SUMMARY:GRVR 2011 Deadline
DESCRIPTION:IASTED International Conference on Graphics and Virtual Reali
 ty
URL:http://www.wikicfp.com/cfp/servlet/event.showcfp?eventid=12517&copyow
 nerid=25400
UID:cfp176893-D@wikicfp.com
END:VEVENT
BEGIN:VEVENT
DTSTAMP:20260425T011910Z
DTSTART;VALUE=DATE:20110429
SUMMARY:GRVR 2011 Notification Due
DESCRIPTION:IASTED International Conference on Graphics and Virtual Reali
 ty
URL:http://www.wikicfp.com/cfp/servlet/event.showcfp?eventid=12517&copyow
 nerid=25400
UID:cfp176893-N@wikicfp.com
END:VEVENT
BEGIN:VEVENT
DTSTAMP:20260425T011910Z
DTSTART;VALUE=DATE:20110518
SUMMARY:GRVR 2011 Final Version Due
DESCRIPTION:IASTED International Conference on Graphics and Virtual Reali
 ty
URL:http://www.wikicfp.com/cfp/servlet/event.showcfp?eventid=12517&copyow
 nerid=25400
UID:cfp176893-N@wikicfp.com
END:VEVENT
BEGIN:VEVENT
DTSTAMP:20260425T011910Z
DTSTART;VALUE=DATE:20110920
DTEND;VALUE=DATE:20110922
SUMMARY:JVRC 2011
DESCRIPTION:Joint Virtual Reality Conference of euroVR and EGVE 2011
URL:http://www.wikicfp.com/cfp/servlet/event.showcfp?eventid=14909&copyow
 nerid=25400
UID:cfp176886-E@wikicfp.com
END:VEVENT
BEGIN:VEVENT
DTSTAMP:20260425T011910Z
DTSTART;VALUE=DATE:20110411
SUMMARY:JVRC 2011 Abstract Due
DESCRIPTION:Joint Virtual Reality Conference of euroVR and EGVE 2011
URL:http://www.wikicfp.com/cfp/servlet/event.showcfp?eventid=14909&copyow
 nerid=25400
UID:cfp176886-A@wikicfp.com
END:VEVENT
BEGIN:VEVENT
DTSTAMP:20260425T011910Z
DTSTART;VALUE=DATE:20110418
SUMMARY:JVRC 2011 Deadline
DESCRIPTION:Joint Virtual Reality Conference of euroVR and EGVE 2011
URL:http://www.wikicfp.com/cfp/servlet/event.showcfp?eventid=14909&copyow
 nerid=25400
UID:cfp176886-D@wikicfp.com
END:VEVENT
BEGIN:VEVENT
DTSTAMP:20260425T011910Z
DTSTART;VALUE=DATE:20110530
SUMMARY:JVRC 2011 Notification Due
DESCRIPTION:Joint Virtual Reality Conference of euroVR and EGVE 2011
URL:http://www.wikicfp.com/cfp/servlet/event.showcfp?eventid=14909&copyow
 nerid=25400
UID:cfp176886-N@wikicfp.com
END:VEVENT
BEGIN:VEVENT
DTSTAMP:20260425T011910Z
DTSTART;VALUE=DATE:20110725
SUMMARY:JVRC 2011 Final Version Due
DESCRIPTION:Joint Virtual Reality Conference of euroVR and EGVE 2011
URL:http://www.wikicfp.com/cfp/servlet/event.showcfp?eventid=14909&copyow
 nerid=25400
UID:cfp176886-N@wikicfp.com
END:VEVENT
BEGIN:VEVENT
DTSTAMP:20260425T011910Z
DTSTART;VALUE=DATE:20111212
DTEND;VALUE=DATE:20111216
SUMMARY:SIGGRAPH ASIA 2011
DESCRIPTION:SIGGRAPH ASIA
URL:http://www.wikicfp.com/cfp/servlet/event.showcfp?eventid=14042&copyow
 nerid=25400
UID:cfp176894-E@wikicfp.com
END:VEVENT
BEGIN:VEVENT
DTSTAMP:20260425T011910Z
DTSTART;VALUE=DATE:20110517
SUMMARY:SIGGRAPH ASIA 2011 Deadline
DESCRIPTION:SIGGRAPH ASIA
URL:http://www.wikicfp.com/cfp/servlet/event.showcfp?eventid=14042&copyow
 nerid=25400
UID:cfp176894-D@wikicfp.com
END:VEVENT
BEGIN:VEVENT
DTSTAMP:20260425T011910Z
DTSTART;VALUE=DATE:20111211
DTEND;VALUE=DATE:20111213
SUMMARY:VRCAI 2011
DESCRIPTION:The 10th International Conference on Virtual Reality Continuu
 m and Its Applications in Industry
URL:http://www.wikicfp.com/cfp/servlet/event.showcfp?eventid=16344&copyow
 nerid=25400
UID:cfp176896-E@wikicfp.com
END:VEVENT
BEGIN:VEVENT
DTSTAMP:20260425T011910Z
DTSTART;VALUE=DATE:20110715
SUMMARY:VRCAI 2011 Deadline
DESCRIPTION:The 10th International Conference on Virtual Reality Continuu
 m and Its Applications in Industry
URL:http://www.wikicfp.com/cfp/servlet/event.showcfp?eventid=16344&copyow
 nerid=25400
UID:cfp176896-D@wikicfp.com
END:VEVENT
BEGIN:VEVENT
DTSTAMP:20260425T011910Z
DTSTART;VALUE=DATE:20110915
SUMMARY:VRCAI 2011 Notification Due
DESCRIPTION:The 10th International Conference on Virtual Reality Continuu
 m and Its Applications in Industry
URL:http://www.wikicfp.com/cfp/servlet/event.showcfp?eventid=16344&copyow
 nerid=25400
UID:cfp176896-N@wikicfp.com
END:VEVENT
BEGIN:VEVENT
DTSTAMP:20260425T011910Z
DTSTART;VALUE=DATE:20110930
SUMMARY:VRCAI 2011 Final Version Due
DESCRIPTION:The 10th International Conference on Virtual Reality Continuu
 m and Its Applications in Industry
URL:http://www.wikicfp.com/cfp/servlet/event.showcfp?eventid=16344&copyow
 nerid=25400
UID:cfp176896-N@wikicfp.com
END:VEVENT
BEGIN:VEVENT
DTSTAMP:20260425T011910Z
DTSTART;VALUE=DATE:20120122
DTEND;VALUE=DATE:20120127
SUMMARY:ERVR  2012
DESCRIPTION:IST & SPIE The Engineering Reality of Virtual Reality
URL:http://www.wikicfp.com/cfp/servlet/event.showcfp?eventid=15487&copyow
 nerid=25400
UID:cfp176887-E@wikicfp.com
END:VEVENT
BEGIN:VEVENT
DTSTAMP:20260425T011910Z
DTSTART;VALUE=DATE:20110729
SUMMARY:ERVR  2012 Deadline
DESCRIPTION:IST & SPIE The Engineering Reality of Virtual Reality
URL:http://www.wikicfp.com/cfp/servlet/event.showcfp?eventid=15487&copyow
 nerid=25400
UID:cfp176887-D@wikicfp.com
END:VEVENT
BEGIN:VEVENT
DTSTAMP:20260425T011910Z
DTSTART;VALUE=DATE:20110831
SUMMARY:ERVR  2012 Notification Due
DESCRIPTION:IST & SPIE The Engineering Reality of Virtual Reality
URL:http://www.wikicfp.com/cfp/servlet/event.showcfp?eventid=15487&copyow
 nerid=25400
UID:cfp176887-N@wikicfp.com
END:VEVENT
BEGIN:VEVENT
DTSTAMP:20260425T011910Z
DTSTART;VALUE=DATE:20121115
SUMMARY:ERVR  2012 Final Version Due
DESCRIPTION:IST & SPIE The Engineering Reality of Virtual Reality
URL:http://www.wikicfp.com/cfp/servlet/event.showcfp?eventid=15487&copyow
 nerid=25400
UID:cfp176887-N@wikicfp.com
END:VEVENT
BEGIN:VEVENT
DTSTAMP:20260425T011910Z
DTSTART;VALUE=DATE:20110930
SUMMARY:HFARE 2011 Deadline
DESCRIPTION:Human Factors in Augmented Reality Environments
URL:http://www.wikicfp.com/cfp/servlet/event.showcfp?eventid=16447&copyow
 nerid=25400
UID:cfp176879-D@wikicfp.com
END:VEVENT
END:VCALENDAR
