BEGIN:VCALENDAR
PRODID:-//WikiCFP//throbert 1.0//EN
VERSION:2.0
CALSCALE:GREGORIAN
BEGIN:VEVENT
DTSTAMP:20260419T224549Z
DTSTART;VALUE=DATE:20110919
DTEND;VALUE=DATE:20110922
SUMMARY:SAFECOMP 2011
DESCRIPTION:The 30th International Conference on Computer Safety\, Reliab
 ility and Security
URL:http://www.wikicfp.com/cfp/servlet/event.showcfp?eventid=11885&copyow
 nerid=25310
UID:cfp176388-E@wikicfp.com
END:VEVENT
BEGIN:VEVENT
DTSTAMP:20260419T224549Z
DTSTART;VALUE=DATE:20110321
SUMMARY:SAFECOMP 2011 Deadline
DESCRIPTION:The 30th International Conference on Computer Safety\, Reliab
 ility and Security
URL:http://www.wikicfp.com/cfp/servlet/event.showcfp?eventid=11885&copyow
 nerid=25310
UID:cfp176388-D@wikicfp.com
END:VEVENT
BEGIN:VEVENT
DTSTAMP:20260419T224549Z
DTSTART;VALUE=DATE:20110509
SUMMARY:SAFECOMP 2011 Notification Due
DESCRIPTION:The 30th International Conference on Computer Safety\, Reliab
 ility and Security
URL:http://www.wikicfp.com/cfp/servlet/event.showcfp?eventid=11885&copyow
 nerid=25310
UID:cfp176388-N@wikicfp.com
END:VEVENT
BEGIN:VEVENT
DTSTAMP:20260419T224549Z
DTSTART;VALUE=DATE:20110613
SUMMARY:SAFECOMP 2011 Final Version Due
DESCRIPTION:The 30th International Conference on Computer Safety\, Reliab
 ility and Security
URL:http://www.wikicfp.com/cfp/servlet/event.showcfp?eventid=11885&copyow
 nerid=25310
UID:cfp176388-N@wikicfp.com
END:VEVENT
BEGIN:VEVENT
DTSTAMP:20260419T224549Z
DTSTART;VALUE=DATE:20111212
DTEND;VALUE=DATE:20111215
SUMMARY:PRDC 2011
DESCRIPTION:The 17th IEEE Pacific Rim International Symposium on Dependab
 le Computing
URL:http://www.wikicfp.com/cfp/servlet/event.showcfp?eventid=13771&copyow
 nerid=25310
UID:cfp176389-E@wikicfp.com
END:VEVENT
BEGIN:VEVENT
DTSTAMP:20260419T224549Z
DTSTART;VALUE=DATE:20110531
SUMMARY:PRDC 2011 Deadline
DESCRIPTION:The 17th IEEE Pacific Rim International Symposium on Dependab
 le Computing
URL:http://www.wikicfp.com/cfp/servlet/event.showcfp?eventid=13771&copyow
 nerid=25310
UID:cfp176389-D@wikicfp.com
END:VEVENT
BEGIN:VEVENT
DTSTAMP:20260419T224549Z
DTSTART;VALUE=DATE:20110721
SUMMARY:PRDC 2011 Notification Due
DESCRIPTION:The 17th IEEE Pacific Rim International Symposium on Dependab
 le Computing
URL:http://www.wikicfp.com/cfp/servlet/event.showcfp?eventid=13771&copyow
 nerid=25310
UID:cfp176389-N@wikicfp.com
END:VEVENT
BEGIN:VEVENT
DTSTAMP:20260419T224549Z
DTSTART;VALUE=DATE:20110926
DTEND;VALUE=DATE:20110929
SUMMARY:JTRES 2011
DESCRIPTION:The 9th Workshop on Java Technologies for Real-Time and Embed
 ded System 
URL:http://www.wikicfp.com/cfp/servlet/event.showcfp?eventid=16264&copyow
 nerid=25310
UID:cfp176390-E@wikicfp.com
END:VEVENT
BEGIN:VEVENT
DTSTAMP:20260419T224549Z
DTSTART;VALUE=DATE:20110606
SUMMARY:JTRES 2011 Deadline
DESCRIPTION:The 9th Workshop on Java Technologies for Real-Time and Embed
 ded System 
URL:http://www.wikicfp.com/cfp/servlet/event.showcfp?eventid=16264&copyow
 nerid=25310
UID:cfp176390-D@wikicfp.com
END:VEVENT
BEGIN:VEVENT
DTSTAMP:20260419T224549Z
DTSTART;VALUE=DATE:20110804
SUMMARY:JTRES 2011 Notification Due
DESCRIPTION:The 9th Workshop on Java Technologies for Real-Time and Embed
 ded System 
URL:http://www.wikicfp.com/cfp/servlet/event.showcfp?eventid=16264&copyow
 nerid=25310
UID:cfp176390-N@wikicfp.com
END:VEVENT
BEGIN:VEVENT
DTSTAMP:20260419T224549Z
DTSTART;VALUE=DATE:20110820
SUMMARY:JTRES 2011 Final Version Due
DESCRIPTION:The 9th Workshop on Java Technologies for Real-Time and Embed
 ded System 
URL:http://www.wikicfp.com/cfp/servlet/event.showcfp?eventid=16264&copyow
 nerid=25310
UID:cfp176390-N@wikicfp.com
END:VEVENT
BEGIN:VEVENT
DTSTAMP:20260419T224549Z
DTSTART;VALUE=DATE:20121029
DTEND;VALUE=DATE:20121101
SUMMARY:NOTERE / CFIP 2012
DESCRIPTION:New Technologies in Distributed Systems
URL:http://www.wikicfp.com/cfp/servlet/event.showcfp?eventid=23038&copyow
 nerid=25310
UID:cfp263822-E@wikicfp.com
END:VEVENT
BEGIN:VEVENT
DTSTAMP:20260419T224549Z
DTSTART;VALUE=DATE:20120615
SUMMARY:NOTERE / CFIP 2012 Deadline
DESCRIPTION:New Technologies in Distributed Systems
URL:http://www.wikicfp.com/cfp/servlet/event.showcfp?eventid=23038&copyow
 nerid=25310
UID:cfp263822-D@wikicfp.com
END:VEVENT
BEGIN:VEVENT
DTSTAMP:20260419T224549Z
DTSTART;VALUE=DATE:20120907
SUMMARY:NOTERE / CFIP 2012 Notification Due
DESCRIPTION:New Technologies in Distributed Systems
URL:http://www.wikicfp.com/cfp/servlet/event.showcfp?eventid=23038&copyow
 nerid=25310
UID:cfp263822-N@wikicfp.com
END:VEVENT
BEGIN:VEVENT
DTSTAMP:20260419T224549Z
DTSTART;VALUE=DATE:20120921
SUMMARY:NOTERE / CFIP 2012 Final Version Due
DESCRIPTION:New Technologies in Distributed Systems
URL:http://www.wikicfp.com/cfp/servlet/event.showcfp?eventid=23038&copyow
 nerid=25310
UID:cfp263822-N@wikicfp.com
END:VEVENT
BEGIN:VEVENT
DTSTAMP:20260419T224549Z
DTSTART;VALUE=DATE:20130518
DTEND;VALUE=DATE:20130527
SUMMARY:ICSE 2013
DESCRIPTION:International Conference on Software Engineering
URL:http://www.wikicfp.com/cfp/servlet/event.showcfp?eventid=22504&copyow
 nerid=25310
UID:cfp263817-E@wikicfp.com
END:VEVENT
BEGIN:VEVENT
DTSTAMP:20260419T224549Z
DTSTART;VALUE=DATE:20120817
SUMMARY:ICSE 2013 Deadline
DESCRIPTION:International Conference on Software Engineering
URL:http://www.wikicfp.com/cfp/servlet/event.showcfp?eventid=22504&copyow
 nerid=25310
UID:cfp263817-D@wikicfp.com
END:VEVENT
BEGIN:VEVENT
DTSTAMP:20260419T224549Z
DTSTART;VALUE=DATE:20121127
SUMMARY:ICSE 2013 Notification Due
DESCRIPTION:International Conference on Software Engineering
URL:http://www.wikicfp.com/cfp/servlet/event.showcfp?eventid=22504&copyow
 nerid=25310
UID:cfp263817-N@wikicfp.com
END:VEVENT
BEGIN:VEVENT
DTSTAMP:20260419T224549Z
DTSTART;VALUE=DATE:20130310
SUMMARY:ICSE 2013 Final Version Due
DESCRIPTION:International Conference on Software Engineering
URL:http://www.wikicfp.com/cfp/servlet/event.showcfp?eventid=22504&copyow
 nerid=25310
UID:cfp263817-N@wikicfp.com
END:VEVENT
BEGIN:VEVENT
DTSTAMP:20260419T224549Z
DTSTART;VALUE=DATE:20131230
SUMMARY:SE 2013 Deadline
DESCRIPTION:Software Engineering Journal
URL:http://www.wikicfp.com/cfp/servlet/event.showcfp?eventid=15942&copyow
 nerid=25310
UID:cfp263816-D@wikicfp.com
END:VEVENT
END:VCALENDAR
