BEGIN:VCALENDAR
PRODID:-//WikiCFP//yanglaimi 1.0//EN
VERSION:2.0
CALSCALE:GREGORIAN
BEGIN:VEVENT
DTSTAMP:20260424T165717Z
DTSTART;VALUE=DATE:20111211
DTEND;VALUE=DATE:20111215
SUMMARY:IEEE ICDM 2011
DESCRIPTION:IEEE International Conference on Data Mining
URL:http://www.wikicfp.com/cfp/servlet/event.showcfp?eventid=14069&copyow
 nerid=25178
UID:cfp175779-E@wikicfp.com
END:VEVENT
BEGIN:VEVENT
DTSTAMP:20260424T165717Z
DTSTART;VALUE=DATE:20110617
SUMMARY:IEEE ICDM 2011 Deadline
DESCRIPTION:IEEE International Conference on Data Mining
URL:http://www.wikicfp.com/cfp/servlet/event.showcfp?eventid=14069&copyow
 nerid=25178
UID:cfp175779-D@wikicfp.com
END:VEVENT
BEGIN:VEVENT
DTSTAMP:20260424T165717Z
DTSTART;VALUE=DATE:20110916
SUMMARY:IEEE ICDM 2011 Notification Due
DESCRIPTION:IEEE International Conference on Data Mining
URL:http://www.wikicfp.com/cfp/servlet/event.showcfp?eventid=14069&copyow
 nerid=25178
UID:cfp175779-N@wikicfp.com
END:VEVENT
BEGIN:VEVENT
DTSTAMP:20260424T165717Z
DTSTART;VALUE=DATE:20111118
DTEND;VALUE=DATE:20111121
SUMMARY:IEEE ICIS  2011
DESCRIPTION:2011 IEEE International Conference on Intelligent Computing a
 nd Intelligent Systems (ICIS 2011) 
URL:http://www.wikicfp.com/cfp/servlet/event.showcfp?eventid=13047&copyow
 nerid=25178
UID:cfp175781-E@wikicfp.com
END:VEVENT
BEGIN:VEVENT
DTSTAMP:20260424T165717Z
DTSTART;VALUE=DATE:20110701
SUMMARY:IEEE ICIS  2011 Deadline
DESCRIPTION:2011 IEEE International Conference on Intelligent Computing a
 nd Intelligent Systems (ICIS 2011) 
URL:http://www.wikicfp.com/cfp/servlet/event.showcfp?eventid=13047&copyow
 nerid=25178
UID:cfp175781-D@wikicfp.com
END:VEVENT
BEGIN:VEVENT
DTSTAMP:20260424T165717Z
DTSTART;VALUE=DATE:20110901
SUMMARY:IEEE ICIS  2011 Notification Due
DESCRIPTION:2011 IEEE International Conference on Intelligent Computing a
 nd Intelligent Systems (ICIS 2011) 
URL:http://www.wikicfp.com/cfp/servlet/event.showcfp?eventid=13047&copyow
 nerid=25178
UID:cfp175781-N@wikicfp.com
END:VEVENT
BEGIN:VEVENT
DTSTAMP:20260424T165717Z
DTSTART;VALUE=DATE:20110930
SUMMARY:IEEE ICIS  2011 Final Version Due
DESCRIPTION:2011 IEEE International Conference on Intelligent Computing a
 nd Intelligent Systems (ICIS 2011) 
URL:http://www.wikicfp.com/cfp/servlet/event.showcfp?eventid=13047&copyow
 nerid=25178
UID:cfp175781-N@wikicfp.com
END:VEVENT
BEGIN:VEVENT
DTSTAMP:20260424T165717Z
DTSTART;VALUE=DATE:20111217
DTEND;VALUE=DATE:20111220
SUMMARY:ADMA 2011
DESCRIPTION:7th International Conference on Advanced Data Mining and Appl
 ications
URL:http://www.wikicfp.com/cfp/servlet/event.showcfp?eventid=15798&copyow
 nerid=25178
UID:cfp175778-E@wikicfp.com
END:VEVENT
BEGIN:VEVENT
DTSTAMP:20260424T165717Z
DTSTART;VALUE=DATE:20110707
SUMMARY:ADMA 2011 Deadline
DESCRIPTION:7th International Conference on Advanced Data Mining and Appl
 ications
URL:http://www.wikicfp.com/cfp/servlet/event.showcfp?eventid=15798&copyow
 nerid=25178
UID:cfp175778-D@wikicfp.com
END:VEVENT
BEGIN:VEVENT
DTSTAMP:20260424T165717Z
DTSTART;VALUE=DATE:20110907
SUMMARY:ADMA 2011 Notification Due
DESCRIPTION:7th International Conference on Advanced Data Mining and Appl
 ications
URL:http://www.wikicfp.com/cfp/servlet/event.showcfp?eventid=15798&copyow
 nerid=25178
UID:cfp175778-N@wikicfp.com
END:VEVENT
BEGIN:VEVENT
DTSTAMP:20260424T165717Z
DTSTART;VALUE=DATE:20110923
SUMMARY:ADMA 2011 Final Version Due
DESCRIPTION:7th International Conference on Advanced Data Mining and Appl
 ications
URL:http://www.wikicfp.com/cfp/servlet/event.showcfp?eventid=15798&copyow
 nerid=25178
UID:cfp175778-N@wikicfp.com
END:VEVENT
BEGIN:VEVENT
DTSTAMP:20260424T165717Z
DTSTART;VALUE=DATE:20111218
DTEND;VALUE=DATE:20111221
SUMMARY:AIRS 2011
DESCRIPTION:The Seventh Asia Information Retrieval Societies Conference (
 AIRS2011)
URL:http://www.wikicfp.com/cfp/servlet/event.showcfp?eventid=16370&copyow
 nerid=25178
UID:cfp175785-E@wikicfp.com
END:VEVENT
BEGIN:VEVENT
DTSTAMP:20260424T165717Z
DTSTART;VALUE=DATE:20110727
SUMMARY:AIRS 2011 Deadline
DESCRIPTION:The Seventh Asia Information Retrieval Societies Conference (
 AIRS2011)
URL:http://www.wikicfp.com/cfp/servlet/event.showcfp?eventid=16370&copyow
 nerid=25178
UID:cfp175785-D@wikicfp.com
END:VEVENT
BEGIN:VEVENT
DTSTAMP:20260424T165717Z
DTSTART;VALUE=DATE:20110901
SUMMARY:AIRS 2011 Notification Due
DESCRIPTION:The Seventh Asia Information Retrieval Societies Conference (
 AIRS2011)
URL:http://www.wikicfp.com/cfp/servlet/event.showcfp?eventid=16370&copyow
 nerid=25178
UID:cfp175785-N@wikicfp.com
END:VEVENT
BEGIN:VEVENT
DTSTAMP:20260424T165717Z
DTSTART;VALUE=DATE:20110917
SUMMARY:AIRS 2011 Final Version Due
DESCRIPTION:The Seventh Asia Information Retrieval Societies Conference (
 AIRS2011)
URL:http://www.wikicfp.com/cfp/servlet/event.showcfp?eventid=16370&copyow
 nerid=25178
UID:cfp175785-N@wikicfp.com
END:VEVENT
BEGIN:VEVENT
DTSTAMP:20260424T165717Z
DTSTART;VALUE=DATE:20120209
DTEND;VALUE=DATE:20120213
SUMMARY:WSDM 2012
DESCRIPTION:5th International Conference on Web Search and Data Mining
URL:http://www.wikicfp.com/cfp/servlet/event.showcfp?eventid=16316&copyow
 nerid=25178
UID:cfp175780-E@wikicfp.com
END:VEVENT
BEGIN:VEVENT
DTSTAMP:20260424T165717Z
DTSTART;VALUE=DATE:20110804
SUMMARY:WSDM 2012 Abstract Due
DESCRIPTION:5th International Conference on Web Search and Data Mining
URL:http://www.wikicfp.com/cfp/servlet/event.showcfp?eventid=16316&copyow
 nerid=25178
UID:cfp175780-A@wikicfp.com
END:VEVENT
BEGIN:VEVENT
DTSTAMP:20260424T165717Z
DTSTART;VALUE=DATE:20110811
SUMMARY:WSDM 2012 Deadline
DESCRIPTION:5th International Conference on Web Search and Data Mining
URL:http://www.wikicfp.com/cfp/servlet/event.showcfp?eventid=16316&copyow
 nerid=25178
UID:cfp175780-D@wikicfp.com
END:VEVENT
BEGIN:VEVENT
DTSTAMP:20260424T165717Z
DTSTART;VALUE=DATE:20111026
SUMMARY:WSDM 2012 Notification Due
DESCRIPTION:5th International Conference on Web Search and Data Mining
URL:http://www.wikicfp.com/cfp/servlet/event.showcfp?eventid=16316&copyow
 nerid=25178
UID:cfp175780-N@wikicfp.com
END:VEVENT
BEGIN:VEVENT
DTSTAMP:20260424T165717Z
DTSTART;VALUE=DATE:20120416
DTEND;VALUE=DATE:20120421
SUMMARY:WWW 2012
DESCRIPTION:The Twenty-first International WWW Conference
URL:http://www.wikicfp.com/cfp/servlet/event.showcfp?eventid=9781&copyown
 erid=25178
UID:cfp213610-E@wikicfp.com
END:VEVENT
BEGIN:VEVENT
DTSTAMP:20260424T165717Z
DTSTART;VALUE=DATE:20111101
SUMMARY:WWW 2012 Abstract Due
DESCRIPTION:The Twenty-first International WWW Conference
URL:http://www.wikicfp.com/cfp/servlet/event.showcfp?eventid=9781&copyown
 erid=25178
UID:cfp213610-A@wikicfp.com
END:VEVENT
BEGIN:VEVENT
DTSTAMP:20260424T165717Z
DTSTART;VALUE=DATE:20111107
SUMMARY:WWW 2012 Deadline
DESCRIPTION:The Twenty-first International WWW Conference
URL:http://www.wikicfp.com/cfp/servlet/event.showcfp?eventid=9781&copyown
 erid=25178
UID:cfp213610-D@wikicfp.com
END:VEVENT
BEGIN:VEVENT
DTSTAMP:20260424T165717Z
DTSTART;VALUE=DATE:20120130
SUMMARY:WWW 2012 Notification Due
DESCRIPTION:The Twenty-first International WWW Conference
URL:http://www.wikicfp.com/cfp/servlet/event.showcfp?eventid=9781&copyown
 erid=25178
UID:cfp213610-N@wikicfp.com
END:VEVENT
BEGIN:VEVENT
DTSTAMP:20260424T165717Z
DTSTART;VALUE=DATE:20101215
SUMMARY:ISERP 2011 Abstract Due
DESCRIPTION:International Journals on All Engineering Sciences\, Business
  Administration Management and Medical Sciences
URL:http://www.wikicfp.com/cfp/servlet/event.showcfp?eventid=12329&copyow
 nerid=25178
UID:cfp214528-A@wikicfp.com
END:VEVENT
BEGIN:VEVENT
DTSTAMP:20260424T165717Z
DTSTART;VALUE=DATE:20111231
SUMMARY:ISERP 2011 Deadline
DESCRIPTION:International Journals on All Engineering Sciences\, Business
  Administration Management and Medical Sciences
URL:http://www.wikicfp.com/cfp/servlet/event.showcfp?eventid=12329&copyow
 nerid=25178
UID:cfp214528-D@wikicfp.com
END:VEVENT
BEGIN:VEVENT
DTSTAMP:20260424T165717Z
DTSTART;VALUE=DATE:20120812
DTEND;VALUE=DATE:20120817
SUMMARY:KDD 2012
DESCRIPTION:18th ACM SIGKDD Knowledge Discovery and Data Mining 
URL:http://www.wikicfp.com/cfp/servlet/event.showcfp?eventid=18347&copyow
 nerid=25178
UID:cfp213611-E@wikicfp.com
END:VEVENT
BEGIN:VEVENT
DTSTAMP:20260424T165717Z
DTSTART;VALUE=DATE:20120210
SUMMARY:KDD 2012 Deadline
DESCRIPTION:18th ACM SIGKDD Knowledge Discovery and Data Mining 
URL:http://www.wikicfp.com/cfp/servlet/event.showcfp?eventid=18347&copyow
 nerid=25178
UID:cfp213611-D@wikicfp.com
END:VEVENT
BEGIN:VEVENT
DTSTAMP:20260424T165717Z
DTSTART;VALUE=DATE:20120504
SUMMARY:KDD 2012 Notification Due
DESCRIPTION:18th ACM SIGKDD Knowledge Discovery and Data Mining 
URL:http://www.wikicfp.com/cfp/servlet/event.showcfp?eventid=18347&copyow
 nerid=25178
UID:cfp213611-N@wikicfp.com
END:VEVENT
END:VCALENDAR
