BEGIN:VCALENDAR
PRODID:-//WikiCFP//Sonja_PG 1.0//EN
VERSION:2.0
CALSCALE:GREGORIAN
BEGIN:VEVENT
DTSTAMP:20260424T174534Z
DTSTART;VALUE=DATE:20110905
DTEND;VALUE=DATE:20110910
SUMMARY:KD-HCM 2011
DESCRIPTION:(2nd call) CFP - Workshop on Knowledge Discovery in Health Ca
 re and Medicine (KD-HCM)
URL:http://www.wikicfp.com/cfp/servlet/event.showcfp?eventid=16471&copyow
 nerid=25168
UID:cfp175727-E@wikicfp.com
END:VEVENT
BEGIN:VEVENT
DTSTAMP:20260424T174534Z
DTSTART;VALUE=DATE:20110607
SUMMARY:KD-HCM 2011 Deadline
DESCRIPTION:(2nd call) CFP - Workshop on Knowledge Discovery in Health Ca
 re and Medicine (KD-HCM)
URL:http://www.wikicfp.com/cfp/servlet/event.showcfp?eventid=16471&copyow
 nerid=25168
UID:cfp175727-D@wikicfp.com
END:VEVENT
BEGIN:VEVENT
DTSTAMP:20260424T174534Z
DTSTART;VALUE=DATE:20110701
SUMMARY:KD-HCM 2011 Notification Due
DESCRIPTION:(2nd call) CFP - Workshop on Knowledge Discovery in Health Ca
 re and Medicine (KD-HCM)
URL:http://www.wikicfp.com/cfp/servlet/event.showcfp?eventid=16471&copyow
 nerid=25168
UID:cfp175727-N@wikicfp.com
END:VEVENT
BEGIN:VEVENT
DTSTAMP:20260424T174534Z
DTSTART;VALUE=DATE:20110721
SUMMARY:KD-HCM 2011 Final Version Due
DESCRIPTION:(2nd call) CFP - Workshop on Knowledge Discovery in Health Ca
 re and Medicine (KD-HCM)
URL:http://www.wikicfp.com/cfp/servlet/event.showcfp?eventid=16471&copyow
 nerid=25168
UID:cfp175727-N@wikicfp.com
END:VEVENT
BEGIN:VEVENT
DTSTAMP:20260424T174534Z
DTSTART;VALUE=DATE:20111114
DTEND;VALUE=DATE:20111117
SUMMARY:ICIEIS 2011
DESCRIPTION:The International Conference on Informatics Engineering & Inf
 ormation Science
URL:http://www.wikicfp.com/cfp/servlet/event.showcfp?eventid=11259&copyow
 nerid=25168
UID:cfp175729-E@wikicfp.com
END:VEVENT
BEGIN:VEVENT
DTSTAMP:20260424T174534Z
DTSTART;VALUE=DATE:20110801
SUMMARY:ICIEIS 2011 Deadline
DESCRIPTION:The International Conference on Informatics Engineering & Inf
 ormation Science
URL:http://www.wikicfp.com/cfp/servlet/event.showcfp?eventid=11259&copyow
 nerid=25168
UID:cfp175729-D@wikicfp.com
END:VEVENT
BEGIN:VEVENT
DTSTAMP:20260424T174534Z
DTSTART;VALUE=DATE:20110820
SUMMARY:ICIEIS 2011 Notification Due
DESCRIPTION:The International Conference on Informatics Engineering & Inf
 ormation Science
URL:http://www.wikicfp.com/cfp/servlet/event.showcfp?eventid=11259&copyow
 nerid=25168
UID:cfp175729-N@wikicfp.com
END:VEVENT
BEGIN:VEVENT
DTSTAMP:20260424T174534Z
DTSTART;VALUE=DATE:20110830
SUMMARY:ICIEIS 2011 Final Version Due
DESCRIPTION:The International Conference on Informatics Engineering & Inf
 ormation Science
URL:http://www.wikicfp.com/cfp/servlet/event.showcfp?eventid=11259&copyow
 nerid=25168
UID:cfp175729-N@wikicfp.com
END:VEVENT
BEGIN:VEVENT
DTSTAMP:20260424T174534Z
DTSTART;VALUE=DATE:20111216
DTEND;VALUE=DATE:20111219
SUMMARY:ICISME 2011
DESCRIPTION:2011 International Conference on Information Management and S
 ystems Engineering
URL:http://www.wikicfp.com/cfp/servlet/event.showcfp?eventid=16475&copyow
 nerid=25168
UID:cfp175728-E@wikicfp.com
END:VEVENT
BEGIN:VEVENT
DTSTAMP:20260424T174534Z
DTSTART;VALUE=DATE:20110801
SUMMARY:ICISME 2011 Deadline
DESCRIPTION:2011 International Conference on Information Management and S
 ystems Engineering
URL:http://www.wikicfp.com/cfp/servlet/event.showcfp?eventid=16475&copyow
 nerid=25168
UID:cfp175728-D@wikicfp.com
END:VEVENT
BEGIN:VEVENT
DTSTAMP:20260424T174534Z
DTSTART;VALUE=DATE:20110910
SUMMARY:ICISME 2011 Notification Due
DESCRIPTION:2011 International Conference on Information Management and S
 ystems Engineering
URL:http://www.wikicfp.com/cfp/servlet/event.showcfp?eventid=16475&copyow
 nerid=25168
UID:cfp175728-N@wikicfp.com
END:VEVENT
BEGIN:VEVENT
DTSTAMP:20260424T174534Z
DTSTART;VALUE=DATE:20110930
SUMMARY:ICISME 2011 Final Version Due
DESCRIPTION:2011 International Conference on Information Management and S
 ystems Engineering
URL:http://www.wikicfp.com/cfp/servlet/event.showcfp?eventid=16475&copyow
 nerid=25168
UID:cfp175728-N@wikicfp.com
END:VEVENT
BEGIN:VEVENT
DTSTAMP:20260424T174534Z
DTSTART;VALUE=DATE:20110831
SUMMARY:CSE & IT  2011 Deadline
DESCRIPTION:International Journals on Computer Science\, Engineering and 
 Information Technology 
URL:http://www.wikicfp.com/cfp/servlet/event.showcfp?eventid=15243&copyow
 nerid=25168
UID:cfp175726-D@wikicfp.com
END:VEVENT
END:VCALENDAR
