BEGIN:VCALENDAR
PRODID:-//WikiCFP//littleFish0102 1.0//EN
VERSION:2.0
CALSCALE:GREGORIAN
BEGIN:VEVENT
DTSTAMP:20260423T142237Z
DTSTART;VALUE=DATE:20111108
DTEND;VALUE=DATE:20111114
SUMMARY:IJCNLP 2011
DESCRIPTION:The 5th International Joint Conference on Natural Language Pr
 ocessing
URL:http://www.wikicfp.com/cfp/servlet/event.showcfp?eventid=13703&copyow
 nerid=25126
UID:cfp175544-E@wikicfp.com
END:VEVENT
BEGIN:VEVENT
DTSTAMP:20260423T142237Z
DTSTART;VALUE=DATE:20110602
SUMMARY:IJCNLP 2011 Deadline
DESCRIPTION:The 5th International Joint Conference on Natural Language Pr
 ocessing
URL:http://www.wikicfp.com/cfp/servlet/event.showcfp?eventid=13703&copyow
 nerid=25126
UID:cfp175544-D@wikicfp.com
END:VEVENT
BEGIN:VEVENT
DTSTAMP:20260423T142237Z
DTSTART;VALUE=DATE:20110722
SUMMARY:IJCNLP 2011 Notification Due
DESCRIPTION:The 5th International Joint Conference on Natural Language Pr
 ocessing
URL:http://www.wikicfp.com/cfp/servlet/event.showcfp?eventid=13703&copyow
 nerid=25126
UID:cfp175544-N@wikicfp.com
END:VEVENT
BEGIN:VEVENT
DTSTAMP:20260423T142237Z
DTSTART;VALUE=DATE:20110819
SUMMARY:IJCNLP 2011 Final Version Due
DESCRIPTION:The 5th International Joint Conference on Natural Language Pr
 ocessing
URL:http://www.wikicfp.com/cfp/servlet/event.showcfp?eventid=13703&copyow
 nerid=25126
UID:cfp175544-N@wikicfp.com
END:VEVENT
END:VCALENDAR
