BEGIN:VCALENDAR
PRODID:-//WikiCFP//wiesel 1.0//EN
VERSION:2.0
CALSCALE:GREGORIAN
BEGIN:VEVENT
DTSTAMP:20260420T094145Z
DTSTART;VALUE=DATE:20111026
DTEND;VALUE=DATE:20111030
SUMMARY:KDIR 2011
DESCRIPTION:Knowledge Discovery in Information Retieval
URL:http://www.wikicfp.com/cfp/servlet/event.showcfp?eventid=15363&copyow
 nerid=25077
UID:cfp175422-E@wikicfp.com
END:VEVENT
BEGIN:VEVENT
DTSTAMP:20260420T094145Z
DTSTART;VALUE=DATE:20110510
SUMMARY:KDIR 2011 Deadline
DESCRIPTION:Knowledge Discovery in Information Retieval
URL:http://www.wikicfp.com/cfp/servlet/event.showcfp?eventid=15363&copyow
 nerid=25077
UID:cfp175422-D@wikicfp.com
END:VEVENT
BEGIN:VEVENT
DTSTAMP:20260420T094145Z
DTSTART;VALUE=DATE:20110706
SUMMARY:KDIR 2011 Notification Due
DESCRIPTION:Knowledge Discovery in Information Retieval
URL:http://www.wikicfp.com/cfp/servlet/event.showcfp?eventid=15363&copyow
 nerid=25077
UID:cfp175422-N@wikicfp.com
END:VEVENT
BEGIN:VEVENT
DTSTAMP:20260420T094145Z
DTSTART;VALUE=DATE:20110722
SUMMARY:KDIR 2011 Final Version Due
DESCRIPTION:Knowledge Discovery in Information Retieval
URL:http://www.wikicfp.com/cfp/servlet/event.showcfp?eventid=15363&copyow
 nerid=25077
UID:cfp175422-N@wikicfp.com
END:VEVENT
BEGIN:VEVENT
DTSTAMP:20260420T094145Z
DTSTART;VALUE=DATE:20111010
DTEND;VALUE=DATE:20111014
SUMMARY:TeMA 2011
DESCRIPTION:Text Mining and Applications
URL:http://www.wikicfp.com/cfp/servlet/event.showcfp?eventid=15637&copyow
 nerid=25077
UID:cfp175423-E@wikicfp.com
END:VEVENT
BEGIN:VEVENT
DTSTAMP:20260420T094145Z
DTSTART;VALUE=DATE:20110510
SUMMARY:TeMA 2011 Deadline
DESCRIPTION:Text Mining and Applications
URL:http://www.wikicfp.com/cfp/servlet/event.showcfp?eventid=15637&copyow
 nerid=25077
UID:cfp175423-D@wikicfp.com
END:VEVENT
BEGIN:VEVENT
DTSTAMP:20260420T094145Z
DTSTART;VALUE=DATE:20110610
SUMMARY:TeMA 2011 Notification Due
DESCRIPTION:Text Mining and Applications
URL:http://www.wikicfp.com/cfp/servlet/event.showcfp?eventid=15637&copyow
 nerid=25077
UID:cfp175423-N@wikicfp.com
END:VEVENT
BEGIN:VEVENT
DTSTAMP:20260420T094145Z
DTSTART;VALUE=DATE:20110701
SUMMARY:TeMA 2011 Final Version Due
DESCRIPTION:Text Mining and Applications
URL:http://www.wikicfp.com/cfp/servlet/event.showcfp?eventid=15637&copyow
 nerid=25077
UID:cfp175423-N@wikicfp.com
END:VEVENT
BEGIN:VEVENT
DTSTAMP:20260420T094145Z
DTSTART;VALUE=DATE:20111010
DTEND;VALUE=DATE:20111014
SUMMARY:TEMA @ EPIA 2011
DESCRIPTION:Text Mining and Applications (TeMA 2011) Thematic Track of EP
 IA 2011
URL:http://www.wikicfp.com/cfp/servlet/event.showcfp?eventid=15914&copyow
 nerid=25077
UID:cfp176266-E@wikicfp.com
END:VEVENT
BEGIN:VEVENT
DTSTAMP:20260420T094145Z
DTSTART;VALUE=DATE:20110510
SUMMARY:TEMA @ EPIA 2011 Abstract Due
DESCRIPTION:Text Mining and Applications (TeMA 2011) Thematic Track of EP
 IA 2011
URL:http://www.wikicfp.com/cfp/servlet/event.showcfp?eventid=15914&copyow
 nerid=25077
UID:cfp176266-A@wikicfp.com
END:VEVENT
BEGIN:VEVENT
DTSTAMP:20260420T094145Z
DTSTART;VALUE=DATE:20110517
SUMMARY:TEMA @ EPIA 2011 Deadline
DESCRIPTION:Text Mining and Applications (TeMA 2011) Thematic Track of EP
 IA 2011
URL:http://www.wikicfp.com/cfp/servlet/event.showcfp?eventid=15914&copyow
 nerid=25077
UID:cfp176266-D@wikicfp.com
END:VEVENT
BEGIN:VEVENT
DTSTAMP:20260420T094145Z
DTSTART;VALUE=DATE:20110610
SUMMARY:TEMA @ EPIA 2011 Notification Due
DESCRIPTION:Text Mining and Applications (TeMA 2011) Thematic Track of EP
 IA 2011
URL:http://www.wikicfp.com/cfp/servlet/event.showcfp?eventid=15914&copyow
 nerid=25077
UID:cfp176266-N@wikicfp.com
END:VEVENT
BEGIN:VEVENT
DTSTAMP:20260420T094145Z
DTSTART;VALUE=DATE:20110701
SUMMARY:TEMA @ EPIA 2011 Final Version Due
DESCRIPTION:Text Mining and Applications (TeMA 2011) Thematic Track of EP
 IA 2011
URL:http://www.wikicfp.com/cfp/servlet/event.showcfp?eventid=15914&copyow
 nerid=25077
UID:cfp176266-N@wikicfp.com
END:VEVENT
BEGIN:VEVENT
DTSTAMP:20260420T094145Z
DTSTART;VALUE=DATE:20111024
DTEND;VALUE=DATE:20111029
SUMMARY:CIKM 2011
DESCRIPTION:20th ACM International Conference on Information and Knowledg
 e Management
URL:http://www.wikicfp.com/cfp/servlet/event.showcfp?eventid=14757&copyow
 nerid=25077
UID:cfp183688-E@wikicfp.com
END:VEVENT
BEGIN:VEVENT
DTSTAMP:20260420T094145Z
DTSTART;VALUE=DATE:20110517
SUMMARY:CIKM 2011 Abstract Due
DESCRIPTION:20th ACM International Conference on Information and Knowledg
 e Management
URL:http://www.wikicfp.com/cfp/servlet/event.showcfp?eventid=14757&copyow
 nerid=25077
UID:cfp183688-A@wikicfp.com
END:VEVENT
BEGIN:VEVENT
DTSTAMP:20260420T094145Z
DTSTART;VALUE=DATE:20110524
SUMMARY:CIKM 2011 Deadline
DESCRIPTION:20th ACM International Conference on Information and Knowledg
 e Management
URL:http://www.wikicfp.com/cfp/servlet/event.showcfp?eventid=14757&copyow
 nerid=25077
UID:cfp183688-D@wikicfp.com
END:VEVENT
BEGIN:VEVENT
DTSTAMP:20260420T094145Z
DTSTART;VALUE=DATE:20110719
SUMMARY:CIKM 2011 Notification Due
DESCRIPTION:20th ACM International Conference on Information and Knowledg
 e Management
URL:http://www.wikicfp.com/cfp/servlet/event.showcfp?eventid=14757&copyow
 nerid=25077
UID:cfp183688-N@wikicfp.com
END:VEVENT
BEGIN:VEVENT
DTSTAMP:20260420T094145Z
DTSTART;VALUE=DATE:20110816
SUMMARY:CIKM 2011 Final Version Due
DESCRIPTION:20th ACM International Conference on Information and Knowledg
 e Management
URL:http://www.wikicfp.com/cfp/servlet/event.showcfp?eventid=14757&copyow
 nerid=25077
UID:cfp183688-N@wikicfp.com
END:VEVENT
BEGIN:VEVENT
DTSTAMP:20260420T094145Z
DTSTART;VALUE=DATE:20111211
DTEND;VALUE=DATE:20111215
SUMMARY:IEEE ICDM 2011
DESCRIPTION:IEEE International Conference on Data Mining
URL:http://www.wikicfp.com/cfp/servlet/event.showcfp?eventid=14069&copyow
 nerid=25077
UID:cfp175419-E@wikicfp.com
END:VEVENT
BEGIN:VEVENT
DTSTAMP:20260420T094145Z
DTSTART;VALUE=DATE:20110617
SUMMARY:IEEE ICDM 2011 Deadline
DESCRIPTION:IEEE International Conference on Data Mining
URL:http://www.wikicfp.com/cfp/servlet/event.showcfp?eventid=14069&copyow
 nerid=25077
UID:cfp175419-D@wikicfp.com
END:VEVENT
BEGIN:VEVENT
DTSTAMP:20260420T094145Z
DTSTART;VALUE=DATE:20110916
SUMMARY:IEEE ICDM 2011 Notification Due
DESCRIPTION:IEEE International Conference on Data Mining
URL:http://www.wikicfp.com/cfp/servlet/event.showcfp?eventid=14069&copyow
 nerid=25077
UID:cfp175419-N@wikicfp.com
END:VEVENT
BEGIN:VEVENT
DTSTAMP:20260420T094145Z
DTSTART;VALUE=DATE:20111217
DTEND;VALUE=DATE:20111220
SUMMARY:ADMA 2011
DESCRIPTION:7th International Conference on Advanced Data Mining and Appl
 ications
URL:http://www.wikicfp.com/cfp/servlet/event.showcfp?eventid=15798&copyow
 nerid=25077
UID:cfp175421-E@wikicfp.com
END:VEVENT
BEGIN:VEVENT
DTSTAMP:20260420T094145Z
DTSTART;VALUE=DATE:20110707
SUMMARY:ADMA 2011 Deadline
DESCRIPTION:7th International Conference on Advanced Data Mining and Appl
 ications
URL:http://www.wikicfp.com/cfp/servlet/event.showcfp?eventid=15798&copyow
 nerid=25077
UID:cfp175421-D@wikicfp.com
END:VEVENT
BEGIN:VEVENT
DTSTAMP:20260420T094145Z
DTSTART;VALUE=DATE:20110907
SUMMARY:ADMA 2011 Notification Due
DESCRIPTION:7th International Conference on Advanced Data Mining and Appl
 ications
URL:http://www.wikicfp.com/cfp/servlet/event.showcfp?eventid=15798&copyow
 nerid=25077
UID:cfp175421-N@wikicfp.com
END:VEVENT
BEGIN:VEVENT
DTSTAMP:20260420T094145Z
DTSTART;VALUE=DATE:20110923
SUMMARY:ADMA 2011 Final Version Due
DESCRIPTION:7th International Conference on Advanced Data Mining and Appl
 ications
URL:http://www.wikicfp.com/cfp/servlet/event.showcfp?eventid=15798&copyow
 nerid=25077
UID:cfp175421-N@wikicfp.com
END:VEVENT
BEGIN:VEVENT
DTSTAMP:20260420T094145Z
DTSTART;VALUE=DATE:20111218
DTEND;VALUE=DATE:20111222
SUMMARY:ICMLA 2011
DESCRIPTION:Tenth International Conference on Machine Learning and Applic
 ations
URL:http://www.wikicfp.com/cfp/servlet/event.showcfp?eventid=16079&copyow
 nerid=25077
UID:cfp183682-E@wikicfp.com
END:VEVENT
BEGIN:VEVENT
DTSTAMP:20260420T094145Z
DTSTART;VALUE=DATE:20110725
SUMMARY:ICMLA 2011 Deadline
DESCRIPTION:Tenth International Conference on Machine Learning and Applic
 ations
URL:http://www.wikicfp.com/cfp/servlet/event.showcfp?eventid=16079&copyow
 nerid=25077
UID:cfp183682-D@wikicfp.com
END:VEVENT
BEGIN:VEVENT
DTSTAMP:20260420T094145Z
DTSTART;VALUE=DATE:20110902
SUMMARY:ICMLA 2011 Notification Due
DESCRIPTION:Tenth International Conference on Machine Learning and Applic
 ations
URL:http://www.wikicfp.com/cfp/servlet/event.showcfp?eventid=16079&copyow
 nerid=25077
UID:cfp183682-N@wikicfp.com
END:VEVENT
BEGIN:VEVENT
DTSTAMP:20260420T094145Z
DTSTART;VALUE=DATE:20111001
SUMMARY:ICMLA 2011 Final Version Due
DESCRIPTION:Tenth International Conference on Machine Learning and Applic
 ations
URL:http://www.wikicfp.com/cfp/servlet/event.showcfp?eventid=16079&copyow
 nerid=25077
UID:cfp183682-N@wikicfp.com
END:VEVENT
BEGIN:VEVENT
DTSTAMP:20260420T094145Z
DTSTART;VALUE=DATE:20120812
DTEND;VALUE=DATE:20120817
SUMMARY:SIGIR 2012
DESCRIPTION:35th International ACM SIGIR Conference on Research and Devel
 opment in Information Retrieval
URL:http://www.wikicfp.com/cfp/servlet/event.showcfp?eventid=16315&copyow
 nerid=25077
UID:cfp175424-E@wikicfp.com
END:VEVENT
BEGIN:VEVENT
DTSTAMP:20260420T094145Z
DTSTART;VALUE=DATE:20120213
SUMMARY:SIGIR 2012 Deadline
DESCRIPTION:35th International ACM SIGIR Conference on Research and Devel
 opment in Information Retrieval
URL:http://www.wikicfp.com/cfp/servlet/event.showcfp?eventid=16315&copyow
 nerid=25077
UID:cfp175424-D@wikicfp.com
END:VEVENT
BEGIN:VEVENT
DTSTAMP:20260420T094145Z
DTSTART;VALUE=DATE:20120430
SUMMARY:SIGIR 2012 Notification Due
DESCRIPTION:35th International ACM SIGIR Conference on Research and Devel
 opment in Information Retrieval
URL:http://www.wikicfp.com/cfp/servlet/event.showcfp?eventid=16315&copyow
 nerid=25077
UID:cfp175424-N@wikicfp.com
END:VEVENT
END:VCALENDAR
