BEGIN:VCALENDAR
PRODID:-//WikiCFP//tcucinotta 1.0//EN
VERSION:2.0
CALSCALE:GREGORIAN
BEGIN:VEVENT
DTSTAMP:20260422T064454Z
DTSTART;VALUE=DATE:20220404
DTEND;VALUE=DATE:20220407
SUMMARY:NSDI 2022
DESCRIPTION:19th USENIX Symposium on Networked Systems Design and Impleme
 ntation
URL:http://www.wikicfp.com/cfp/servlet/event.showcfp?eventid=125223&copyo
 wnerid=24331
UID:cfp920619-E@wikicfp.com
END:VEVENT
BEGIN:VEVENT
DTSTAMP:20260422T064454Z
DTSTART;VALUE=DATE:20210304
SUMMARY:NSDI 2022 Abstract Due
DESCRIPTION:19th USENIX Symposium on Networked Systems Design and Impleme
 ntation
URL:http://www.wikicfp.com/cfp/servlet/event.showcfp?eventid=125223&copyo
 wnerid=24331
UID:cfp920619-A@wikicfp.com
END:VEVENT
BEGIN:VEVENT
DTSTAMP:20260422T064454Z
DTSTART;VALUE=DATE:20210310
SUMMARY:NSDI 2022 Deadline
DESCRIPTION:19th USENIX Symposium on Networked Systems Design and Impleme
 ntation
URL:http://www.wikicfp.com/cfp/servlet/event.showcfp?eventid=125223&copyo
 wnerid=24331
UID:cfp920619-D@wikicfp.com
END:VEVENT
BEGIN:VEVENT
DTSTAMP:20260422T064454Z
DTSTART;VALUE=DATE:20210611
SUMMARY:NSDI 2022 Notification Due
DESCRIPTION:19th USENIX Symposium on Networked Systems Design and Impleme
 ntation
URL:http://www.wikicfp.com/cfp/servlet/event.showcfp?eventid=125223&copyo
 wnerid=24331
UID:cfp920619-N@wikicfp.com
END:VEVENT
BEGIN:VEVENT
DTSTAMP:20260422T064454Z
DTSTART;VALUE=DATE:20210825
SUMMARY:NSDI 2022 Final Version Due
DESCRIPTION:19th USENIX Symposium on Networked Systems Design and Impleme
 ntation
URL:http://www.wikicfp.com/cfp/servlet/event.showcfp?eventid=125223&copyo
 wnerid=24331
UID:cfp920619-N@wikicfp.com
END:VEVENT
BEGIN:VEVENT
DTSTAMP:20260422T064454Z
DTSTART;VALUE=DATE:20220405
DTEND;VALUE=DATE:20220409
SUMMARY:EuroSys 2022
DESCRIPTION:The European Conference on Computer Systems
URL:http://www.wikicfp.com/cfp/servlet/event.showcfp?eventid=143506&copyo
 wnerid=24331
UID:cfp920617-E@wikicfp.com
END:VEVENT
BEGIN:VEVENT
DTSTAMP:20260422T064454Z
DTSTART;VALUE=DATE:20211001
SUMMARY:EuroSys 2022 Abstract Due
DESCRIPTION:The European Conference on Computer Systems
URL:http://www.wikicfp.com/cfp/servlet/event.showcfp?eventid=143506&copyo
 wnerid=24331
UID:cfp920617-A@wikicfp.com
END:VEVENT
BEGIN:VEVENT
DTSTAMP:20260422T064454Z
DTSTART;VALUE=DATE:20211009
SUMMARY:EuroSys 2022 Deadline
DESCRIPTION:The European Conference on Computer Systems
URL:http://www.wikicfp.com/cfp/servlet/event.showcfp?eventid=143506&copyo
 wnerid=24331
UID:cfp920617-D@wikicfp.com
END:VEVENT
BEGIN:VEVENT
DTSTAMP:20260422T064454Z
DTSTART;VALUE=DATE:20220504
DTEND;VALUE=DATE:20220507
SUMMARY:RTAS 2022
DESCRIPTION:28th IEEE Real Time Technology and Applications Symposium
URL:http://www.wikicfp.com/cfp/servlet/event.showcfp?eventid=144716&copyo
 wnerid=24331
UID:cfp920620-E@wikicfp.com
END:VEVENT
BEGIN:VEVENT
DTSTAMP:20260422T064454Z
DTSTART;VALUE=DATE:20211029
SUMMARY:RTAS 2022 Deadline
DESCRIPTION:28th IEEE Real Time Technology and Applications Symposium
URL:http://www.wikicfp.com/cfp/servlet/event.showcfp?eventid=144716&copyo
 wnerid=24331
UID:cfp920620-D@wikicfp.com
END:VEVENT
BEGIN:VEVENT
DTSTAMP:20260422T064454Z
DTSTART;VALUE=DATE:20220117
SUMMARY:RTAS 2022 Notification Due
DESCRIPTION:28th IEEE Real Time Technology and Applications Symposium
URL:http://www.wikicfp.com/cfp/servlet/event.showcfp?eventid=144716&copyo
 wnerid=24331
UID:cfp920620-N@wikicfp.com
END:VEVENT
BEGIN:VEVENT
DTSTAMP:20260422T064454Z
DTSTART;VALUE=DATE:20220711
DTEND;VALUE=DATE:20220714
SUMMARY:OSDI 2022
DESCRIPTION:16th USENIX Symposium on Operating Systems Design and Impleme
 ntation
URL:http://www.wikicfp.com/cfp/servlet/event.showcfp?eventid=143168&copyo
 wnerid=24331
UID:cfp920618-E@wikicfp.com
END:VEVENT
BEGIN:VEVENT
DTSTAMP:20260422T064454Z
DTSTART;VALUE=DATE:20211207
SUMMARY:OSDI 2022 Abstract Due
DESCRIPTION:16th USENIX Symposium on Operating Systems Design and Impleme
 ntation
URL:http://www.wikicfp.com/cfp/servlet/event.showcfp?eventid=143168&copyo
 wnerid=24331
UID:cfp920618-A@wikicfp.com
END:VEVENT
BEGIN:VEVENT
DTSTAMP:20260422T064454Z
DTSTART;VALUE=DATE:20211214
SUMMARY:OSDI 2022 Deadline
DESCRIPTION:16th USENIX Symposium on Operating Systems Design and Impleme
 ntation
URL:http://www.wikicfp.com/cfp/servlet/event.showcfp?eventid=143168&copyo
 wnerid=24331
UID:cfp920618-D@wikicfp.com
END:VEVENT
BEGIN:VEVENT
DTSTAMP:20260422T064454Z
DTSTART;VALUE=DATE:20220602
DTEND;VALUE=DATE:20220603
SUMMARY:VHPC 2022
DESCRIPTION:Virtualization in High-Performance Cloud Computing
URL:http://www.wikicfp.com/cfp/servlet/event.showcfp?eventid=154903&copyo
 wnerid=24331
UID:cfp920607-E@wikicfp.com
END:VEVENT
BEGIN:VEVENT
DTSTAMP:20260422T064454Z
DTSTART;VALUE=DATE:20220419
SUMMARY:VHPC 2022 Abstract Due
DESCRIPTION:Virtualization in High-Performance Cloud Computing
URL:http://www.wikicfp.com/cfp/servlet/event.showcfp?eventid=154903&copyo
 wnerid=24331
UID:cfp920607-A@wikicfp.com
END:VEVENT
BEGIN:VEVENT
DTSTAMP:20260422T064454Z
DTSTART;VALUE=DATE:20220426
SUMMARY:VHPC 2022 Deadline
DESCRIPTION:Virtualization in High-Performance Cloud Computing
URL:http://www.wikicfp.com/cfp/servlet/event.showcfp?eventid=154903&copyo
 wnerid=24331
UID:cfp920607-D@wikicfp.com
END:VEVENT
BEGIN:VEVENT
DTSTAMP:20260422T064454Z
DTSTART;VALUE=DATE:20220506
SUMMARY:VHPC 2022 Notification Due
DESCRIPTION:Virtualization in High-Performance Cloud Computing
URL:http://www.wikicfp.com/cfp/servlet/event.showcfp?eventid=154903&copyo
 wnerid=24331
UID:cfp920607-N@wikicfp.com
END:VEVENT
BEGIN:VEVENT
DTSTAMP:20260422T064454Z
DTSTART;VALUE=DATE:20220710
SUMMARY:VHPC 2022 Final Version Due
DESCRIPTION:Virtualization in High-Performance Cloud Computing
URL:http://www.wikicfp.com/cfp/servlet/event.showcfp?eventid=154903&copyo
 wnerid=24331
UID:cfp920607-N@wikicfp.com
END:VEVENT
BEGIN:VEVENT
DTSTAMP:20260422T064454Z
DTSTART;VALUE=DATE:20230525
DTEND;VALUE=DATE:20230526
SUMMARY:VHPC 2023
DESCRIPTION:Virtualization in High-Performance Cloud Computing
URL:http://www.wikicfp.com/cfp/servlet/event.showcfp?eventid=171271&copyo
 wnerid=24331
UID:cfp956436-E@wikicfp.com
END:VEVENT
BEGIN:VEVENT
DTSTAMP:20260422T064454Z
DTSTART;VALUE=DATE:20230312
SUMMARY:VHPC 2023 Abstract Due
DESCRIPTION:Virtualization in High-Performance Cloud Computing
URL:http://www.wikicfp.com/cfp/servlet/event.showcfp?eventid=171271&copyo
 wnerid=24331
UID:cfp956436-A@wikicfp.com
END:VEVENT
BEGIN:VEVENT
DTSTAMP:20260422T064454Z
DTSTART;VALUE=DATE:20230319
SUMMARY:VHPC 2023 Deadline
DESCRIPTION:Virtualization in High-Performance Cloud Computing
URL:http://www.wikicfp.com/cfp/servlet/event.showcfp?eventid=171271&copyo
 wnerid=24331
UID:cfp956436-D@wikicfp.com
END:VEVENT
BEGIN:VEVENT
DTSTAMP:20260422T064454Z
DTSTART;VALUE=DATE:20230415
SUMMARY:VHPC 2023 Notification Due
DESCRIPTION:Virtualization in High-Performance Cloud Computing
URL:http://www.wikicfp.com/cfp/servlet/event.showcfp?eventid=171271&copyo
 wnerid=24331
UID:cfp956436-N@wikicfp.com
END:VEVENT
BEGIN:VEVENT
DTSTAMP:20260422T064454Z
DTSTART;VALUE=DATE:20240416
DTEND;VALUE=DATE:20240419
SUMMARY:NSDI 2024
DESCRIPTION:The 21st USENIX Symposium on Networked Systems Design and Imp
 lementation
URL:http://www.wikicfp.com/cfp/servlet/event.showcfp?eventid=173164&copyo
 wnerid=24331
UID:cfp989350-E@wikicfp.com
END:VEVENT
BEGIN:VEVENT
DTSTAMP:20260422T064454Z
DTSTART;VALUE=DATE:20230427
SUMMARY:NSDI 2024 Abstract Due
DESCRIPTION:The 21st USENIX Symposium on Networked Systems Design and Imp
 lementation
URL:http://www.wikicfp.com/cfp/servlet/event.showcfp?eventid=173164&copyo
 wnerid=24331
UID:cfp989350-A@wikicfp.com
END:VEVENT
BEGIN:VEVENT
DTSTAMP:20260422T064454Z
DTSTART;VALUE=DATE:20230504
SUMMARY:NSDI 2024 Deadline
DESCRIPTION:The 21st USENIX Symposium on Networked Systems Design and Imp
 lementation
URL:http://www.wikicfp.com/cfp/servlet/event.showcfp?eventid=173164&copyo
 wnerid=24331
UID:cfp989350-D@wikicfp.com
END:VEVENT
BEGIN:VEVENT
DTSTAMP:20260422T064454Z
DTSTART;VALUE=DATE:20230721
SUMMARY:NSDI 2024 Notification Due
DESCRIPTION:The 21st USENIX Symposium on Networked Systems Design and Imp
 lementation
URL:http://www.wikicfp.com/cfp/servlet/event.showcfp?eventid=173164&copyo
 wnerid=24331
UID:cfp989350-N@wikicfp.com
END:VEVENT
BEGIN:VEVENT
DTSTAMP:20260422T064454Z
DTSTART;VALUE=DATE:20231012
SUMMARY:NSDI 2024 Final Version Due
DESCRIPTION:The 21st USENIX Symposium on Networked Systems Design and Imp
 lementation
URL:http://www.wikicfp.com/cfp/servlet/event.showcfp?eventid=173164&copyo
 wnerid=24331
UID:cfp989350-N@wikicfp.com
END:VEVENT
BEGIN:VEVENT
DTSTAMP:20260422T064454Z
DTSTART;VALUE=DATE:20240423
DTEND;VALUE=DATE:20240427
SUMMARY:EuroSys 2024
DESCRIPTION:The European Conference on Computer Systems (Spring Deadline)
 
URL:http://www.wikicfp.com/cfp/servlet/event.showcfp?eventid=172804&copyo
 wnerid=24331
UID:cfp989344-E@wikicfp.com
END:VEVENT
BEGIN:VEVENT
DTSTAMP:20260422T064454Z
DTSTART;VALUE=DATE:20230518
SUMMARY:EuroSys 2024 Deadline
DESCRIPTION:The European Conference on Computer Systems (Spring Deadline)
 
URL:http://www.wikicfp.com/cfp/servlet/event.showcfp?eventid=172804&copyo
 wnerid=24331
UID:cfp989344-D@wikicfp.com
END:VEVENT
BEGIN:VEVENT
DTSTAMP:20260422T064454Z
DTSTART;VALUE=DATE:20240116
DTEND;VALUE=DATE:20240120
SUMMARY:HiPEAC 2024
DESCRIPTION:HiPEAC 2024: The 19th International Conference on High Perfor
 mance\, Edge And Cloud computing
URL:http://www.wikicfp.com/cfp/servlet/event.showcfp?eventid=172771&copyo
 wnerid=24331
UID:cfp989347-E@wikicfp.com
END:VEVENT
BEGIN:VEVENT
DTSTAMP:20260422T064454Z
DTSTART;VALUE=DATE:20230601
SUMMARY:HiPEAC 2024 Deadline
DESCRIPTION:HiPEAC 2024: The 19th International Conference on High Perfor
 mance\, Edge And Cloud computing
URL:http://www.wikicfp.com/cfp/servlet/event.showcfp?eventid=172771&copyo
 wnerid=24331
UID:cfp989347-D@wikicfp.com
END:VEVENT
BEGIN:VEVENT
DTSTAMP:20260422T064454Z
DTSTART;VALUE=DATE:20240423
DTEND;VALUE=DATE:20240427
SUMMARY:EuroSys 2024
DESCRIPTION:The European Conference on Computer Systems (Fall Deadline)
URL:http://www.wikicfp.com/cfp/servlet/event.showcfp?eventid=172805&copyo
 wnerid=24331
UID:cfp989343-E@wikicfp.com
END:VEVENT
BEGIN:VEVENT
DTSTAMP:20260422T064454Z
DTSTART;VALUE=DATE:20231019
SUMMARY:EuroSys 2024 Deadline
DESCRIPTION:The European Conference on Computer Systems (Fall Deadline)
URL:http://www.wikicfp.com/cfp/servlet/event.showcfp?eventid=172805&copyo
 wnerid=24331
UID:cfp989343-D@wikicfp.com
END:VEVENT
BEGIN:VEVENT
DTSTAMP:20260422T064454Z
DTSTART;VALUE=DATE:20240513
DTEND;VALUE=DATE:20240517
SUMMARY:RTAS 2024
DESCRIPTION:IEEE Real-Time and Embedded Technology and Applications Sympo
 sium
URL:http://www.wikicfp.com/cfp/servlet/event.showcfp?eventid=175612&copyo
 wnerid=24331
UID:cfp989349-E@wikicfp.com
END:VEVENT
BEGIN:VEVENT
DTSTAMP:20260422T064454Z
DTSTART;VALUE=DATE:20231031
SUMMARY:RTAS 2024 Deadline
DESCRIPTION:IEEE Real-Time and Embedded Technology and Applications Sympo
 sium
URL:http://www.wikicfp.com/cfp/servlet/event.showcfp?eventid=175612&copyo
 wnerid=24331
UID:cfp989349-D@wikicfp.com
END:VEVENT
BEGIN:VEVENT
DTSTAMP:20260422T064454Z
DTSTART;VALUE=DATE:20240119
SUMMARY:RTAS 2024 Notification Due
DESCRIPTION:IEEE Real-Time and Embedded Technology and Applications Sympo
 sium
URL:http://www.wikicfp.com/cfp/servlet/event.showcfp?eventid=175612&copyo
 wnerid=24331
UID:cfp989349-N@wikicfp.com
END:VEVENT
BEGIN:VEVENT
DTSTAMP:20260422T064454Z
DTSTART;VALUE=DATE:20240710
DTEND;VALUE=DATE:20240713
SUMMARY:OSDI 2024
DESCRIPTION:The 18th USENIX Symposium on Operating Systems Design and Imp
 lementation
URL:http://www.wikicfp.com/cfp/servlet/event.showcfp?eventid=175852&copyo
 wnerid=24331
UID:cfp989351-E@wikicfp.com
END:VEVENT
BEGIN:VEVENT
DTSTAMP:20260422T064454Z
DTSTART;VALUE=DATE:20231130
SUMMARY:OSDI 2024 Abstract Due
DESCRIPTION:The 18th USENIX Symposium on Operating Systems Design and Imp
 lementation
URL:http://www.wikicfp.com/cfp/servlet/event.showcfp?eventid=175852&copyo
 wnerid=24331
UID:cfp989351-A@wikicfp.com
END:VEVENT
BEGIN:VEVENT
DTSTAMP:20260422T064454Z
DTSTART;VALUE=DATE:20231207
SUMMARY:OSDI 2024 Deadline
DESCRIPTION:The 18th USENIX Symposium on Operating Systems Design and Imp
 lementation
URL:http://www.wikicfp.com/cfp/servlet/event.showcfp?eventid=175852&copyo
 wnerid=24331
UID:cfp989351-D@wikicfp.com
END:VEVENT
BEGIN:VEVENT
DTSTAMP:20260422T064454Z
DTSTART;VALUE=DATE:20240321
SUMMARY:OSDI 2024 Notification Due
DESCRIPTION:The 18th USENIX Symposium on Operating Systems Design and Imp
 lementation
URL:http://www.wikicfp.com/cfp/servlet/event.showcfp?eventid=175852&copyo
 wnerid=24331
UID:cfp989351-N@wikicfp.com
END:VEVENT
BEGIN:VEVENT
DTSTAMP:20260422T064454Z
DTSTART;VALUE=DATE:20240604
SUMMARY:OSDI 2024 Final Version Due
DESCRIPTION:The 18th USENIX Symposium on Operating Systems Design and Imp
 lementation
URL:http://www.wikicfp.com/cfp/servlet/event.showcfp?eventid=175852&copyo
 wnerid=24331
UID:cfp989351-N@wikicfp.com
END:VEVENT
BEGIN:VEVENT
DTSTAMP:20260422T064454Z
DTSTART;VALUE=DATE:20240502
DTEND;VALUE=DATE:20240505
SUMMARY:CLOSER 2024
DESCRIPTION:14th International Conference on Cloud Computing and Services
  Science
URL:http://www.wikicfp.com/cfp/servlet/event.showcfp?eventid=176293&copyo
 wnerid=24331
UID:cfp989342-E@wikicfp.com
END:VEVENT
BEGIN:VEVENT
DTSTAMP:20260422T064454Z
DTSTART;VALUE=DATE:20231213
SUMMARY:CLOSER 2024 Deadline
DESCRIPTION:14th International Conference on Cloud Computing and Services
  Science
URL:http://www.wikicfp.com/cfp/servlet/event.showcfp?eventid=176293&copyo
 wnerid=24331
UID:cfp989342-D@wikicfp.com
END:VEVENT
BEGIN:VEVENT
DTSTAMP:20260422T064454Z
DTSTART;VALUE=DATE:20240208
SUMMARY:CLOSER 2024 Notification Due
DESCRIPTION:14th International Conference on Cloud Computing and Services
  Science
URL:http://www.wikicfp.com/cfp/servlet/event.showcfp?eventid=176293&copyo
 wnerid=24331
UID:cfp989342-N@wikicfp.com
END:VEVENT
BEGIN:VEVENT
DTSTAMP:20260422T064454Z
DTSTART;VALUE=DATE:20240222
SUMMARY:CLOSER 2024 Final Version Due
DESCRIPTION:14th International Conference on Cloud Computing and Services
  Science
URL:http://www.wikicfp.com/cfp/servlet/event.showcfp?eventid=176293&copyo
 wnerid=24331
UID:cfp989342-N@wikicfp.com
END:VEVENT
BEGIN:VEVENT
DTSTAMP:20260422T064454Z
DTSTART;VALUE=DATE:20240422
DTEND;VALUE=DATE:20240423
SUMMARY:EdgeSys 2024
DESCRIPTION:The 7th International Workshop on Edge Systems\, Analytics an
 d Networking
URL:http://www.wikicfp.com/cfp/servlet/event.showcfp?eventid=178430&copyo
 wnerid=24331
UID:cfp989353-E@wikicfp.com
END:VEVENT
BEGIN:VEVENT
DTSTAMP:20260422T064454Z
DTSTART;VALUE=DATE:20240223
SUMMARY:EdgeSys 2024 Deadline
DESCRIPTION:The 7th International Workshop on Edge Systems\, Analytics an
 d Networking
URL:http://www.wikicfp.com/cfp/servlet/event.showcfp?eventid=178430&copyo
 wnerid=24331
UID:cfp989353-D@wikicfp.com
END:VEVENT
BEGIN:VEVENT
DTSTAMP:20260422T064454Z
DTSTART;VALUE=DATE:20240322
SUMMARY:EdgeSys 2024 Notification Due
DESCRIPTION:The 7th International Workshop on Edge Systems\, Analytics an
 d Networking
URL:http://www.wikicfp.com/cfp/servlet/event.showcfp?eventid=178430&copyo
 wnerid=24331
UID:cfp989353-N@wikicfp.com
END:VEVENT
BEGIN:VEVENT
DTSTAMP:20260422T064454Z
DTSTART;VALUE=DATE:20240329
SUMMARY:EdgeSys 2024 Final Version Due
DESCRIPTION:The 7th International Workshop on Edge Systems\, Analytics an
 d Networking
URL:http://www.wikicfp.com/cfp/servlet/event.showcfp?eventid=178430&copyo
 wnerid=24331
UID:cfp989353-N@wikicfp.com
END:VEVENT
BEGIN:VEVENT
DTSTAMP:20260422T064454Z
DTSTART;VALUE=DATE:20240826
DTEND;VALUE=DATE:20240831
SUMMARY:Euro-Par 2024
DESCRIPTION:30th International European Conference on Parallel and Distri
 buted Computing
URL:http://www.wikicfp.com/cfp/servlet/event.showcfp?eventid=176920&copyo
 wnerid=24331
UID:cfp989352-E@wikicfp.com
END:VEVENT
BEGIN:VEVENT
DTSTAMP:20260422T064454Z
DTSTART;VALUE=DATE:20240305
SUMMARY:Euro-Par 2024 Abstract Due
DESCRIPTION:30th International European Conference on Parallel and Distri
 buted Computing
URL:http://www.wikicfp.com/cfp/servlet/event.showcfp?eventid=176920&copyo
 wnerid=24331
UID:cfp989352-A@wikicfp.com
END:VEVENT
BEGIN:VEVENT
DTSTAMP:20260422T064454Z
DTSTART;VALUE=DATE:20240315
SUMMARY:Euro-Par 2024 Deadline
DESCRIPTION:30th International European Conference on Parallel and Distri
 buted Computing
URL:http://www.wikicfp.com/cfp/servlet/event.showcfp?eventid=176920&copyo
 wnerid=24331
UID:cfp989352-D@wikicfp.com
END:VEVENT
BEGIN:VEVENT
DTSTAMP:20260422T064454Z
DTSTART;VALUE=DATE:20240429
SUMMARY:Euro-Par 2024 Notification Due
DESCRIPTION:30th International European Conference on Parallel and Distri
 buted Computing
URL:http://www.wikicfp.com/cfp/servlet/event.showcfp?eventid=176920&copyo
 wnerid=24331
UID:cfp989352-N@wikicfp.com
END:VEVENT
BEGIN:VEVENT
DTSTAMP:20260422T064454Z
DTSTART;VALUE=DATE:20240602
SUMMARY:Euro-Par 2024 Final Version Due
DESCRIPTION:30th International European Conference on Parallel and Distri
 buted Computing
URL:http://www.wikicfp.com/cfp/servlet/event.showcfp?eventid=176920&copyo
 wnerid=24331
UID:cfp989352-N@wikicfp.com
END:VEVENT
BEGIN:VEVENT
DTSTAMP:20260422T064454Z
DTSTART;VALUE=DATE:20241117
DTEND;VALUE=DATE:20241123
SUMMARY:SC 2024
DESCRIPTION:The International Conference for High Performance Computing\,
  Networking\, Storage\, and Analysis
URL:http://www.wikicfp.com/cfp/servlet/event.showcfp?eventid=177547&copyo
 wnerid=24331
UID:cfp989348-E@wikicfp.com
END:VEVENT
BEGIN:VEVENT
DTSTAMP:20260422T064454Z
DTSTART;VALUE=DATE:20240326
SUMMARY:SC 2024 Abstract Due
DESCRIPTION:The International Conference for High Performance Computing\,
  Networking\, Storage\, and Analysis
URL:http://www.wikicfp.com/cfp/servlet/event.showcfp?eventid=177547&copyo
 wnerid=24331
UID:cfp989348-A@wikicfp.com
END:VEVENT
BEGIN:VEVENT
DTSTAMP:20260422T064454Z
DTSTART;VALUE=DATE:20240402
SUMMARY:SC 2024 Deadline
DESCRIPTION:The International Conference for High Performance Computing\,
  Networking\, Storage\, and Analysis
URL:http://www.wikicfp.com/cfp/servlet/event.showcfp?eventid=177547&copyo
 wnerid=24331
UID:cfp989348-D@wikicfp.com
END:VEVENT
BEGIN:VEVENT
DTSTAMP:20260422T064454Z
DTSTART;VALUE=DATE:20040614
SUMMARY:SC 2024 Notification Due
DESCRIPTION:The International Conference for High Performance Computing\,
  Networking\, Storage\, and Analysis
URL:http://www.wikicfp.com/cfp/servlet/event.showcfp?eventid=177547&copyo
 wnerid=24331
UID:cfp989348-N@wikicfp.com
END:VEVENT
BEGIN:VEVENT
DTSTAMP:20260422T064454Z
DTSTART;VALUE=DATE:20240924
DTEND;VALUE=DATE:20240928
SUMMARY:IC2E 2024
DESCRIPTION:12th IEEE International Conference on Cloud Engineering 
URL:http://www.wikicfp.com/cfp/servlet/event.showcfp?eventid=177539&copyo
 wnerid=24331
UID:cfp989346-E@wikicfp.com
END:VEVENT
BEGIN:VEVENT
DTSTAMP:20260422T064454Z
DTSTART;VALUE=DATE:20240412
SUMMARY:IC2E 2024 Abstract Due
DESCRIPTION:12th IEEE International Conference on Cloud Engineering 
URL:http://www.wikicfp.com/cfp/servlet/event.showcfp?eventid=177539&copyo
 wnerid=24331
UID:cfp989346-A@wikicfp.com
END:VEVENT
BEGIN:VEVENT
DTSTAMP:20260422T064454Z
DTSTART;VALUE=DATE:20240419
SUMMARY:IC2E 2024 Deadline
DESCRIPTION:12th IEEE International Conference on Cloud Engineering 
URL:http://www.wikicfp.com/cfp/servlet/event.showcfp?eventid=177539&copyo
 wnerid=24331
UID:cfp989346-D@wikicfp.com
END:VEVENT
BEGIN:VEVENT
DTSTAMP:20260422T064454Z
DTSTART;VALUE=DATE:20240630
SUMMARY:IC2E 2024 Notification Due
DESCRIPTION:12th IEEE International Conference on Cloud Engineering 
URL:http://www.wikicfp.com/cfp/servlet/event.showcfp?eventid=177539&copyo
 wnerid=24331
UID:cfp989346-N@wikicfp.com
END:VEVENT
BEGIN:VEVENT
DTSTAMP:20260422T064454Z
DTSTART;VALUE=DATE:20240802
SUMMARY:IC2E 2024 Final Version Due
DESCRIPTION:12th IEEE International Conference on Cloud Engineering 
URL:http://www.wikicfp.com/cfp/servlet/event.showcfp?eventid=177539&copyo
 wnerid=24331
UID:cfp989346-N@wikicfp.com
END:VEVENT
BEGIN:VEVENT
DTSTAMP:20260422T064454Z
DTSTART;VALUE=DATE:20240826
DTEND;VALUE=DATE:20240828
SUMMARY:VHPC 2024
DESCRIPTION:19th Workshop on Virtualization in High-Performance Cloud Com
 puting
URL:http://www.wikicfp.com/cfp/servlet/event.showcfp?eventid=179753&copyo
 wnerid=24331
UID:cfp989441-E@wikicfp.com
END:VEVENT
BEGIN:VEVENT
DTSTAMP:20260422T064454Z
DTSTART;VALUE=DATE:20240506
SUMMARY:VHPC 2024 Deadline
DESCRIPTION:19th Workshop on Virtualization in High-Performance Cloud Com
 puting
URL:http://www.wikicfp.com/cfp/servlet/event.showcfp?eventid=179753&copyo
 wnerid=24331
UID:cfp989441-D@wikicfp.com
END:VEVENT
BEGIN:VEVENT
DTSTAMP:20260422T064454Z
DTSTART;VALUE=DATE:20240620
SUMMARY:VHPC 2024 Notification Due
DESCRIPTION:19th Workshop on Virtualization in High-Performance Cloud Com
 puting
URL:http://www.wikicfp.com/cfp/servlet/event.showcfp?eventid=179753&copyo
 wnerid=24331
UID:cfp989441-N@wikicfp.com
END:VEVENT
BEGIN:VEVENT
DTSTAMP:20260422T064454Z
DTSTART;VALUE=DATE:20240701
SUMMARY:VHPC 2024 Final Version Due
DESCRIPTION:19th Workshop on Virtualization in High-Performance Cloud Com
 puting
URL:http://www.wikicfp.com/cfp/servlet/event.showcfp?eventid=179753&copyo
 wnerid=24331
UID:cfp989441-N@wikicfp.com
END:VEVENT
BEGIN:VEVENT
DTSTAMP:20260422T064454Z
DTSTART;VALUE=DATE:20240826
DTEND;VALUE=DATE:20240828
SUMMARY:VHPC 2024
DESCRIPTION:19th Workshop on Virtualization in High-Performance Cloud Com
 puting
URL:http://www.wikicfp.com/cfp/servlet/event.showcfp?eventid=179773&copyo
 wnerid=24331
UID:cfp989486-E@wikicfp.com
END:VEVENT
BEGIN:VEVENT
DTSTAMP:20260422T064454Z
DTSTART;VALUE=DATE:20240506
SUMMARY:VHPC 2024 Deadline
DESCRIPTION:19th Workshop on Virtualization in High-Performance Cloud Com
 puting
URL:http://www.wikicfp.com/cfp/servlet/event.showcfp?eventid=179773&copyo
 wnerid=24331
UID:cfp989486-D@wikicfp.com
END:VEVENT
BEGIN:VEVENT
DTSTAMP:20260422T064454Z
DTSTART;VALUE=DATE:20240620
SUMMARY:VHPC 2024 Notification Due
DESCRIPTION:19th Workshop on Virtualization in High-Performance Cloud Com
 puting
URL:http://www.wikicfp.com/cfp/servlet/event.showcfp?eventid=179773&copyo
 wnerid=24331
UID:cfp989486-N@wikicfp.com
END:VEVENT
BEGIN:VEVENT
DTSTAMP:20260422T064454Z
DTSTART;VALUE=DATE:20240701
SUMMARY:VHPC 2024 Final Version Due
DESCRIPTION:19th Workshop on Virtualization in High-Performance Cloud Com
 puting
URL:http://www.wikicfp.com/cfp/servlet/event.showcfp?eventid=179773&copyo
 wnerid=24331
UID:cfp989486-N@wikicfp.com
END:VEVENT
BEGIN:VEVENT
DTSTAMP:20260422T064454Z
DTSTART;VALUE=DATE:20241216
DTEND;VALUE=DATE:20241220
SUMMARY:UCC 2024
DESCRIPTION:The IEEE/ACM International Conference on Utility and Cloud Co
 mputing 
URL:http://www.wikicfp.com/cfp/servlet/event.showcfp?eventid=179126&copyo
 wnerid=24331
UID:cfp989345-E@wikicfp.com
END:VEVENT
BEGIN:VEVENT
DTSTAMP:20260422T064454Z
DTSTART;VALUE=DATE:20240810
SUMMARY:UCC 2024 Deadline
DESCRIPTION:The IEEE/ACM International Conference on Utility and Cloud Co
 mputing 
URL:http://www.wikicfp.com/cfp/servlet/event.showcfp?eventid=179126&copyo
 wnerid=24331
UID:cfp989345-D@wikicfp.com
END:VEVENT
BEGIN:VEVENT
DTSTAMP:20260422T064454Z
DTSTART;VALUE=DATE:20240907
SUMMARY:UCC 2024 Notification Due
DESCRIPTION:The IEEE/ACM International Conference on Utility and Cloud Co
 mputing 
URL:http://www.wikicfp.com/cfp/servlet/event.showcfp?eventid=179126&copyo
 wnerid=24331
UID:cfp989345-N@wikicfp.com
END:VEVENT
BEGIN:VEVENT
DTSTAMP:20260422T064454Z
DTSTART;VALUE=DATE:20241020
SUMMARY:UCC 2024 Final Version Due
DESCRIPTION:The IEEE/ACM International Conference on Utility and Cloud Co
 mputing 
URL:http://www.wikicfp.com/cfp/servlet/event.showcfp?eventid=179126&copyo
 wnerid=24331
UID:cfp989345-N@wikicfp.com
END:VEVENT
END:VCALENDAR
