BEGIN:VCALENDAR
PRODID:-//WikiCFP//mehdi_10f 1.0//EN
VERSION:2.0
CALSCALE:GREGORIAN
BEGIN:VEVENT
DTSTAMP:20260419T152002Z
DTSTART;VALUE=DATE:20181111
DTEND;VALUE=DATE:20181117
SUMMARY:SC 2018
DESCRIPTION:The International Conference for High Performance Computing\,
  Networking\, Storage\, and Analysis
URL:http://www.wikicfp.com/cfp/servlet/event.showcfp?eventid=72105&copyow
 nerid=24134
UID:cfp713216-E@wikicfp.com
END:VEVENT
BEGIN:VEVENT
DTSTAMP:20260419T152002Z
DTSTART;VALUE=DATE:20180319
SUMMARY:SC 2018 Abstract Due
DESCRIPTION:The International Conference for High Performance Computing\,
  Networking\, Storage\, and Analysis
URL:http://www.wikicfp.com/cfp/servlet/event.showcfp?eventid=72105&copyow
 nerid=24134
UID:cfp713216-A@wikicfp.com
END:VEVENT
BEGIN:VEVENT
DTSTAMP:20260419T152002Z
DTSTART;VALUE=DATE:20180326
SUMMARY:SC 2018 Deadline
DESCRIPTION:The International Conference for High Performance Computing\,
  Networking\, Storage\, and Analysis
URL:http://www.wikicfp.com/cfp/servlet/event.showcfp?eventid=72105&copyow
 nerid=24134
UID:cfp713216-D@wikicfp.com
END:VEVENT
BEGIN:VEVENT
DTSTAMP:20260419T152002Z
DTSTART;VALUE=DATE:20180615
SUMMARY:SC 2018 Notification Due
DESCRIPTION:The International Conference for High Performance Computing\,
  Networking\, Storage\, and Analysis
URL:http://www.wikicfp.com/cfp/servlet/event.showcfp?eventid=72105&copyow
 nerid=24134
UID:cfp713216-N@wikicfp.com
END:VEVENT
BEGIN:VEVENT
DTSTAMP:20260419T152002Z
DTSTART;VALUE=DATE:20180828
SUMMARY:SC 2018 Final Version Due
DESCRIPTION:The International Conference for High Performance Computing\,
  Networking\, Storage\, and Analysis
URL:http://www.wikicfp.com/cfp/servlet/event.showcfp?eventid=72105&copyow
 nerid=24134
UID:cfp713216-N@wikicfp.com
END:VEVENT
BEGIN:VEVENT
DTSTAMP:20260419T152002Z
DTSTART;VALUE=DATE:20180924
DTEND;VALUE=DATE:20180928
SUMMARY:SBAC-PAD 2018
DESCRIPTION:SBAC-PAD 2018\, International Symposium on Computer Architect
 ure and High Performance Computing\, Lyon\, France\, September 24-27\, 2
 018
URL:http://www.wikicfp.com/cfp/servlet/event.showcfp?eventid=73160&copyow
 nerid=24134
UID:cfp712341-E@wikicfp.com
END:VEVENT
BEGIN:VEVENT
DTSTAMP:20260419T152002Z
DTSTART;VALUE=DATE:20180511
SUMMARY:SBAC-PAD 2018 Abstract Due
DESCRIPTION:SBAC-PAD 2018\, International Symposium on Computer Architect
 ure and High Performance Computing\, Lyon\, France\, September 24-27\, 2
 018
URL:http://www.wikicfp.com/cfp/servlet/event.showcfp?eventid=73160&copyow
 nerid=24134
UID:cfp712341-A@wikicfp.com
END:VEVENT
BEGIN:VEVENT
DTSTAMP:20260419T152002Z
DTSTART;VALUE=DATE:20180518
SUMMARY:SBAC-PAD 2018 Deadline
DESCRIPTION:SBAC-PAD 2018\, International Symposium on Computer Architect
 ure and High Performance Computing\, Lyon\, France\, September 24-27\, 2
 018
URL:http://www.wikicfp.com/cfp/servlet/event.showcfp?eventid=73160&copyow
 nerid=24134
UID:cfp712341-D@wikicfp.com
END:VEVENT
BEGIN:VEVENT
DTSTAMP:20260419T152002Z
DTSTART;VALUE=DATE:20180706
SUMMARY:SBAC-PAD 2018 Notification Due
DESCRIPTION:SBAC-PAD 2018\, International Symposium on Computer Architect
 ure and High Performance Computing\, Lyon\, France\, September 24-27\, 2
 018
URL:http://www.wikicfp.com/cfp/servlet/event.showcfp?eventid=73160&copyow
 nerid=24134
UID:cfp712341-N@wikicfp.com
END:VEVENT
BEGIN:VEVENT
DTSTAMP:20260419T152002Z
DTSTART;VALUE=DATE:20180720
SUMMARY:SBAC-PAD 2018 Final Version Due
DESCRIPTION:SBAC-PAD 2018\, International Symposium on Computer Architect
 ure and High Performance Computing\, Lyon\, France\, September 24-27\, 2
 018
URL:http://www.wikicfp.com/cfp/servlet/event.showcfp?eventid=73160&copyow
 nerid=24134
UID:cfp712341-N@wikicfp.com
END:VEVENT
BEGIN:VEVENT
DTSTAMP:20260419T152002Z
DTSTART;VALUE=DATE:20181007
DTEND;VALUE=DATE:20181011
SUMMARY:ICCD 2018
DESCRIPTION:IEEE International Conference on Computer Design
URL:http://www.wikicfp.com/cfp/servlet/event.showcfp?eventid=75222&copyow
 nerid=24134
UID:cfp725770-E@wikicfp.com
END:VEVENT
BEGIN:VEVENT
DTSTAMP:20260419T152002Z
DTSTART;VALUE=DATE:20180518
SUMMARY:ICCD 2018 Abstract Due
DESCRIPTION:IEEE International Conference on Computer Design
URL:http://www.wikicfp.com/cfp/servlet/event.showcfp?eventid=75222&copyow
 nerid=24134
UID:cfp725770-A@wikicfp.com
END:VEVENT
BEGIN:VEVENT
DTSTAMP:20260419T152002Z
DTSTART;VALUE=DATE:20180525
SUMMARY:ICCD 2018 Deadline
DESCRIPTION:IEEE International Conference on Computer Design
URL:http://www.wikicfp.com/cfp/servlet/event.showcfp?eventid=75222&copyow
 nerid=24134
UID:cfp725770-D@wikicfp.com
END:VEVENT
BEGIN:VEVENT
DTSTAMP:20260419T152002Z
DTSTART;VALUE=DATE:20180806
SUMMARY:ICCD 2018 Notification Due
DESCRIPTION:IEEE International Conference on Computer Design
URL:http://www.wikicfp.com/cfp/servlet/event.showcfp?eventid=75222&copyow
 nerid=24134
UID:cfp725770-N@wikicfp.com
END:VEVENT
BEGIN:VEVENT
DTSTAMP:20260419T152002Z
DTSTART;VALUE=DATE:20180831
SUMMARY:ICCD 2018 Final Version Due
DESCRIPTION:IEEE International Conference on Computer Design
URL:http://www.wikicfp.com/cfp/servlet/event.showcfp?eventid=75222&copyow
 nerid=24134
UID:cfp725770-N@wikicfp.com
END:VEVENT
BEGIN:VEVENT
DTSTAMP:20260419T152002Z
DTSTART;VALUE=DATE:20190216
DTEND;VALUE=DATE:20190221
SUMMARY:PPoPP 2019
DESCRIPTION:24th ACM SIGPLAN Symposium on Principles and Practice of Para
 llel Programming
URL:http://www.wikicfp.com/cfp/servlet/event.showcfp?eventid=78249&copyow
 nerid=24134
UID:cfp792669-E@wikicfp.com
END:VEVENT
BEGIN:VEVENT
DTSTAMP:20260419T152002Z
DTSTART;VALUE=DATE:20180813
SUMMARY:PPoPP 2019 Abstract Due
DESCRIPTION:24th ACM SIGPLAN Symposium on Principles and Practice of Para
 llel Programming
URL:http://www.wikicfp.com/cfp/servlet/event.showcfp?eventid=78249&copyow
 nerid=24134
UID:cfp792669-A@wikicfp.com
END:VEVENT
BEGIN:VEVENT
DTSTAMP:20260419T152002Z
DTSTART;VALUE=DATE:20180820
SUMMARY:PPoPP 2019 Deadline
DESCRIPTION:24th ACM SIGPLAN Symposium on Principles and Practice of Para
 llel Programming
URL:http://www.wikicfp.com/cfp/servlet/event.showcfp?eventid=78249&copyow
 nerid=24134
UID:cfp792669-D@wikicfp.com
END:VEVENT
BEGIN:VEVENT
DTSTAMP:20260419T152002Z
DTSTART;VALUE=DATE:20181115
SUMMARY:PPoPP 2019 Notification Due
DESCRIPTION:24th ACM SIGPLAN Symposium on Principles and Practice of Para
 llel Programming
URL:http://www.wikicfp.com/cfp/servlet/event.showcfp?eventid=78249&copyow
 nerid=24134
UID:cfp792669-N@wikicfp.com
END:VEVENT
BEGIN:VEVENT
DTSTAMP:20260419T152002Z
DTSTART;VALUE=DATE:20190104
SUMMARY:PPoPP 2019 Final Version Due
DESCRIPTION:24th ACM SIGPLAN Symposium on Principles and Practice of Para
 llel Programming
URL:http://www.wikicfp.com/cfp/servlet/event.showcfp?eventid=78249&copyow
 nerid=24134
UID:cfp792669-N@wikicfp.com
END:VEVENT
BEGIN:VEVENT
DTSTAMP:20260419T152002Z
DTSTART;VALUE=DATE:20190216
DTEND;VALUE=DATE:20190218
SUMMARY:CC 2019
DESCRIPTION:Compiler Construction
URL:http://www.wikicfp.com/cfp/servlet/event.showcfp?eventid=80607&copyow
 nerid=24134
UID:cfp792671-E@wikicfp.com
END:VEVENT
BEGIN:VEVENT
DTSTAMP:20260419T152002Z
DTSTART;VALUE=DATE:20181102
SUMMARY:CC 2019 Abstract Due
DESCRIPTION:Compiler Construction
URL:http://www.wikicfp.com/cfp/servlet/event.showcfp?eventid=80607&copyow
 nerid=24134
UID:cfp792671-A@wikicfp.com
END:VEVENT
BEGIN:VEVENT
DTSTAMP:20260419T152002Z
DTSTART;VALUE=DATE:20181107
SUMMARY:CC 2019 Deadline
DESCRIPTION:Compiler Construction
URL:http://www.wikicfp.com/cfp/servlet/event.showcfp?eventid=80607&copyow
 nerid=24134
UID:cfp792671-D@wikicfp.com
END:VEVENT
BEGIN:VEVENT
DTSTAMP:20260419T152002Z
DTSTART;VALUE=DATE:20190101
SUMMARY:CC 2019 Notification Due
DESCRIPTION:Compiler Construction
URL:http://www.wikicfp.com/cfp/servlet/event.showcfp?eventid=80607&copyow
 nerid=24134
UID:cfp792671-N@wikicfp.com
END:VEVENT
BEGIN:VEVENT
DTSTAMP:20260419T152002Z
DTSTART;VALUE=DATE:20190115
SUMMARY:CC 2019 Final Version Due
DESCRIPTION:Compiler Construction
URL:http://www.wikicfp.com/cfp/servlet/event.showcfp?eventid=80607&copyow
 nerid=24134
UID:cfp792671-N@wikicfp.com
END:VEVENT
BEGIN:VEVENT
DTSTAMP:20260419T152002Z
DTSTART;VALUE=DATE:20190622
DTEND;VALUE=DATE:20190627
SUMMARY:ISCA 2019
DESCRIPTION:International Symposium on Computer Architecture
URL:http://www.wikicfp.com/cfp/servlet/event.showcfp?eventid=80844&copyow
 nerid=24134
UID:cfp745862-E@wikicfp.com
END:VEVENT
BEGIN:VEVENT
DTSTAMP:20260419T152002Z
DTSTART;VALUE=DATE:20181203
SUMMARY:ISCA 2019 Abstract Due
DESCRIPTION:International Symposium on Computer Architecture
URL:http://www.wikicfp.com/cfp/servlet/event.showcfp?eventid=80844&copyow
 nerid=24134
UID:cfp745862-A@wikicfp.com
END:VEVENT
BEGIN:VEVENT
DTSTAMP:20260419T152002Z
DTSTART;VALUE=DATE:20181207
SUMMARY:ISCA 2019 Deadline
DESCRIPTION:International Symposium on Computer Architecture
URL:http://www.wikicfp.com/cfp/servlet/event.showcfp?eventid=80844&copyow
 nerid=24134
UID:cfp745862-D@wikicfp.com
END:VEVENT
BEGIN:VEVENT
DTSTAMP:20260419T152002Z
DTSTART;VALUE=DATE:20190315
SUMMARY:ISCA 2019 Notification Due
DESCRIPTION:International Symposium on Computer Architecture
URL:http://www.wikicfp.com/cfp/servlet/event.showcfp?eventid=80844&copyow
 nerid=24134
UID:cfp745862-N@wikicfp.com
END:VEVENT
BEGIN:VEVENT
DTSTAMP:20260419T152002Z
DTSTART;VALUE=DATE:20190415
SUMMARY:ISCA 2019 Final Version Due
DESCRIPTION:International Symposium on Computer Architecture
URL:http://www.wikicfp.com/cfp/servlet/event.showcfp?eventid=80844&copyow
 nerid=24134
UID:cfp745862-N@wikicfp.com
END:VEVENT
BEGIN:VEVENT
DTSTAMP:20260419T152002Z
DTSTART;VALUE=DATE:20190616
DTEND;VALUE=DATE:20190621
SUMMARY:ISC HPC 2019
DESCRIPTION:ISC High Performance 2019
URL:http://www.wikicfp.com/cfp/servlet/event.showcfp?eventid=81796&copyow
 nerid=24134
UID:cfp756441-E@wikicfp.com
END:VEVENT
BEGIN:VEVENT
DTSTAMP:20260419T152002Z
DTSTART;VALUE=DATE:20181212
SUMMARY:ISC HPC 2019 Deadline
DESCRIPTION:ISC High Performance 2019
URL:http://www.wikicfp.com/cfp/servlet/event.showcfp?eventid=81796&copyow
 nerid=24134
UID:cfp756441-D@wikicfp.com
END:VEVENT
BEGIN:VEVENT
DTSTAMP:20260419T152002Z
DTSTART;VALUE=DATE:20190227
SUMMARY:ISC HPC 2019 Notification Due
DESCRIPTION:ISC High Performance 2019
URL:http://www.wikicfp.com/cfp/servlet/event.showcfp?eventid=81796&copyow
 nerid=24134
UID:cfp756441-N@wikicfp.com
END:VEVENT
BEGIN:VEVENT
DTSTAMP:20260419T152002Z
DTSTART;VALUE=DATE:20190325
SUMMARY:ISC HPC 2019 Final Version Due
DESCRIPTION:ISC High Performance 2019
URL:http://www.wikicfp.com/cfp/servlet/event.showcfp?eventid=81796&copyow
 nerid=24134
UID:cfp756441-N@wikicfp.com
END:VEVENT
BEGIN:VEVENT
DTSTAMP:20260419T152002Z
DTSTART;VALUE=DATE:20190429
DTEND;VALUE=DATE:20190503
SUMMARY:HPC 2019
DESCRIPTION:High Performance Computing
URL:http://www.wikicfp.com/cfp/servlet/event.showcfp?eventid=79609&copyow
 nerid=24134
UID:cfp753376-E@wikicfp.com
END:VEVENT
BEGIN:VEVENT
DTSTAMP:20260419T152002Z
DTSTART;VALUE=DATE:20181216
SUMMARY:HPC 2019 Deadline
DESCRIPTION:High Performance Computing
URL:http://www.wikicfp.com/cfp/servlet/event.showcfp?eventid=79609&copyow
 nerid=24134
UID:cfp753376-D@wikicfp.com
END:VEVENT
BEGIN:VEVENT
DTSTAMP:20260419T152002Z
DTSTART;VALUE=DATE:20190208
SUMMARY:HPC 2019 Notification Due
DESCRIPTION:High Performance Computing
URL:http://www.wikicfp.com/cfp/servlet/event.showcfp?eventid=79609&copyow
 nerid=24134
UID:cfp753376-N@wikicfp.com
END:VEVENT
BEGIN:VEVENT
DTSTAMP:20260419T152002Z
DTSTART;VALUE=DATE:20190222
SUMMARY:HPC 2019 Final Version Due
DESCRIPTION:High Performance Computing
URL:http://www.wikicfp.com/cfp/servlet/event.showcfp?eventid=79609&copyow
 nerid=24134
UID:cfp753376-N@wikicfp.com
END:VEVENT
BEGIN:VEVENT
DTSTAMP:20260419T152002Z
DTSTART;VALUE=DATE:20190626
DTEND;VALUE=DATE:20190629
SUMMARY:ICS 2019
DESCRIPTION:International Conference on Supercomputing
URL:http://www.wikicfp.com/cfp/servlet/event.showcfp?eventid=81824&copyow
 nerid=24134
UID:cfp764341-E@wikicfp.com
END:VEVENT
BEGIN:VEVENT
DTSTAMP:20260419T152002Z
DTSTART;VALUE=DATE:20190125
SUMMARY:ICS 2019 Abstract Due
DESCRIPTION:International Conference on Supercomputing
URL:http://www.wikicfp.com/cfp/servlet/event.showcfp?eventid=81824&copyow
 nerid=24134
UID:cfp764341-A@wikicfp.com
END:VEVENT
BEGIN:VEVENT
DTSTAMP:20260419T152002Z
DTSTART;VALUE=DATE:20190201
SUMMARY:ICS 2019 Deadline
DESCRIPTION:International Conference on Supercomputing
URL:http://www.wikicfp.com/cfp/servlet/event.showcfp?eventid=81824&copyow
 nerid=24134
UID:cfp764341-D@wikicfp.com
END:VEVENT
BEGIN:VEVENT
DTSTAMP:20260419T152002Z
DTSTART;VALUE=DATE:20190810
DTEND;VALUE=DATE:20190813
SUMMARY:HPCC 2019
DESCRIPTION:The 21st IEEE International Conference on High Performance Co
 mputing and Communications
URL:http://www.wikicfp.com/cfp/servlet/event.showcfp?eventid=84242&copyow
 nerid=24134
UID:cfp768701-E@wikicfp.com
END:VEVENT
BEGIN:VEVENT
DTSTAMP:20260419T152002Z
DTSTART;VALUE=DATE:20190210
SUMMARY:HPCC 2019 Deadline
DESCRIPTION:The 21st IEEE International Conference on High Performance Co
 mputing and Communications
URL:http://www.wikicfp.com/cfp/servlet/event.showcfp?eventid=84242&copyow
 nerid=24134
UID:cfp768701-D@wikicfp.com
END:VEVENT
BEGIN:VEVENT
DTSTAMP:20260419T152002Z
DTSTART;VALUE=DATE:20190422
SUMMARY:HPCC 2019 Notification Due
DESCRIPTION:The 21st IEEE International Conference on High Performance Co
 mputing and Communications
URL:http://www.wikicfp.com/cfp/servlet/event.showcfp?eventid=84242&copyow
 nerid=24134
UID:cfp768701-N@wikicfp.com
END:VEVENT
BEGIN:VEVENT
DTSTAMP:20260419T152002Z
DTSTART;VALUE=DATE:20190525
SUMMARY:HPCC 2019 Final Version Due
DESCRIPTION:The 21st IEEE International Conference on High Performance Co
 mputing and Communications
URL:http://www.wikicfp.com/cfp/servlet/event.showcfp?eventid=84242&copyow
 nerid=24134
UID:cfp768701-N@wikicfp.com
END:VEVENT
BEGIN:VEVENT
DTSTAMP:20260419T152002Z
DTSTART;VALUE=DATE:20191012
DTEND;VALUE=DATE:20191017
SUMMARY:MICRO 2019
DESCRIPTION:52nd IEEE/ACM International Symposium on Microarchitecture
URL:http://www.wikicfp.com/cfp/servlet/event.showcfp?eventid=85523&copyow
 nerid=24134
UID:cfp770352-E@wikicfp.com
END:VEVENT
BEGIN:VEVENT
DTSTAMP:20260419T152002Z
DTSTART;VALUE=DATE:20190329
SUMMARY:MICRO 2019 Abstract Due
DESCRIPTION:52nd IEEE/ACM International Symposium on Microarchitecture
URL:http://www.wikicfp.com/cfp/servlet/event.showcfp?eventid=85523&copyow
 nerid=24134
UID:cfp770352-A@wikicfp.com
END:VEVENT
BEGIN:VEVENT
DTSTAMP:20260419T152002Z
DTSTART;VALUE=DATE:20190405
SUMMARY:MICRO 2019 Deadline
DESCRIPTION:52nd IEEE/ACM International Symposium on Microarchitecture
URL:http://www.wikicfp.com/cfp/servlet/event.showcfp?eventid=85523&copyow
 nerid=24134
UID:cfp770352-D@wikicfp.com
END:VEVENT
BEGIN:VEVENT
DTSTAMP:20260419T152002Z
DTSTART;VALUE=DATE:20190727
SUMMARY:MICRO 2019 Notification Due
DESCRIPTION:52nd IEEE/ACM International Symposium on Microarchitecture
URL:http://www.wikicfp.com/cfp/servlet/event.showcfp?eventid=85523&copyow
 nerid=24134
UID:cfp770352-N@wikicfp.com
END:VEVENT
BEGIN:VEVENT
DTSTAMP:20260419T152002Z
DTSTART;VALUE=DATE:20191217
DTEND;VALUE=DATE:20191221
SUMMARY:HiPC 2019
DESCRIPTION:26th IEEE International Conference on High Performance Comput
 ing\, Data\, and Analytics
URL:http://www.wikicfp.com/cfp/servlet/event.showcfp?eventid=85097&copyow
 nerid=24134
UID:cfp768702-E@wikicfp.com
END:VEVENT
BEGIN:VEVENT
DTSTAMP:20260419T152002Z
DTSTART;VALUE=DATE:20190607
SUMMARY:HiPC 2019 Abstract Due
DESCRIPTION:26th IEEE International Conference on High Performance Comput
 ing\, Data\, and Analytics
URL:http://www.wikicfp.com/cfp/servlet/event.showcfp?eventid=85097&copyow
 nerid=24134
UID:cfp768702-A@wikicfp.com
END:VEVENT
BEGIN:VEVENT
DTSTAMP:20260419T152002Z
DTSTART;VALUE=DATE:20190614
SUMMARY:HiPC 2019 Deadline
DESCRIPTION:26th IEEE International Conference on High Performance Comput
 ing\, Data\, and Analytics
URL:http://www.wikicfp.com/cfp/servlet/event.showcfp?eventid=85097&copyow
 nerid=24134
UID:cfp768702-D@wikicfp.com
END:VEVENT
BEGIN:VEVENT
DTSTAMP:20260419T152002Z
DTSTART;VALUE=DATE:20190930
SUMMARY:HiPC 2019 Notification Due
DESCRIPTION:26th IEEE International Conference on High Performance Comput
 ing\, Data\, and Analytics
URL:http://www.wikicfp.com/cfp/servlet/event.showcfp?eventid=85097&copyow
 nerid=24134
UID:cfp768702-N@wikicfp.com
END:VEVENT
BEGIN:VEVENT
DTSTAMP:20260419T152002Z
DTSTART;VALUE=DATE:20191014
SUMMARY:HiPC 2019 Final Version Due
DESCRIPTION:26th IEEE International Conference on High Performance Comput
 ing\, Data\, and Analytics
URL:http://www.wikicfp.com/cfp/servlet/event.showcfp?eventid=85097&copyow
 nerid=24134
UID:cfp768702-N@wikicfp.com
END:VEVENT
BEGIN:VEVENT
DTSTAMP:20260419T152002Z
DTSTART;VALUE=DATE:20200222
DTEND;VALUE=DATE:20200227
SUMMARY:PPoPP 2020
DESCRIPTION:Principles and Practice of Parallel Programming
URL:http://www.wikicfp.com/cfp/servlet/event.showcfp?eventid=90700&copyow
 nerid=24134
UID:cfp792670-E@wikicfp.com
END:VEVENT
BEGIN:VEVENT
DTSTAMP:20260419T152002Z
DTSTART;VALUE=DATE:20190731
SUMMARY:PPoPP 2020 Abstract Due
DESCRIPTION:Principles and Practice of Parallel Programming
URL:http://www.wikicfp.com/cfp/servlet/event.showcfp?eventid=90700&copyow
 nerid=24134
UID:cfp792670-A@wikicfp.com
END:VEVENT
BEGIN:VEVENT
DTSTAMP:20260419T152002Z
DTSTART;VALUE=DATE:20190806
SUMMARY:PPoPP 2020 Deadline
DESCRIPTION:Principles and Practice of Parallel Programming
URL:http://www.wikicfp.com/cfp/servlet/event.showcfp?eventid=90700&copyow
 nerid=24134
UID:cfp792670-D@wikicfp.com
END:VEVENT
BEGIN:VEVENT
DTSTAMP:20260419T152002Z
DTSTART;VALUE=DATE:20191119
SUMMARY:PPoPP 2020 Notification Due
DESCRIPTION:Principles and Practice of Parallel Programming
URL:http://www.wikicfp.com/cfp/servlet/event.showcfp?eventid=90700&copyow
 nerid=24134
UID:cfp792670-N@wikicfp.com
END:VEVENT
BEGIN:VEVENT
DTSTAMP:20260419T152002Z
DTSTART;VALUE=DATE:20200102
SUMMARY:PPoPP 2020 Final Version Due
DESCRIPTION:Principles and Practice of Parallel Programming
URL:http://www.wikicfp.com/cfp/servlet/event.showcfp?eventid=90700&copyow
 nerid=24134
UID:cfp792670-N@wikicfp.com
END:VEVENT
BEGIN:VEVENT
DTSTAMP:20260419T152002Z
DTSTART;VALUE=DATE:20191216
DTEND;VALUE=DATE:20191220
SUMMARY:ISPA 2019
DESCRIPTION:The 17th IEEE International Symposium on Parallel and Distrib
 uted Processing with Applications
URL:http://www.wikicfp.com/cfp/servlet/event.showcfp?eventid=89844&copyow
 nerid=24134
UID:cfp792668-E@wikicfp.com
END:VEVENT
BEGIN:VEVENT
DTSTAMP:20260419T152002Z
DTSTART;VALUE=DATE:20190818
SUMMARY:ISPA 2019 Deadline
DESCRIPTION:The 17th IEEE International Symposium on Parallel and Distrib
 uted Processing with Applications
URL:http://www.wikicfp.com/cfp/servlet/event.showcfp?eventid=89844&copyow
 nerid=24134
UID:cfp792668-D@wikicfp.com
END:VEVENT
BEGIN:VEVENT
DTSTAMP:20260419T152002Z
DTSTART;VALUE=DATE:20190930
SUMMARY:ISPA 2019 Notification Due
DESCRIPTION:The 17th IEEE International Symposium on Parallel and Distrib
 uted Processing with Applications
URL:http://www.wikicfp.com/cfp/servlet/event.showcfp?eventid=89844&copyow
 nerid=24134
UID:cfp792668-N@wikicfp.com
END:VEVENT
BEGIN:VEVENT
DTSTAMP:20260419T152002Z
DTSTART;VALUE=DATE:20191030
SUMMARY:ISPA 2019 Final Version Due
DESCRIPTION:The 17th IEEE International Symposium on Parallel and Distrib
 uted Processing with Applications
URL:http://www.wikicfp.com/cfp/servlet/event.showcfp?eventid=89844&copyow
 nerid=24134
UID:cfp792668-N@wikicfp.com
END:VEVENT
BEGIN:VEVENT
DTSTAMP:20260419T152002Z
DTSTART;VALUE=DATE:20200309
DTEND;VALUE=DATE:20200314
SUMMARY:DATE 2020
DESCRIPTION:Design\, Automation\, and Test in Europe
URL:http://www.wikicfp.com/cfp/servlet/event.showcfp?eventid=90335&copyow
 nerid=24134
UID:cfp795094-E@wikicfp.com
END:VEVENT
BEGIN:VEVENT
DTSTAMP:20260419T152002Z
DTSTART;VALUE=DATE:20190908
SUMMARY:DATE 2020 Deadline
DESCRIPTION:Design\, Automation\, and Test in Europe
URL:http://www.wikicfp.com/cfp/servlet/event.showcfp?eventid=90335&copyow
 nerid=24134
UID:cfp795094-D@wikicfp.com
END:VEVENT
BEGIN:VEVENT
DTSTAMP:20260419T152002Z
DTSTART;VALUE=DATE:20200621
DTEND;VALUE=DATE:20200626
SUMMARY:ISC HPC 2020
DESCRIPTION:ISC High Performance 2020
URL:http://www.wikicfp.com/cfp/servlet/event.showcfp?eventid=91891&copyow
 nerid=24134
UID:cfp800992-E@wikicfp.com
END:VEVENT
BEGIN:VEVENT
DTSTAMP:20260419T152002Z
DTSTART;VALUE=DATE:20191021
SUMMARY:ISC HPC 2020 Deadline
DESCRIPTION:ISC High Performance 2020
URL:http://www.wikicfp.com/cfp/servlet/event.showcfp?eventid=91891&copyow
 nerid=24134
UID:cfp800992-D@wikicfp.com
END:VEVENT
BEGIN:VEVENT
DTSTAMP:20260419T152002Z
DTSTART;VALUE=DATE:20200205
SUMMARY:ISC HPC 2020 Notification Due
DESCRIPTION:ISC High Performance 2020
URL:http://www.wikicfp.com/cfp/servlet/event.showcfp?eventid=91891&copyow
 nerid=24134
UID:cfp800992-N@wikicfp.com
END:VEVENT
BEGIN:VEVENT
DTSTAMP:20260419T152002Z
DTSTART;VALUE=DATE:20201018
DTEND;VALUE=DATE:20201022
SUMMARY:ICCD 2020
DESCRIPTION:IEEE International Conference on Computer Design
URL:http://www.wikicfp.com/cfp/servlet/event.showcfp?eventid=101494&copyo
 wnerid=24134
UID:cfp831863-E@wikicfp.com
END:VEVENT
BEGIN:VEVENT
DTSTAMP:20260419T152002Z
DTSTART;VALUE=DATE:20200529
SUMMARY:ICCD 2020 Abstract Due
DESCRIPTION:IEEE International Conference on Computer Design
URL:http://www.wikicfp.com/cfp/servlet/event.showcfp?eventid=101494&copyo
 wnerid=24134
UID:cfp831863-A@wikicfp.com
END:VEVENT
BEGIN:VEVENT
DTSTAMP:20260419T152002Z
DTSTART;VALUE=DATE:20200605
SUMMARY:ICCD 2020 Deadline
DESCRIPTION:IEEE International Conference on Computer Design
URL:http://www.wikicfp.com/cfp/servlet/event.showcfp?eventid=101494&copyo
 wnerid=24134
UID:cfp831863-D@wikicfp.com
END:VEVENT
BEGIN:VEVENT
DTSTAMP:20260419T152002Z
DTSTART;VALUE=DATE:20200817
SUMMARY:ICCD 2020 Notification Due
DESCRIPTION:IEEE International Conference on Computer Design
URL:http://www.wikicfp.com/cfp/servlet/event.showcfp?eventid=101494&copyo
 wnerid=24134
UID:cfp831863-N@wikicfp.com
END:VEVENT
BEGIN:VEVENT
DTSTAMP:20260419T152002Z
DTSTART;VALUE=DATE:29290918
SUMMARY:ICCD 2020 Final Version Due
DESCRIPTION:IEEE International Conference on Computer Design
URL:http://www.wikicfp.com/cfp/servlet/event.showcfp?eventid=101494&copyo
 wnerid=24134
UID:cfp831863-N@wikicfp.com
END:VEVENT
BEGIN:VEVENT
DTSTAMP:20260419T152002Z
DTSTART;VALUE=DATE:20210201
DTEND;VALUE=DATE:20210206
SUMMARY:DATE 2021
DESCRIPTION:Design\, Automation and Test in Europe Conference
URL:http://www.wikicfp.com/cfp/servlet/event.showcfp?eventid=109756&copyo
 wnerid=24134
UID:cfp890103-E@wikicfp.com
END:VEVENT
BEGIN:VEVENT
DTSTAMP:20260419T152002Z
DTSTART;VALUE=DATE:20200914
SUMMARY:DATE 2021 Abstract Due
DESCRIPTION:Design\, Automation and Test in Europe Conference
URL:http://www.wikicfp.com/cfp/servlet/event.showcfp?eventid=109756&copyo
 wnerid=24134
UID:cfp890103-A@wikicfp.com
END:VEVENT
BEGIN:VEVENT
DTSTAMP:20260419T152002Z
DTSTART;VALUE=DATE:20200921
SUMMARY:DATE 2021 Deadline
DESCRIPTION:Design\, Automation and Test in Europe Conference
URL:http://www.wikicfp.com/cfp/servlet/event.showcfp?eventid=109756&copyo
 wnerid=24134
UID:cfp890103-D@wikicfp.com
END:VEVENT
BEGIN:VEVENT
DTSTAMP:20260419T152002Z
DTSTART;VALUE=DATE:20201113
SUMMARY:DATE 2021 Notification Due
DESCRIPTION:Design\, Automation and Test in Europe Conference
URL:http://www.wikicfp.com/cfp/servlet/event.showcfp?eventid=109756&copyo
 wnerid=24134
UID:cfp890103-N@wikicfp.com
END:VEVENT
BEGIN:VEVENT
DTSTAMP:20260419T152002Z
DTSTART;VALUE=DATE:20201202
SUMMARY:DATE 2021 Final Version Due
DESCRIPTION:Design\, Automation and Test in Europe Conference
URL:http://www.wikicfp.com/cfp/servlet/event.showcfp?eventid=109756&copyo
 wnerid=24134
UID:cfp890103-N@wikicfp.com
END:VEVENT
BEGIN:VEVENT
DTSTAMP:20260419T152002Z
DTSTART;VALUE=DATE:20210711
DTEND;VALUE=DATE:20210716
SUMMARY:DAC 2021
DESCRIPTION:Design Automation Conference
URL:http://www.wikicfp.com/cfp/servlet/event.showcfp?eventid=122030&copyo
 wnerid=24134
UID:cfp894627-E@wikicfp.com
END:VEVENT
BEGIN:VEVENT
DTSTAMP:20260419T152002Z
DTSTART;VALUE=DATE:20201116
SUMMARY:DAC 2021 Abstract Due
DESCRIPTION:Design Automation Conference
URL:http://www.wikicfp.com/cfp/servlet/event.showcfp?eventid=122030&copyo
 wnerid=24134
UID:cfp894627-A@wikicfp.com
END:VEVENT
BEGIN:VEVENT
DTSTAMP:20260419T152002Z
DTSTART;VALUE=DATE:20201123
SUMMARY:DAC 2021 Deadline
DESCRIPTION:Design Automation Conference
URL:http://www.wikicfp.com/cfp/servlet/event.showcfp?eventid=122030&copyo
 wnerid=24134
UID:cfp894627-D@wikicfp.com
END:VEVENT
BEGIN:VEVENT
DTSTAMP:20260419T152002Z
DTSTART;VALUE=DATE:20210224
SUMMARY:DAC 2021 Notification Due
DESCRIPTION:Design Automation Conference
URL:http://www.wikicfp.com/cfp/servlet/event.showcfp?eventid=122030&copyo
 wnerid=24134
UID:cfp894627-N@wikicfp.com
END:VEVENT
BEGIN:VEVENT
DTSTAMP:20260419T152002Z
DTSTART;VALUE=DATE:20210329
SUMMARY:DAC 2021 Final Version Due
DESCRIPTION:Design Automation Conference
URL:http://www.wikicfp.com/cfp/servlet/event.showcfp?eventid=122030&copyo
 wnerid=24134
UID:cfp894627-N@wikicfp.com
END:VEVENT
BEGIN:VEVENT
DTSTAMP:20260419T152002Z
DTSTART;VALUE=DATE:20220212
DTEND;VALUE=DATE:20220217
SUMMARY:HPCA 2022
DESCRIPTION:IEEE International Symposium on High-Performance Computer Arc
 hitecture 
URL:http://www.wikicfp.com/cfp/servlet/event.showcfp?eventid=135955&copyo
 wnerid=24134
UID:cfp890098-E@wikicfp.com
END:VEVENT
BEGIN:VEVENT
DTSTAMP:20260419T152002Z
DTSTART;VALUE=DATE:20210723
SUMMARY:HPCA 2022 Abstract Due
DESCRIPTION:IEEE International Symposium on High-Performance Computer Arc
 hitecture 
URL:http://www.wikicfp.com/cfp/servlet/event.showcfp?eventid=135955&copyo
 wnerid=24134
UID:cfp890098-A@wikicfp.com
END:VEVENT
BEGIN:VEVENT
DTSTAMP:20260419T152002Z
DTSTART;VALUE=DATE:20210730
SUMMARY:HPCA 2022 Deadline
DESCRIPTION:IEEE International Symposium on High-Performance Computer Arc
 hitecture 
URL:http://www.wikicfp.com/cfp/servlet/event.showcfp?eventid=135955&copyo
 wnerid=24134
UID:cfp890098-D@wikicfp.com
END:VEVENT
BEGIN:VEVENT
DTSTAMP:20260419T152002Z
DTSTART;VALUE=DATE:20211027
SUMMARY:HPCA 2022 Notification Due
DESCRIPTION:IEEE International Symposium on High-Performance Computer Arc
 hitecture 
URL:http://www.wikicfp.com/cfp/servlet/event.showcfp?eventid=135955&copyo
 wnerid=24134
UID:cfp890098-N@wikicfp.com
END:VEVENT
END:VCALENDAR
