BEGIN:VCALENDAR
PRODID:-//WikiCFP//flinter 1.0//EN
VERSION:2.0
CALSCALE:GREGORIAN
BEGIN:VEVENT
DTSTAMP:20260422T143309Z
DTSTART;VALUE=DATE:20111212
DTEND;VALUE=DATE:20111217
SUMMARY:Middleware 2011
DESCRIPTION:ACM/IFIP/USENIX 12th International Middleware Conference
URL:http://www.wikicfp.com/cfp/servlet/event.showcfp?eventid=13955&copyow
 nerid=24118
UID:cfp168061-E@wikicfp.com
END:VEVENT
BEGIN:VEVENT
DTSTAMP:20260422T143309Z
DTSTART;VALUE=DATE:20110523
SUMMARY:Middleware 2011 Abstract Due
DESCRIPTION:ACM/IFIP/USENIX 12th International Middleware Conference
URL:http://www.wikicfp.com/cfp/servlet/event.showcfp?eventid=13955&copyow
 nerid=24118
UID:cfp168061-A@wikicfp.com
END:VEVENT
BEGIN:VEVENT
DTSTAMP:20260422T143309Z
DTSTART;VALUE=DATE:20110530
SUMMARY:Middleware 2011 Deadline
DESCRIPTION:ACM/IFIP/USENIX 12th International Middleware Conference
URL:http://www.wikicfp.com/cfp/servlet/event.showcfp?eventid=13955&copyow
 nerid=24118
UID:cfp168061-D@wikicfp.com
END:VEVENT
BEGIN:VEVENT
DTSTAMP:20260422T143309Z
DTSTART;VALUE=DATE:20110801
SUMMARY:Middleware 2011 Notification Due
DESCRIPTION:ACM/IFIP/USENIX 12th International Middleware Conference
URL:http://www.wikicfp.com/cfp/servlet/event.showcfp?eventid=13955&copyow
 nerid=24118
UID:cfp168061-N@wikicfp.com
END:VEVENT
BEGIN:VEVENT
DTSTAMP:20260422T143309Z
DTSTART;VALUE=DATE:20110907
SUMMARY:Middleware 2011 Final Version Due
DESCRIPTION:ACM/IFIP/USENIX 12th International Middleware Conference
URL:http://www.wikicfp.com/cfp/servlet/event.showcfp?eventid=13955&copyow
 nerid=24118
UID:cfp168061-N@wikicfp.com
END:VEVENT
BEGIN:VEVENT
DTSTAMP:20260422T143309Z
DTSTART;VALUE=DATE:20120416
DTEND;VALUE=DATE:20120421
SUMMARY:NOMS 2012
DESCRIPTION:The 13th IEEE/IFIP Network Operations and Management Symposiu
 m
URL:http://www.wikicfp.com/cfp/servlet/event.showcfp?eventid=16233&copyow
 nerid=24118
UID:cfp183120-E@wikicfp.com
END:VEVENT
BEGIN:VEVENT
DTSTAMP:20260422T143309Z
DTSTART;VALUE=DATE:20110822
SUMMARY:NOMS 2012 Deadline
DESCRIPTION:The 13th IEEE/IFIP Network Operations and Management Symposiu
 m
URL:http://www.wikicfp.com/cfp/servlet/event.showcfp?eventid=16233&copyow
 nerid=24118
UID:cfp183120-D@wikicfp.com
END:VEVENT
BEGIN:VEVENT
DTSTAMP:20260422T143309Z
DTSTART;VALUE=DATE:20111031
SUMMARY:NOMS 2012 Notification Due
DESCRIPTION:The 13th IEEE/IFIP Network Operations and Management Symposiu
 m
URL:http://www.wikicfp.com/cfp/servlet/event.showcfp?eventid=16233&copyow
 nerid=24118
UID:cfp183120-N@wikicfp.com
END:VEVENT
BEGIN:VEVENT
DTSTAMP:20260422T143309Z
DTSTART;VALUE=DATE:20111205
SUMMARY:NOMS 2012 Final Version Due
DESCRIPTION:The 13th IEEE/IFIP Network Operations and Management Symposiu
 m
URL:http://www.wikicfp.com/cfp/servlet/event.showcfp?eventid=16233&copyow
 nerid=24118
UID:cfp183120-N@wikicfp.com
END:VEVENT
BEGIN:VEVENT
DTSTAMP:20260422T143309Z
DTSTART;VALUE=DATE:20120411
DTEND;VALUE=DATE:20120414
SUMMARY:EuroSys 2012
DESCRIPTION:12th European Conference on Computer Systems
URL:http://www.wikicfp.com/cfp/servlet/event.showcfp?eventid=16876&copyow
 nerid=24118
UID:cfp181969-E@wikicfp.com
END:VEVENT
BEGIN:VEVENT
DTSTAMP:20260422T143309Z
DTSTART;VALUE=DATE:20111014
SUMMARY:EuroSys 2012 Abstract Due
DESCRIPTION:12th European Conference on Computer Systems
URL:http://www.wikicfp.com/cfp/servlet/event.showcfp?eventid=16876&copyow
 nerid=24118
UID:cfp181969-A@wikicfp.com
END:VEVENT
BEGIN:VEVENT
DTSTAMP:20260422T143309Z
DTSTART;VALUE=DATE:20111020
SUMMARY:EuroSys 2012 Deadline
DESCRIPTION:12th European Conference on Computer Systems
URL:http://www.wikicfp.com/cfp/servlet/event.showcfp?eventid=16876&copyow
 nerid=24118
UID:cfp181969-D@wikicfp.com
END:VEVENT
BEGIN:VEVENT
DTSTAMP:20260422T143309Z
DTSTART;VALUE=DATE:20120108
SUMMARY:EuroSys 2012 Notification Due
DESCRIPTION:12th European Conference on Computer Systems
URL:http://www.wikicfp.com/cfp/servlet/event.showcfp?eventid=16876&copyow
 nerid=24118
UID:cfp181969-N@wikicfp.com
END:VEVENT
BEGIN:VEVENT
DTSTAMP:20260422T143309Z
DTSTART;VALUE=DATE:20120110
SUMMARY:EuroSys 2012 Final Version Due
DESCRIPTION:12th European Conference on Computer Systems
URL:http://www.wikicfp.com/cfp/servlet/event.showcfp?eventid=16876&copyow
 nerid=24118
UID:cfp181969-N@wikicfp.com
END:VEVENT
BEGIN:VEVENT
DTSTAMP:20260422T143309Z
DTSTART;VALUE=DATE:20120611
DTEND;VALUE=DATE:20120616
SUMMARY:ACM SIGMETRICS 2012
DESCRIPTION:International Conference on Measurement and Modeling of Compu
 ter Systems 
URL:http://www.wikicfp.com/cfp/servlet/event.showcfp?eventid=16666&copyow
 nerid=24118
UID:cfp183173-E@wikicfp.com
END:VEVENT
BEGIN:VEVENT
DTSTAMP:20260422T143309Z
DTSTART;VALUE=DATE:20111104
SUMMARY:ACM SIGMETRICS 2012 Abstract Due
DESCRIPTION:International Conference on Measurement and Modeling of Compu
 ter Systems 
URL:http://www.wikicfp.com/cfp/servlet/event.showcfp?eventid=16666&copyow
 nerid=24118
UID:cfp183173-A@wikicfp.com
END:VEVENT
BEGIN:VEVENT
DTSTAMP:20260422T143309Z
DTSTART;VALUE=DATE:20111111
SUMMARY:ACM SIGMETRICS 2012 Deadline
DESCRIPTION:International Conference on Measurement and Modeling of Compu
 ter Systems 
URL:http://www.wikicfp.com/cfp/servlet/event.showcfp?eventid=16666&copyow
 nerid=24118
UID:cfp183173-D@wikicfp.com
END:VEVENT
END:VCALENDAR
