BEGIN:VCALENDAR
PRODID:-//WikiCFP//hs8701 1.0//EN
VERSION:2.0
CALSCALE:GREGORIAN
BEGIN:VEVENT
DTSTAMP:20260420T165918Z
DTSTART;VALUE=DATE:20110804
DTEND;VALUE=DATE:20110809
SUMMARY:AMCIS 2011
DESCRIPTION:17th Americas Conference on Information Systems  2011
URL:http://www.wikicfp.com/cfp/servlet/event.showcfp?eventid=11309&copyow
 nerid=23797
UID:cfp165858-E@wikicfp.com
END:VEVENT
BEGIN:VEVENT
DTSTAMP:20260420T165918Z
DTSTART;VALUE=DATE:20110228
SUMMARY:AMCIS 2011 Deadline
DESCRIPTION:17th Americas Conference on Information Systems  2011
URL:http://www.wikicfp.com/cfp/servlet/event.showcfp?eventid=11309&copyow
 nerid=23797
UID:cfp165858-D@wikicfp.com
END:VEVENT
BEGIN:VEVENT
DTSTAMP:20260420T165918Z
DTSTART;VALUE=DATE:20110414
SUMMARY:AMCIS 2011 Notification Due
DESCRIPTION:17th Americas Conference on Information Systems  2011
URL:http://www.wikicfp.com/cfp/servlet/event.showcfp?eventid=11309&copyow
 nerid=23797
UID:cfp165858-N@wikicfp.com
END:VEVENT
BEGIN:VEVENT
DTSTAMP:20260420T165918Z
DTSTART;VALUE=DATE:20110425
SUMMARY:AMCIS 2011 Final Version Due
DESCRIPTION:17th Americas Conference on Information Systems  2011
URL:http://www.wikicfp.com/cfp/servlet/event.showcfp?eventid=11309&copyow
 nerid=23797
UID:cfp165858-N@wikicfp.com
END:VEVENT
BEGIN:VEVENT
DTSTAMP:20260420T165918Z
DTSTART;VALUE=DATE:20110713
DTEND;VALUE=DATE:20110717
SUMMARY:BM 2011
DESCRIPTION:Business Modeling\, Information Systems and Enterprise Optimi
 zation
URL:http://www.wikicfp.com/cfp/servlet/event.showcfp?eventid=12261&copyow
 nerid=23797
UID:cfp165863-E@wikicfp.com
END:VEVENT
BEGIN:VEVENT
DTSTAMP:20260420T165918Z
DTSTART;VALUE=DATE:20101231
SUMMARY:BM 2011 Abstract Due
DESCRIPTION:Business Modeling\, Information Systems and Enterprise Optimi
 zation
URL:http://www.wikicfp.com/cfp/servlet/event.showcfp?eventid=12261&copyow
 nerid=23797
UID:cfp165863-A@wikicfp.com
END:VEVENT
BEGIN:VEVENT
DTSTAMP:20260420T165918Z
DTSTART;VALUE=DATE:20110401
SUMMARY:BM 2011 Deadline
DESCRIPTION:Business Modeling\, Information Systems and Enterprise Optimi
 zation
URL:http://www.wikicfp.com/cfp/servlet/event.showcfp?eventid=12261&copyow
 nerid=23797
UID:cfp165863-D@wikicfp.com
END:VEVENT
BEGIN:VEVENT
DTSTAMP:20260420T165918Z
DTSTART;VALUE=DATE:20111031
DTEND;VALUE=DATE:20111104
SUMMARY:ER 2011
DESCRIPTION:30th International Conference on Conceptual Modeling
URL:http://www.wikicfp.com/cfp/servlet/event.showcfp?eventid=13220&copyow
 nerid=23797
UID:cfp165866-E@wikicfp.com
END:VEVENT
BEGIN:VEVENT
DTSTAMP:20260420T165918Z
DTSTART;VALUE=DATE:20110328
SUMMARY:ER 2011 Abstract Due
DESCRIPTION:30th International Conference on Conceptual Modeling
URL:http://www.wikicfp.com/cfp/servlet/event.showcfp?eventid=13220&copyow
 nerid=23797
UID:cfp165866-A@wikicfp.com
END:VEVENT
BEGIN:VEVENT
DTSTAMP:20260420T165918Z
DTSTART;VALUE=DATE:20110404
SUMMARY:ER 2011 Deadline
DESCRIPTION:30th International Conference on Conceptual Modeling
URL:http://www.wikicfp.com/cfp/servlet/event.showcfp?eventid=13220&copyow
 nerid=23797
UID:cfp165866-D@wikicfp.com
END:VEVENT
BEGIN:VEVENT
DTSTAMP:20260420T165918Z
DTSTART;VALUE=DATE:20110613
SUMMARY:ER 2011 Notification Due
DESCRIPTION:30th International Conference on Conceptual Modeling
URL:http://www.wikicfp.com/cfp/servlet/event.showcfp?eventid=13220&copyow
 nerid=23797
UID:cfp165866-N@wikicfp.com
END:VEVENT
BEGIN:VEVENT
DTSTAMP:20260420T165918Z
DTSTART;VALUE=DATE:20110705
SUMMARY:ER 2011 Final Version Due
DESCRIPTION:30th International Conference on Conceptual Modeling
URL:http://www.wikicfp.com/cfp/servlet/event.showcfp?eventid=13220&copyow
 nerid=23797
UID:cfp165866-N@wikicfp.com
END:VEVENT
BEGIN:VEVENT
DTSTAMP:20260420T165918Z
DTSTART;VALUE=DATE:20110928
DTEND;VALUE=DATE:20111001
SUMMARY:MEDI 2011
DESCRIPTION:1st INTERNATIONAL CONFERENCE ON MODEL & DATA ENGINEERING
URL:http://www.wikicfp.com/cfp/servlet/event.showcfp?eventid=14025&copyow
 nerid=23797
UID:cfp165869-E@wikicfp.com
END:VEVENT
BEGIN:VEVENT
DTSTAMP:20260420T165918Z
DTSTART;VALUE=DATE:20110410
SUMMARY:MEDI 2011 Abstract Due
DESCRIPTION:1st INTERNATIONAL CONFERENCE ON MODEL & DATA ENGINEERING
URL:http://www.wikicfp.com/cfp/servlet/event.showcfp?eventid=14025&copyow
 nerid=23797
UID:cfp165869-A@wikicfp.com
END:VEVENT
BEGIN:VEVENT
DTSTAMP:20260420T165918Z
DTSTART;VALUE=DATE:20110420
SUMMARY:MEDI 2011 Deadline
DESCRIPTION:1st INTERNATIONAL CONFERENCE ON MODEL & DATA ENGINEERING
URL:http://www.wikicfp.com/cfp/servlet/event.showcfp?eventid=14025&copyow
 nerid=23797
UID:cfp165869-D@wikicfp.com
END:VEVENT
BEGIN:VEVENT
DTSTAMP:20260420T165918Z
DTSTART;VALUE=DATE:20110615
SUMMARY:MEDI 2011 Notification Due
DESCRIPTION:1st INTERNATIONAL CONFERENCE ON MODEL & DATA ENGINEERING
URL:http://www.wikicfp.com/cfp/servlet/event.showcfp?eventid=14025&copyow
 nerid=23797
UID:cfp165869-N@wikicfp.com
END:VEVENT
BEGIN:VEVENT
DTSTAMP:20260420T165918Z
DTSTART;VALUE=DATE:20110630
SUMMARY:MEDI 2011 Final Version Due
DESCRIPTION:1st INTERNATIONAL CONFERENCE ON MODEL & DATA ENGINEERING
URL:http://www.wikicfp.com/cfp/servlet/event.showcfp?eventid=14025&copyow
 nerid=23797
UID:cfp165869-N@wikicfp.com
END:VEVENT
BEGIN:VEVENT
DTSTAMP:20260420T165918Z
DTSTART;VALUE=DATE:20111207
DTEND;VALUE=DATE:20111210
SUMMARY:CSDM 2011
DESCRIPTION:Complex Systems Design & Management 2011
URL:http://www.wikicfp.com/cfp/servlet/event.showcfp?eventid=12392&copyow
 nerid=23797
UID:cfp165864-E@wikicfp.com
END:VEVENT
BEGIN:VEVENT
DTSTAMP:20260420T165918Z
DTSTART;VALUE=DATE:20110404
SUMMARY:CSDM 2011 Abstract Due
DESCRIPTION:Complex Systems Design & Management 2011
URL:http://www.wikicfp.com/cfp/servlet/event.showcfp?eventid=12392&copyow
 nerid=23797
UID:cfp165864-A@wikicfp.com
END:VEVENT
BEGIN:VEVENT
DTSTAMP:20260420T165918Z
DTSTART;VALUE=DATE:20110422
SUMMARY:CSDM 2011 Deadline
DESCRIPTION:Complex Systems Design & Management 2011
URL:http://www.wikicfp.com/cfp/servlet/event.showcfp?eventid=12392&copyow
 nerid=23797
UID:cfp165864-D@wikicfp.com
END:VEVENT
BEGIN:VEVENT
DTSTAMP:20260420T165918Z
DTSTART;VALUE=DATE:20110630
SUMMARY:CSDM 2011 Notification Due
DESCRIPTION:Complex Systems Design & Management 2011
URL:http://www.wikicfp.com/cfp/servlet/event.showcfp?eventid=12392&copyow
 nerid=23797
UID:cfp165864-N@wikicfp.com
END:VEVENT
BEGIN:VEVENT
DTSTAMP:20260420T165918Z
DTSTART;VALUE=DATE:20110831
SUMMARY:CSDM 2011 Final Version Due
DESCRIPTION:Complex Systems Design & Management 2011
URL:http://www.wikicfp.com/cfp/servlet/event.showcfp?eventid=12392&copyow
 nerid=23797
UID:cfp165864-N@wikicfp.com
END:VEVENT
BEGIN:VEVENT
DTSTAMP:20260420T165918Z
DTSTART;VALUE=DATE:20110824
DTEND;VALUE=DATE:20110827
SUMMARY:ISD 2011
DESCRIPTION:The 20th International Conference on Information Systems Deve
 lopment
URL:http://www.wikicfp.com/cfp/servlet/event.showcfp?eventid=14976&copyow
 nerid=23797
UID:cfp165875-E@wikicfp.com
END:VEVENT
BEGIN:VEVENT
DTSTAMP:20260420T165918Z
DTSTART;VALUE=DATE:20110422
SUMMARY:ISD 2011 Deadline
DESCRIPTION:The 20th International Conference on Information Systems Deve
 lopment
URL:http://www.wikicfp.com/cfp/servlet/event.showcfp?eventid=14976&copyow
 nerid=23797
UID:cfp165875-D@wikicfp.com
END:VEVENT
BEGIN:VEVENT
DTSTAMP:20260420T165918Z
DTSTART;VALUE=DATE:20110606
SUMMARY:ISD 2011 Notification Due
DESCRIPTION:The 20th International Conference on Information Systems Deve
 lopment
URL:http://www.wikicfp.com/cfp/servlet/event.showcfp?eventid=14976&copyow
 nerid=23797
UID:cfp165875-N@wikicfp.com
END:VEVENT
BEGIN:VEVENT
DTSTAMP:20260420T165918Z
DTSTART;VALUE=DATE:20110627
SUMMARY:ISD 2011 Final Version Due
DESCRIPTION:The 20th International Conference on Information Systems Deve
 lopment
URL:http://www.wikicfp.com/cfp/servlet/event.showcfp?eventid=14976&copyow
 nerid=23797
UID:cfp165875-N@wikicfp.com
END:VEVENT
BEGIN:VEVENT
DTSTAMP:20260420T165918Z
DTSTART;VALUE=DATE:20110903
DTEND;VALUE=DATE:20110906
SUMMARY:MCIS 2011
DESCRIPTION:6th Mediterranean Conference on Information Systems - Cloud C
 omputing Track
URL:http://www.wikicfp.com/cfp/servlet/event.showcfp?eventid=15770&copyow
 nerid=23797
UID:cfp165880-E@wikicfp.com
END:VEVENT
BEGIN:VEVENT
DTSTAMP:20260420T165918Z
DTSTART;VALUE=DATE:20110502
SUMMARY:MCIS 2011 Deadline
DESCRIPTION:6th Mediterranean Conference on Information Systems - Cloud C
 omputing Track
URL:http://www.wikicfp.com/cfp/servlet/event.showcfp?eventid=15770&copyow
 nerid=23797
UID:cfp165880-D@wikicfp.com
END:VEVENT
BEGIN:VEVENT
DTSTAMP:20260420T165918Z
DTSTART;VALUE=DATE:20110615
SUMMARY:MCIS 2011 Notification Due
DESCRIPTION:6th Mediterranean Conference on Information Systems - Cloud C
 omputing Track
URL:http://www.wikicfp.com/cfp/servlet/event.showcfp?eventid=15770&copyow
 nerid=23797
UID:cfp165880-N@wikicfp.com
END:VEVENT
BEGIN:VEVENT
DTSTAMP:20260420T165918Z
DTSTART;VALUE=DATE:20110701
SUMMARY:MCIS 2011 Final Version Due
DESCRIPTION:6th Mediterranean Conference on Information Systems - Cloud C
 omputing Track
URL:http://www.wikicfp.com/cfp/servlet/event.showcfp?eventid=15770&copyow
 nerid=23797
UID:cfp165880-N@wikicfp.com
END:VEVENT
BEGIN:VEVENT
DTSTAMP:20260420T165918Z
DTSTART;VALUE=DATE:20111204
DTEND;VALUE=DATE:20111208
SUMMARY:ICIS 2011
DESCRIPTION:International Conference on Information Systems
URL:http://www.wikicfp.com/cfp/servlet/event.showcfp?eventid=15309&copyow
 nerid=23797
UID:cfp165859-E@wikicfp.com
END:VEVENT
BEGIN:VEVENT
DTSTAMP:20260420T165918Z
DTSTART;VALUE=DATE:20110503
SUMMARY:ICIS 2011 Deadline
DESCRIPTION:International Conference on Information Systems
URL:http://www.wikicfp.com/cfp/servlet/event.showcfp?eventid=15309&copyow
 nerid=23797
UID:cfp165859-D@wikicfp.com
END:VEVENT
BEGIN:VEVENT
DTSTAMP:20260420T165918Z
DTSTART;VALUE=DATE:20110730
SUMMARY:ICIS 2011 Notification Due
DESCRIPTION:International Conference on Information Systems
URL:http://www.wikicfp.com/cfp/servlet/event.showcfp?eventid=15309&copyow
 nerid=23797
UID:cfp165859-N@wikicfp.com
END:VEVENT
BEGIN:VEVENT
DTSTAMP:20260420T165918Z
DTSTART;VALUE=DATE:20110908
SUMMARY:ICIS 2011 Final Version Due
DESCRIPTION:International Conference on Information Systems
URL:http://www.wikicfp.com/cfp/servlet/event.showcfp?eventid=15309&copyow
 nerid=23797
UID:cfp165859-N@wikicfp.com
END:VEVENT
BEGIN:VEVENT
DTSTAMP:20260420T165918Z
DTSTART;VALUE=DATE:20110627
DTEND;VALUE=DATE:20110701
SUMMARY:CBMS 2011
DESCRIPTION:The 24th IEEE International Symposium on Computer-Based Medic
 al Systems (CBMS 2011)
URL:http://www.wikicfp.com/cfp/servlet/event.showcfp?eventid=14837&copyow
 nerid=23797
UID:cfp165874-E@wikicfp.com
END:VEVENT
BEGIN:VEVENT
DTSTAMP:20260420T165918Z
DTSTART;VALUE=DATE:20110504
SUMMARY:CBMS 2011 Deadline
DESCRIPTION:The 24th IEEE International Symposium on Computer-Based Medic
 al Systems (CBMS 2011)
URL:http://www.wikicfp.com/cfp/servlet/event.showcfp?eventid=14837&copyow
 nerid=23797
UID:cfp165874-D@wikicfp.com
END:VEVENT
BEGIN:VEVENT
DTSTAMP:20260420T165918Z
DTSTART;VALUE=DATE:20110520
SUMMARY:CBMS 2011 Notification Due
DESCRIPTION:The 24th IEEE International Symposium on Computer-Based Medic
 al Systems (CBMS 2011)
URL:http://www.wikicfp.com/cfp/servlet/event.showcfp?eventid=14837&copyow
 nerid=23797
UID:cfp165874-N@wikicfp.com
END:VEVENT
BEGIN:VEVENT
DTSTAMP:20260420T165918Z
DTSTART;VALUE=DATE:20110530
SUMMARY:CBMS 2011 Final Version Due
DESCRIPTION:The 24th IEEE International Symposium on Computer-Based Medic
 al Systems (CBMS 2011)
URL:http://www.wikicfp.com/cfp/servlet/event.showcfp?eventid=14837&copyow
 nerid=23797
UID:cfp165874-N@wikicfp.com
END:VEVENT
BEGIN:VEVENT
DTSTAMP:20260420T165918Z
DTSTART;VALUE=DATE:20110921
DTEND;VALUE=DATE:20110924
SUMMARY:CECIIS 2011
DESCRIPTION:Central European Conference on Information and Intelligent Sy
 stems
URL:http://www.wikicfp.com/cfp/servlet/event.showcfp?eventid=14505&copyow
 nerid=23797
UID:cfp165872-E@wikicfp.com
END:VEVENT
BEGIN:VEVENT
DTSTAMP:20260420T165918Z
DTSTART;VALUE=DATE:20110425
SUMMARY:CECIIS 2011 Abstract Due
DESCRIPTION:Central European Conference on Information and Intelligent Sy
 stems
URL:http://www.wikicfp.com/cfp/servlet/event.showcfp?eventid=14505&copyow
 nerid=23797
UID:cfp165872-A@wikicfp.com
END:VEVENT
BEGIN:VEVENT
DTSTAMP:20260420T165918Z
DTSTART;VALUE=DATE:20110505
SUMMARY:CECIIS 2011 Deadline
DESCRIPTION:Central European Conference on Information and Intelligent Sy
 stems
URL:http://www.wikicfp.com/cfp/servlet/event.showcfp?eventid=14505&copyow
 nerid=23797
UID:cfp165872-D@wikicfp.com
END:VEVENT
BEGIN:VEVENT
DTSTAMP:20260420T165918Z
DTSTART;VALUE=DATE:20110615
SUMMARY:CECIIS 2011 Notification Due
DESCRIPTION:Central European Conference on Information and Intelligent Sy
 stems
URL:http://www.wikicfp.com/cfp/servlet/event.showcfp?eventid=14505&copyow
 nerid=23797
UID:cfp165872-N@wikicfp.com
END:VEVENT
BEGIN:VEVENT
DTSTAMP:20260420T165918Z
DTSTART;VALUE=DATE:20110630
SUMMARY:CECIIS 2011 Final Version Due
DESCRIPTION:Central European Conference on Information and Intelligent Sy
 stems
URL:http://www.wikicfp.com/cfp/servlet/event.showcfp?eventid=14505&copyow
 nerid=23797
UID:cfp165872-N@wikicfp.com
END:VEVENT
BEGIN:VEVENT
DTSTAMP:20260420T165918Z
DTSTART;VALUE=DATE:20110903
DTEND;VALUE=DATE:20110906
SUMMARY:MCIS 2011
DESCRIPTION:Track of Mobile\, Pervasive\, Ubiquitous IS 
URL:http://www.wikicfp.com/cfp/servlet/event.showcfp?eventid=15320&copyow
 nerid=23797
UID:cfp165877-E@wikicfp.com
END:VEVENT
BEGIN:VEVENT
DTSTAMP:20260420T165918Z
DTSTART;VALUE=DATE:20110508
SUMMARY:MCIS 2011 Deadline
DESCRIPTION:Track of Mobile\, Pervasive\, Ubiquitous IS 
URL:http://www.wikicfp.com/cfp/servlet/event.showcfp?eventid=15320&copyow
 nerid=23797
UID:cfp165877-D@wikicfp.com
END:VEVENT
BEGIN:VEVENT
DTSTAMP:20260420T165918Z
DTSTART;VALUE=DATE:20110615
SUMMARY:MCIS 2011 Notification Due
DESCRIPTION:Track of Mobile\, Pervasive\, Ubiquitous IS 
URL:http://www.wikicfp.com/cfp/servlet/event.showcfp?eventid=15320&copyow
 nerid=23797
UID:cfp165877-N@wikicfp.com
END:VEVENT
BEGIN:VEVENT
DTSTAMP:20260420T165918Z
DTSTART;VALUE=DATE:20110701
SUMMARY:MCIS 2011 Final Version Due
DESCRIPTION:Track of Mobile\, Pervasive\, Ubiquitous IS 
URL:http://www.wikicfp.com/cfp/servlet/event.showcfp?eventid=15320&copyow
 nerid=23797
UID:cfp165877-N@wikicfp.com
END:VEVENT
BEGIN:VEVENT
DTSTAMP:20260420T165918Z
DTSTART;VALUE=DATE:20110816
DTEND;VALUE=DATE:20110820
SUMMARY:ICIIS 2011
DESCRIPTION:6th International Conference on Industrial and Information Sy
 stems
URL:http://www.wikicfp.com/cfp/servlet/event.showcfp?eventid=13369&copyow
 nerid=23797
UID:cfp165867-E@wikicfp.com
END:VEVENT
BEGIN:VEVENT
DTSTAMP:20260420T165918Z
DTSTART;VALUE=DATE:20110518
SUMMARY:ICIIS 2011 Deadline
DESCRIPTION:6th International Conference on Industrial and Information Sy
 stems
URL:http://www.wikicfp.com/cfp/servlet/event.showcfp?eventid=13369&copyow
 nerid=23797
UID:cfp165867-D@wikicfp.com
END:VEVENT
BEGIN:VEVENT
DTSTAMP:20260420T165918Z
DTSTART;VALUE=DATE:20110705
SUMMARY:ICIIS 2011 Notification Due
DESCRIPTION:6th International Conference on Industrial and Information Sy
 stems
URL:http://www.wikicfp.com/cfp/servlet/event.showcfp?eventid=13369&copyow
 nerid=23797
UID:cfp165867-N@wikicfp.com
END:VEVENT
BEGIN:VEVENT
DTSTAMP:20260420T165918Z
DTSTART;VALUE=DATE:20110720
SUMMARY:ICIIS 2011 Final Version Due
DESCRIPTION:6th International Conference on Industrial and Information Sy
 stems
URL:http://www.wikicfp.com/cfp/servlet/event.showcfp?eventid=13369&copyow
 nerid=23797
UID:cfp165867-N@wikicfp.com
END:VEVENT
BEGIN:VEVENT
DTSTAMP:20260420T165918Z
DTSTART;VALUE=DATE:20111006
DTEND;VALUE=DATE:20111009
SUMMARY:BIR 2011
DESCRIPTION:10th International Conference on Perspectives in Business Inf
 ormatics Research
URL:http://www.wikicfp.com/cfp/servlet/event.showcfp?eventid=15604&copyow
 nerid=23797
UID:cfp165878-E@wikicfp.com
END:VEVENT
BEGIN:VEVENT
DTSTAMP:20260420T165918Z
DTSTART;VALUE=DATE:20110520
SUMMARY:BIR 2011 Deadline
DESCRIPTION:10th International Conference on Perspectives in Business Inf
 ormatics Research
URL:http://www.wikicfp.com/cfp/servlet/event.showcfp?eventid=15604&copyow
 nerid=23797
UID:cfp165878-D@wikicfp.com
END:VEVENT
BEGIN:VEVENT
DTSTAMP:20260420T165918Z
DTSTART;VALUE=DATE:20110630
SUMMARY:BIR 2011 Notification Due
DESCRIPTION:10th International Conference on Perspectives in Business Inf
 ormatics Research
URL:http://www.wikicfp.com/cfp/servlet/event.showcfp?eventid=15604&copyow
 nerid=23797
UID:cfp165878-N@wikicfp.com
END:VEVENT
BEGIN:VEVENT
DTSTAMP:20260420T165918Z
DTSTART;VALUE=DATE:20110709
SUMMARY:BIR 2011 Final Version Due
DESCRIPTION:10th International Conference on Perspectives in Business Inf
 ormatics Research
URL:http://www.wikicfp.com/cfp/servlet/event.showcfp?eventid=15604&copyow
 nerid=23797
UID:cfp165878-N@wikicfp.com
END:VEVENT
BEGIN:VEVENT
DTSTAMP:20260420T165918Z
DTSTART;VALUE=DATE:20111007
DTEND;VALUE=DATE:20111013
SUMMARY:ASIST 2011
DESCRIPTION:Annual Meeting of The American Society for Information Scienc
 e and Technology
URL:http://www.wikicfp.com/cfp/servlet/event.showcfp?eventid=12637&copyow
 nerid=23797
UID:cfp165865-E@wikicfp.com
END:VEVENT
BEGIN:VEVENT
DTSTAMP:20260420T165918Z
DTSTART;VALUE=DATE:20110531
SUMMARY:ASIST 2011 Deadline
DESCRIPTION:Annual Meeting of The American Society for Information Scienc
 e and Technology
URL:http://www.wikicfp.com/cfp/servlet/event.showcfp?eventid=12637&copyow
 nerid=23797
UID:cfp165865-D@wikicfp.com
END:VEVENT
BEGIN:VEVENT
DTSTAMP:20260420T165918Z
DTSTART;VALUE=DATE:20110720
SUMMARY:ASIST 2011 Notification Due
DESCRIPTION:Annual Meeting of The American Society for Information Scienc
 e and Technology
URL:http://www.wikicfp.com/cfp/servlet/event.showcfp?eventid=12637&copyow
 nerid=23797
UID:cfp165865-N@wikicfp.com
END:VEVENT
BEGIN:VEVENT
DTSTAMP:20260420T165918Z
DTSTART;VALUE=DATE:20110727
SUMMARY:ASIST 2011 Final Version Due
DESCRIPTION:Annual Meeting of The American Society for Information Scienc
 e and Technology
URL:http://www.wikicfp.com/cfp/servlet/event.showcfp?eventid=12637&copyow
 nerid=23797
UID:cfp165865-N@wikicfp.com
END:VEVENT
BEGIN:VEVENT
DTSTAMP:20260420T165918Z
DTSTART;VALUE=DATE:20111205
DTEND;VALUE=DATE:20111209
SUMMARY:ICSOC 2011
DESCRIPTION:The Ninth International Conference on Service Oriented Comput
 ing  
URL:http://www.wikicfp.com/cfp/servlet/event.showcfp?eventid=14516&copyow
 nerid=23797
UID:cfp165873-E@wikicfp.com
END:VEVENT
BEGIN:VEVENT
DTSTAMP:20260420T165918Z
DTSTART;VALUE=DATE:20110603
SUMMARY:ICSOC 2011 Abstract Due
DESCRIPTION:The Ninth International Conference on Service Oriented Comput
 ing  
URL:http://www.wikicfp.com/cfp/servlet/event.showcfp?eventid=14516&copyow
 nerid=23797
UID:cfp165873-A@wikicfp.com
END:VEVENT
BEGIN:VEVENT
DTSTAMP:20260420T165918Z
DTSTART;VALUE=DATE:20110610
SUMMARY:ICSOC 2011 Deadline
DESCRIPTION:The Ninth International Conference on Service Oriented Comput
 ing  
URL:http://www.wikicfp.com/cfp/servlet/event.showcfp?eventid=14516&copyow
 nerid=23797
UID:cfp165873-D@wikicfp.com
END:VEVENT
BEGIN:VEVENT
DTSTAMP:20260420T165918Z
DTSTART;VALUE=DATE:20110805
SUMMARY:ICSOC 2011 Notification Due
DESCRIPTION:The Ninth International Conference on Service Oriented Comput
 ing  
URL:http://www.wikicfp.com/cfp/servlet/event.showcfp?eventid=14516&copyow
 nerid=23797
UID:cfp165873-N@wikicfp.com
END:VEVENT
BEGIN:VEVENT
DTSTAMP:20260420T165918Z
DTSTART;VALUE=DATE:20110902
SUMMARY:ICSOC 2011 Final Version Due
DESCRIPTION:The Ninth International Conference on Service Oriented Comput
 ing  
URL:http://www.wikicfp.com/cfp/servlet/event.showcfp?eventid=14516&copyow
 nerid=23797
UID:cfp165873-N@wikicfp.com
END:VEVENT
BEGIN:VEVENT
DTSTAMP:20260420T165918Z
DTSTART;VALUE=DATE:20120104
DTEND;VALUE=DATE:20120108
SUMMARY:HICSS 2012
DESCRIPTION:Hawaii International Conference on Systems Sciences
URL:http://www.wikicfp.com/cfp/servlet/event.showcfp?eventid=8567&copyown
 erid=23797
UID:cfp165860-E@wikicfp.com
END:VEVENT
BEGIN:VEVENT
DTSTAMP:20260420T165918Z
DTSTART;VALUE=DATE:20110615
SUMMARY:HICSS 2012 Deadline
DESCRIPTION:Hawaii International Conference on Systems Sciences
URL:http://www.wikicfp.com/cfp/servlet/event.showcfp?eventid=8567&copyown
 erid=23797
UID:cfp165860-D@wikicfp.com
END:VEVENT
BEGIN:VEVENT
DTSTAMP:20260420T165918Z
DTSTART;VALUE=DATE:20110815
SUMMARY:HICSS 2012 Notification Due
DESCRIPTION:Hawaii International Conference on Systems Sciences
URL:http://www.wikicfp.com/cfp/servlet/event.showcfp?eventid=8567&copyown
 erid=23797
UID:cfp165860-N@wikicfp.com
END:VEVENT
BEGIN:VEVENT
DTSTAMP:20260420T165918Z
DTSTART;VALUE=DATE:20110915
SUMMARY:HICSS 2012 Final Version Due
DESCRIPTION:Hawaii International Conference on Systems Sciences
URL:http://www.wikicfp.com/cfp/servlet/event.showcfp?eventid=8567&copyown
 erid=23797
UID:cfp165860-N@wikicfp.com
END:VEVENT
BEGIN:VEVENT
DTSTAMP:20260420T165918Z
DTSTART;VALUE=DATE:20110615
SUMMARY:IJODE Healthcare 2011 Deadline
DESCRIPTION:IJODE Special Issue on Organisational Design and Engineering 
 in Healthcare
URL:http://www.wikicfp.com/cfp/servlet/event.showcfp?eventid=13459&copyow
 nerid=23797
UID:cfp165868-D@wikicfp.com
END:VEVENT
BEGIN:VEVENT
DTSTAMP:20260420T165918Z
DTSTART;VALUE=DATE:20111019
DTEND;VALUE=DATE:20111022
SUMMARY:CoopIS 2011
DESCRIPTION:19th International Conference on Cooperative Information Syst
 ems
URL:http://www.wikicfp.com/cfp/servlet/event.showcfp?eventid=15289&copyow
 nerid=23797
UID:cfp165876-E@wikicfp.com
END:VEVENT
BEGIN:VEVENT
DTSTAMP:20260420T165918Z
DTSTART;VALUE=DATE:20110622
SUMMARY:CoopIS 2011 Abstract Due
DESCRIPTION:19th International Conference on Cooperative Information Syst
 ems
URL:http://www.wikicfp.com/cfp/servlet/event.showcfp?eventid=15289&copyow
 nerid=23797
UID:cfp165876-A@wikicfp.com
END:VEVENT
BEGIN:VEVENT
DTSTAMP:20260420T165918Z
DTSTART;VALUE=DATE:20110629
SUMMARY:CoopIS 2011 Deadline
DESCRIPTION:19th International Conference on Cooperative Information Syst
 ems
URL:http://www.wikicfp.com/cfp/servlet/event.showcfp?eventid=15289&copyow
 nerid=23797
UID:cfp165876-D@wikicfp.com
END:VEVENT
BEGIN:VEVENT
DTSTAMP:20260420T165918Z
DTSTART;VALUE=DATE:20110802
SUMMARY:CoopIS 2011 Notification Due
DESCRIPTION:19th International Conference on Cooperative Information Syst
 ems
URL:http://www.wikicfp.com/cfp/servlet/event.showcfp?eventid=15289&copyow
 nerid=23797
UID:cfp165876-N@wikicfp.com
END:VEVENT
BEGIN:VEVENT
DTSTAMP:20260420T165918Z
DTSTART;VALUE=DATE:20110813
SUMMARY:CoopIS 2011 Final Version Due
DESCRIPTION:19th International Conference on Cooperative Information Syst
 ems
URL:http://www.wikicfp.com/cfp/servlet/event.showcfp?eventid=15289&copyow
 nerid=23797
UID:cfp165876-N@wikicfp.com
END:VEVENT
BEGIN:VEVENT
DTSTAMP:20260420T165918Z
DTSTART;VALUE=DATE:20111108
DTEND;VALUE=DATE:20111111
SUMMARY:MilCIS 2011
DESCRIPTION:Military Communications and Information Systems Conference
URL:http://www.wikicfp.com/cfp/servlet/event.showcfp?eventid=11191&copyow
 nerid=23797
UID:cfp165862-E@wikicfp.com
END:VEVENT
BEGIN:VEVENT
DTSTAMP:20260420T165918Z
DTSTART;VALUE=DATE:20110706
SUMMARY:MilCIS 2011 Deadline
DESCRIPTION:Military Communications and Information Systems Conference
URL:http://www.wikicfp.com/cfp/servlet/event.showcfp?eventid=11191&copyow
 nerid=23797
UID:cfp165862-D@wikicfp.com
END:VEVENT
BEGIN:VEVENT
DTSTAMP:20260420T165918Z
DTSTART;VALUE=DATE:20110803
SUMMARY:MilCIS 2011 Notification Due
DESCRIPTION:Military Communications and Information Systems Conference
URL:http://www.wikicfp.com/cfp/servlet/event.showcfp?eventid=11191&copyow
 nerid=23797
UID:cfp165862-N@wikicfp.com
END:VEVENT
BEGIN:VEVENT
DTSTAMP:20260420T165918Z
DTSTART;VALUE=DATE:20110824
SUMMARY:MilCIS 2011 Final Version Due
DESCRIPTION:Military Communications and Information Systems Conference
URL:http://www.wikicfp.com/cfp/servlet/event.showcfp?eventid=11191&copyow
 nerid=23797
UID:cfp165862-N@wikicfp.com
END:VEVENT
BEGIN:VEVENT
DTSTAMP:20260420T165918Z
DTSTART;VALUE=DATE:20111017
DTEND;VALUE=DATE:20111019
SUMMARY:OTMA 2011
DESCRIPTION:OTM Academy 2011
URL:http://www.wikicfp.com/cfp/servlet/event.showcfp?eventid=15665&copyow
 nerid=23797
UID:cfp165879-E@wikicfp.com
END:VEVENT
BEGIN:VEVENT
DTSTAMP:20260420T165918Z
DTSTART;VALUE=DATE:20110622
SUMMARY:OTMA 2011 Abstract Due
DESCRIPTION:OTM Academy 2011
URL:http://www.wikicfp.com/cfp/servlet/event.showcfp?eventid=15665&copyow
 nerid=23797
UID:cfp165879-A@wikicfp.com
END:VEVENT
BEGIN:VEVENT
DTSTAMP:20260420T165918Z
DTSTART;VALUE=DATE:20110706
SUMMARY:OTMA 2011 Deadline
DESCRIPTION:OTM Academy 2011
URL:http://www.wikicfp.com/cfp/servlet/event.showcfp?eventid=15665&copyow
 nerid=23797
UID:cfp165879-D@wikicfp.com
END:VEVENT
BEGIN:VEVENT
DTSTAMP:20260420T165918Z
DTSTART;VALUE=DATE:20110730
SUMMARY:OTMA 2011 Notification Due
DESCRIPTION:OTM Academy 2011
URL:http://www.wikicfp.com/cfp/servlet/event.showcfp?eventid=15665&copyow
 nerid=23797
UID:cfp165879-N@wikicfp.com
END:VEVENT
BEGIN:VEVENT
DTSTAMP:20260420T165918Z
DTSTART;VALUE=DATE:20110813
SUMMARY:OTMA 2011 Final Version Due
DESCRIPTION:OTM Academy 2011
URL:http://www.wikicfp.com/cfp/servlet/event.showcfp?eventid=15665&copyow
 nerid=23797
UID:cfp165879-N@wikicfp.com
END:VEVENT
BEGIN:VEVENT
DTSTAMP:20260420T165918Z
DTSTART;VALUE=DATE:20110914
DTEND;VALUE=DATE:20110917
SUMMARY:IS'11 2011
DESCRIPTION:Industrial Systems
URL:http://www.wikicfp.com/cfp/servlet/event.showcfp?eventid=14504&copyow
 nerid=23797
UID:cfp165871-E@wikicfp.com
END:VEVENT
BEGIN:VEVENT
DTSTAMP:20260420T165918Z
DTSTART;VALUE=DATE:20110515
SUMMARY:IS'11 2011 Abstract Due
DESCRIPTION:Industrial Systems
URL:http://www.wikicfp.com/cfp/servlet/event.showcfp?eventid=14504&copyow
 nerid=23797
UID:cfp165871-A@wikicfp.com
END:VEVENT
BEGIN:VEVENT
DTSTAMP:20260420T165918Z
DTSTART;VALUE=DATE:20110708
SUMMARY:IS'11 2011 Deadline
DESCRIPTION:Industrial Systems
URL:http://www.wikicfp.com/cfp/servlet/event.showcfp?eventid=14504&copyow
 nerid=23797
UID:cfp165871-D@wikicfp.com
END:VEVENT
BEGIN:VEVENT
DTSTAMP:20260420T165918Z
DTSTART;VALUE=DATE:20110805
SUMMARY:IS'11 2011 Notification Due
DESCRIPTION:Industrial Systems
URL:http://www.wikicfp.com/cfp/servlet/event.showcfp?eventid=14504&copyow
 nerid=23797
UID:cfp165871-N@wikicfp.com
END:VEVENT
BEGIN:VEVENT
DTSTAMP:20260420T165918Z
DTSTART;VALUE=DATE:20110829
SUMMARY:IS'11 2011 Final Version Due
DESCRIPTION:Industrial Systems
URL:http://www.wikicfp.com/cfp/servlet/event.showcfp?eventid=14504&copyow
 nerid=23797
UID:cfp165871-N@wikicfp.com
END:VEVENT
BEGIN:VEVENT
DTSTAMP:20260420T165918Z
DTSTART;VALUE=DATE:20110731
SUMMARY:DMISST 2011 Deadline
DESCRIPTION:Special Issue on Decision Making on Information Security Stra
 tegy & Technology\, IJICIC
URL:http://www.wikicfp.com/cfp/servlet/event.showcfp?eventid=14469&copyow
 nerid=23797
UID:cfp165870-D@wikicfp.com
END:VEVENT
BEGIN:VEVENT
DTSTAMP:20260420T165918Z
DTSTART;VALUE=DATE:20111008
SUMMARY:DMISST 2011 Notification Due
DESCRIPTION:Special Issue on Decision Making on Information Security Stra
 tegy & Technology\, IJICIC
URL:http://www.wikicfp.com/cfp/servlet/event.showcfp?eventid=14469&copyow
 nerid=23797
UID:cfp165870-N@wikicfp.com
END:VEVENT
BEGIN:VEVENT
DTSTAMP:20260420T165918Z
DTSTART;VALUE=DATE:20111031
SUMMARY:DMISST 2011 Final Version Due
DESCRIPTION:Special Issue on Decision Making on Information Security Stra
 tegy & Technology\, IJICIC
URL:http://www.wikicfp.com/cfp/servlet/event.showcfp?eventid=14469&copyow
 nerid=23797
UID:cfp165870-N@wikicfp.com
END:VEVENT
BEGIN:VEVENT
DTSTAMP:20260420T165918Z
DTSTART;VALUE=DATE:20120523
DTEND;VALUE=DATE:20120526
SUMMARY:EATIS 2012
DESCRIPTION:6th Conference of the Euro American Conference on Telematics 
 and Information Systems
URL:http://www.wikicfp.com/cfp/servlet/event.showcfp?eventid=12313&copyow
 nerid=23797
UID:cfp165861-E@wikicfp.com
END:VEVENT
BEGIN:VEVENT
DTSTAMP:20260420T165918Z
DTSTART;VALUE=DATE:20110915
SUMMARY:EATIS 2012 Abstract Due
DESCRIPTION:6th Conference of the Euro American Conference on Telematics 
 and Information Systems
URL:http://www.wikicfp.com/cfp/servlet/event.showcfp?eventid=12313&copyow
 nerid=23797
UID:cfp165861-A@wikicfp.com
END:VEVENT
BEGIN:VEVENT
DTSTAMP:20260420T165918Z
DTSTART;VALUE=DATE:20111108
SUMMARY:EATIS 2012 Deadline
DESCRIPTION:6th Conference of the Euro American Conference on Telematics 
 and Information Systems
URL:http://www.wikicfp.com/cfp/servlet/event.showcfp?eventid=12313&copyow
 nerid=23797
UID:cfp165861-D@wikicfp.com
END:VEVENT
BEGIN:VEVENT
DTSTAMP:20260420T165918Z
DTSTART;VALUE=DATE:20120208
SUMMARY:EATIS 2012 Notification Due
DESCRIPTION:6th Conference of the Euro American Conference on Telematics 
 and Information Systems
URL:http://www.wikicfp.com/cfp/servlet/event.showcfp?eventid=12313&copyow
 nerid=23797
UID:cfp165861-N@wikicfp.com
END:VEVENT
BEGIN:VEVENT
DTSTAMP:20260420T165918Z
DTSTART;VALUE=DATE:20120301
SUMMARY:EATIS 2012 Final Version Due
DESCRIPTION:6th Conference of the Euro American Conference on Telematics 
 and Information Systems
URL:http://www.wikicfp.com/cfp/servlet/event.showcfp?eventid=12313&copyow
 nerid=23797
UID:cfp165861-N@wikicfp.com
END:VEVENT
END:VCALENDAR
