BEGIN:VCALENDAR
PRODID:-//WikiCFP//pas0753 1.0//EN
VERSION:2.0
CALSCALE:GREGORIAN
BEGIN:VEVENT
DTSTAMP:20260425T154433Z
DTSTART;VALUE=DATE:20110911
DTEND;VALUE=DATE:20110915
SUMMARY:ICIP 2011
DESCRIPTION:2011 IEEE International Conference on Image Processing 
URL:http://www.wikicfp.com/cfp/servlet/event.showcfp?eventid=11066&copyow
 nerid=23588
UID:cfp164540-E@wikicfp.com
END:VEVENT
BEGIN:VEVENT
DTSTAMP:20260425T154433Z
DTSTART;VALUE=DATE:20110121
SUMMARY:ICIP 2011 Deadline
DESCRIPTION:2011 IEEE International Conference on Image Processing 
URL:http://www.wikicfp.com/cfp/servlet/event.showcfp?eventid=11066&copyow
 nerid=23588
UID:cfp164540-D@wikicfp.com
END:VEVENT
BEGIN:VEVENT
DTSTAMP:20260425T154433Z
DTSTART;VALUE=DATE:20110418
SUMMARY:ICIP 2011 Notification Due
DESCRIPTION:2011 IEEE International Conference on Image Processing 
URL:http://www.wikicfp.com/cfp/servlet/event.showcfp?eventid=11066&copyow
 nerid=23588
UID:cfp164540-N@wikicfp.com
END:VEVENT
BEGIN:VEVENT
DTSTAMP:20260425T154433Z
DTSTART;VALUE=DATE:20110506
SUMMARY:ICIP 2011 Final Version Due
DESCRIPTION:2011 IEEE International Conference on Image Processing 
URL:http://www.wikicfp.com/cfp/servlet/event.showcfp?eventid=11066&copyow
 nerid=23588
UID:cfp164540-N@wikicfp.com
END:VEVENT
BEGIN:VEVENT
DTSTAMP:20260425T154433Z
DTSTART;VALUE=DATE:20110907
DTEND;VALUE=DATE:20110910
SUMMARY:IPC 2011
DESCRIPTION:3rd International Conference on Image Processing & Communicat
 ions 
URL:http://www.wikicfp.com/cfp/servlet/event.showcfp?eventid=14408&copyow
 nerid=23588
UID:cfp164549-E@wikicfp.com
END:VEVENT
BEGIN:VEVENT
DTSTAMP:20260425T154433Z
DTSTART;VALUE=DATE:20110415
SUMMARY:IPC 2011 Deadline
DESCRIPTION:3rd International Conference on Image Processing & Communicat
 ions 
URL:http://www.wikicfp.com/cfp/servlet/event.showcfp?eventid=14408&copyow
 nerid=23588
UID:cfp164549-D@wikicfp.com
END:VEVENT
BEGIN:VEVENT
DTSTAMP:20260425T154433Z
DTSTART;VALUE=DATE:20110515
SUMMARY:IPC 2011 Notification Due
DESCRIPTION:3rd International Conference on Image Processing & Communicat
 ions 
URL:http://www.wikicfp.com/cfp/servlet/event.showcfp?eventid=14408&copyow
 nerid=23588
UID:cfp164549-N@wikicfp.com
END:VEVENT
BEGIN:VEVENT
DTSTAMP:20260425T154433Z
DTSTART;VALUE=DATE:20110601
SUMMARY:IPC 2011 Final Version Due
DESCRIPTION:3rd International Conference on Image Processing & Communicat
 ions 
URL:http://www.wikicfp.com/cfp/servlet/event.showcfp?eventid=14408&copyow
 nerid=23588
UID:cfp164549-N@wikicfp.com
END:VEVENT
BEGIN:VEVENT
DTSTAMP:20260425T154433Z
DTSTART;VALUE=DATE:20111106
DTEND;VALUE=DATE:20111110
SUMMARY:VCIP 2011
DESCRIPTION:IEEE Visual Communication & Image Processing
URL:http://www.wikicfp.com/cfp/servlet/event.showcfp?eventid=13728&copyow
 nerid=23588
UID:cfp164544-E@wikicfp.com
END:VEVENT
BEGIN:VEVENT
DTSTAMP:20260425T154433Z
DTSTART;VALUE=DATE:20110422
SUMMARY:VCIP 2011 Deadline
DESCRIPTION:IEEE Visual Communication & Image Processing
URL:http://www.wikicfp.com/cfp/servlet/event.showcfp?eventid=13728&copyow
 nerid=23588
UID:cfp164544-D@wikicfp.com
END:VEVENT
BEGIN:VEVENT
DTSTAMP:20260425T154433Z
DTSTART;VALUE=DATE:20110615
SUMMARY:VCIP 2011 Notification Due
DESCRIPTION:IEEE Visual Communication & Image Processing
URL:http://www.wikicfp.com/cfp/servlet/event.showcfp?eventid=13728&copyow
 nerid=23588
UID:cfp164544-N@wikicfp.com
END:VEVENT
BEGIN:VEVENT
DTSTAMP:20260425T154433Z
DTSTART;VALUE=DATE:20110629
SUMMARY:VCIP 2011 Final Version Due
DESCRIPTION:IEEE Visual Communication & Image Processing
URL:http://www.wikicfp.com/cfp/servlet/event.showcfp?eventid=13728&copyow
 nerid=23588
UID:cfp164544-N@wikicfp.com
END:VEVENT
BEGIN:VEVENT
DTSTAMP:20260425T154433Z
DTSTART;VALUE=DATE:20111102
DTEND;VALUE=DATE:20111105
SUMMARY:DASIP 2011
DESCRIPTION:Conference on Design and Architectures for Signal and Image P
 rocessing
URL:http://www.wikicfp.com/cfp/servlet/event.showcfp?eventid=15218&copyow
 nerid=23588
UID:cfp164553-E@wikicfp.com
END:VEVENT
BEGIN:VEVENT
DTSTAMP:20260425T154433Z
DTSTART;VALUE=DATE:20110502
SUMMARY:DASIP 2011 Deadline
DESCRIPTION:Conference on Design and Architectures for Signal and Image P
 rocessing
URL:http://www.wikicfp.com/cfp/servlet/event.showcfp?eventid=15218&copyow
 nerid=23588
UID:cfp164553-D@wikicfp.com
END:VEVENT
BEGIN:VEVENT
DTSTAMP:20260425T154433Z
DTSTART;VALUE=DATE:20110630
SUMMARY:DASIP 2011 Notification Due
DESCRIPTION:Conference on Design and Architectures for Signal and Image P
 rocessing
URL:http://www.wikicfp.com/cfp/servlet/event.showcfp?eventid=15218&copyow
 nerid=23588
UID:cfp164553-N@wikicfp.com
END:VEVENT
BEGIN:VEVENT
DTSTAMP:20260425T154433Z
DTSTART;VALUE=DATE:20110915
SUMMARY:DASIP 2011 Final Version Due
DESCRIPTION:Conference on Design and Architectures for Signal and Image P
 rocessing
URL:http://www.wikicfp.com/cfp/servlet/event.showcfp?eventid=15218&copyow
 nerid=23588
UID:cfp164553-N@wikicfp.com
END:VEVENT
BEGIN:VEVENT
DTSTAMP:20260425T154433Z
DTSTART;VALUE=DATE:20110812
DTEND;VALUE=DATE:20110816
SUMMARY:ICIG 2011
DESCRIPTION:The 6th International Conference on Image and Graphics
URL:http://www.wikicfp.com/cfp/servlet/event.showcfp?eventid=13947&copyow
 nerid=23588
UID:cfp164545-E@wikicfp.com
END:VEVENT
BEGIN:VEVENT
DTSTAMP:20260425T154433Z
DTSTART;VALUE=DATE:20110515
SUMMARY:ICIG 2011 Deadline
DESCRIPTION:The 6th International Conference on Image and Graphics
URL:http://www.wikicfp.com/cfp/servlet/event.showcfp?eventid=13947&copyow
 nerid=23588
UID:cfp164545-D@wikicfp.com
END:VEVENT
BEGIN:VEVENT
DTSTAMP:20260425T154433Z
DTSTART;VALUE=DATE:20110630
SUMMARY:ICIG 2011 Notification Due
DESCRIPTION:The 6th International Conference on Image and Graphics
URL:http://www.wikicfp.com/cfp/servlet/event.showcfp?eventid=13947&copyow
 nerid=23588
UID:cfp164545-N@wikicfp.com
END:VEVENT
BEGIN:VEVENT
DTSTAMP:20260425T154433Z
DTSTART;VALUE=DATE:20110720
SUMMARY:ICIG 2011 Final Version Due
DESCRIPTION:The 6th International Conference on Image and Graphics
URL:http://www.wikicfp.com/cfp/servlet/event.showcfp?eventid=13947&copyow
 nerid=23588
UID:cfp164545-N@wikicfp.com
END:VEVENT
BEGIN:VEVENT
DTSTAMP:20260425T154433Z
DTSTART;VALUE=DATE:20110904
DTEND;VALUE=DATE:20110907
SUMMARY:ISPA 2011
DESCRIPTION:7th International Symposium on Image and Signal Processing an
 d Analysis
URL:http://www.wikicfp.com/cfp/servlet/event.showcfp?eventid=14341&copyow
 nerid=23588
UID:cfp164548-E@wikicfp.com
END:VEVENT
BEGIN:VEVENT
DTSTAMP:20260425T154433Z
DTSTART;VALUE=DATE:20110515
SUMMARY:ISPA 2011 Deadline
DESCRIPTION:7th International Symposium on Image and Signal Processing an
 d Analysis
URL:http://www.wikicfp.com/cfp/servlet/event.showcfp?eventid=14341&copyow
 nerid=23588
UID:cfp164548-D@wikicfp.com
END:VEVENT
BEGIN:VEVENT
DTSTAMP:20260425T154433Z
DTSTART;VALUE=DATE:20110601
SUMMARY:CNAR 2011 Deadline
DESCRIPTION:Special Journal Issue on Cognitive and Neural Aspects in Robo
 tics with Applications 2011
URL:http://www.wikicfp.com/cfp/servlet/event.showcfp?eventid=15667&copyow
 nerid=23588
UID:cfp164555-D@wikicfp.com
END:VEVENT
BEGIN:VEVENT
DTSTAMP:20260425T154433Z
DTSTART;VALUE=DATE:20111116
DTEND;VALUE=DATE:20111119
SUMMARY:ICSIPA 2011
DESCRIPTION:IEEE International Conference on Signal and Image Processing 
 Applications
URL:http://www.wikicfp.com/cfp/servlet/event.showcfp?eventid=14154&copyow
 nerid=23588
UID:cfp164546-E@wikicfp.com
END:VEVENT
BEGIN:VEVENT
DTSTAMP:20260425T154433Z
DTSTART;VALUE=DATE:20110603
SUMMARY:ICSIPA 2011 Deadline
DESCRIPTION:IEEE International Conference on Signal and Image Processing 
 Applications
URL:http://www.wikicfp.com/cfp/servlet/event.showcfp?eventid=14154&copyow
 nerid=23588
UID:cfp164546-D@wikicfp.com
END:VEVENT
BEGIN:VEVENT
DTSTAMP:20260425T154433Z
DTSTART;VALUE=DATE:20110817
SUMMARY:ICSIPA 2011 Notification Due
DESCRIPTION:IEEE International Conference on Signal and Image Processing 
 Applications
URL:http://www.wikicfp.com/cfp/servlet/event.showcfp?eventid=14154&copyow
 nerid=23588
UID:cfp164546-N@wikicfp.com
END:VEVENT
BEGIN:VEVENT
DTSTAMP:20260425T154433Z
DTSTART;VALUE=DATE:20110930
SUMMARY:ICSIPA 2011 Final Version Due
DESCRIPTION:IEEE International Conference on Signal and Image Processing 
 Applications
URL:http://www.wikicfp.com/cfp/servlet/event.showcfp?eventid=14154&copyow
 nerid=23588
UID:cfp164546-N@wikicfp.com
END:VEVENT
BEGIN:VEVENT
DTSTAMP:20260425T154433Z
DTSTART;VALUE=DATE:20111206
DTEND;VALUE=DATE:20111209
SUMMARY:DICTA 2011
DESCRIPTION:International Conference on Digital Image Computing: Techniqu
 es and Applications
URL:http://www.wikicfp.com/cfp/servlet/event.showcfp?eventid=14528&copyow
 nerid=23588
UID:cfp164550-E@wikicfp.com
END:VEVENT
BEGIN:VEVENT
DTSTAMP:20260425T154433Z
DTSTART;VALUE=DATE:20110705
SUMMARY:DICTA 2011 Deadline
DESCRIPTION:International Conference on Digital Image Computing: Techniqu
 es and Applications
URL:http://www.wikicfp.com/cfp/servlet/event.showcfp?eventid=14528&copyow
 nerid=23588
UID:cfp164550-D@wikicfp.com
END:VEVENT
BEGIN:VEVENT
DTSTAMP:20260425T154433Z
DTSTART;VALUE=DATE:20110805
SUMMARY:DICTA 2011 Notification Due
DESCRIPTION:International Conference on Digital Image Computing: Techniqu
 es and Applications
URL:http://www.wikicfp.com/cfp/servlet/event.showcfp?eventid=14528&copyow
 nerid=23588
UID:cfp164550-N@wikicfp.com
END:VEVENT
BEGIN:VEVENT
DTSTAMP:20260425T154433Z
DTSTART;VALUE=DATE:20110829
SUMMARY:DICTA 2011 Final Version Due
DESCRIPTION:International Conference on Digital Image Computing: Techniqu
 es and Applications
URL:http://www.wikicfp.com/cfp/servlet/event.showcfp?eventid=14528&copyow
 nerid=23588
UID:cfp164550-N@wikicfp.com
END:VEVENT
BEGIN:VEVENT
DTSTAMP:20260425T154433Z
DTSTART;VALUE=DATE:20111103
DTEND;VALUE=DATE:20111106
SUMMARY:ICIIP 2011
DESCRIPTION:2011 International Conference on Image Information Processing
 
URL:http://www.wikicfp.com/cfp/servlet/event.showcfp?eventid=14280&copyow
 nerid=23588
UID:cfp164547-E@wikicfp.com
END:VEVENT
BEGIN:VEVENT
DTSTAMP:20260425T154433Z
DTSTART;VALUE=DATE:20110714
SUMMARY:ICIIP 2011 Deadline
DESCRIPTION:2011 International Conference on Image Information Processing
 
URL:http://www.wikicfp.com/cfp/servlet/event.showcfp?eventid=14280&copyow
 nerid=23588
UID:cfp164547-D@wikicfp.com
END:VEVENT
BEGIN:VEVENT
DTSTAMP:20260425T154433Z
DTSTART;VALUE=DATE:20110814
SUMMARY:ICIIP 2011 Notification Due
DESCRIPTION:2011 International Conference on Image Information Processing
 
URL:http://www.wikicfp.com/cfp/servlet/event.showcfp?eventid=14280&copyow
 nerid=23588
UID:cfp164547-N@wikicfp.com
END:VEVENT
BEGIN:VEVENT
DTSTAMP:20260425T154433Z
DTSTART;VALUE=DATE:20110915
SUMMARY:ICIIP 2011 Final Version Due
DESCRIPTION:2011 International Conference on Image Information Processing
 
URL:http://www.wikicfp.com/cfp/servlet/event.showcfp?eventid=14280&copyow
 nerid=23588
UID:cfp164547-N@wikicfp.com
END:VEVENT
BEGIN:VEVENT
DTSTAMP:20260425T154433Z
DTSTART;VALUE=DATE:20110907
DTEND;VALUE=DATE:20110910
SUMMARY:IMVIP 2011
DESCRIPTION:15th Irish Machine Vision and Image Processing Conference
URL:http://www.wikicfp.com/cfp/servlet/event.showcfp?eventid=14744&copyow
 nerid=23588
UID:cfp164552-E@wikicfp.com
END:VEVENT
BEGIN:VEVENT
DTSTAMP:20260425T154433Z
DTSTART;VALUE=DATE:20110731
SUMMARY:IMVIP 2011 Deadline
DESCRIPTION:15th Irish Machine Vision and Image Processing Conference
URL:http://www.wikicfp.com/cfp/servlet/event.showcfp?eventid=14744&copyow
 nerid=23588
UID:cfp164552-D@wikicfp.com
END:VEVENT
BEGIN:VEVENT
DTSTAMP:20260425T154433Z
DTSTART;VALUE=DATE:20120411
DTEND;VALUE=DATE:20120414
SUMMARY:IWSSIP 2012
DESCRIPTION:International Conference on Systems\, Signals and Image Proce
 ssing
URL:http://www.wikicfp.com/cfp/servlet/event.showcfp?eventid=13682&copyow
 nerid=23588
UID:cfp164543-E@wikicfp.com
END:VEVENT
BEGIN:VEVENT
DTSTAMP:20260425T154433Z
DTSTART;VALUE=DATE:20110915
SUMMARY:IWSSIP 2012 Deadline
DESCRIPTION:International Conference on Systems\, Signals and Image Proce
 ssing
URL:http://www.wikicfp.com/cfp/servlet/event.showcfp?eventid=13682&copyow
 nerid=23588
UID:cfp164543-D@wikicfp.com
END:VEVENT
BEGIN:VEVENT
DTSTAMP:20260425T154433Z
DTSTART;VALUE=DATE:20111215
SUMMARY:IWSSIP 2012 Notification Due
DESCRIPTION:International Conference on Systems\, Signals and Image Proce
 ssing
URL:http://www.wikicfp.com/cfp/servlet/event.showcfp?eventid=13682&copyow
 nerid=23588
UID:cfp164543-N@wikicfp.com
END:VEVENT
BEGIN:VEVENT
DTSTAMP:20260425T154433Z
DTSTART;VALUE=DATE:20120131
SUMMARY:IWSSIP 2012 Final Version Due
DESCRIPTION:International Conference on Systems\, Signals and Image Proce
 ssing
URL:http://www.wikicfp.com/cfp/servlet/event.showcfp?eventid=13682&copyow
 nerid=23588
UID:cfp164543-N@wikicfp.com
END:VEVENT
BEGIN:VEVENT
DTSTAMP:20260425T154433Z
DTSTART;VALUE=DATE:20111214
DTEND;VALUE=DATE:20111217
SUMMARY:SIP 2011
DESCRIPTION:The 13th International Conference on Signal and Image Process
 ing
URL:http://www.wikicfp.com/cfp/servlet/event.showcfp?eventid=15563&copyow
 nerid=23588
UID:cfp164554-E@wikicfp.com
END:VEVENT
BEGIN:VEVENT
DTSTAMP:20260425T154433Z
DTSTART;VALUE=DATE:20110922
SUMMARY:SIP 2011 Deadline
DESCRIPTION:The 13th International Conference on Signal and Image Process
 ing
URL:http://www.wikicfp.com/cfp/servlet/event.showcfp?eventid=15563&copyow
 nerid=23588
UID:cfp164554-D@wikicfp.com
END:VEVENT
BEGIN:VEVENT
DTSTAMP:20260425T154433Z
DTSTART;VALUE=DATE:20111012
SUMMARY:SIP 2011 Notification Due
DESCRIPTION:The 13th International Conference on Signal and Image Process
 ing
URL:http://www.wikicfp.com/cfp/servlet/event.showcfp?eventid=15563&copyow
 nerid=23588
UID:cfp164554-N@wikicfp.com
END:VEVENT
BEGIN:VEVENT
DTSTAMP:20260425T154433Z
DTSTART;VALUE=DATE:20111028
SUMMARY:SIP 2011 Final Version Due
DESCRIPTION:The 13th International Conference on Signal and Image Process
 ing
URL:http://www.wikicfp.com/cfp/servlet/event.showcfp?eventid=15563&copyow
 nerid=23588
UID:cfp164554-N@wikicfp.com
END:VEVENT
BEGIN:VEVENT
DTSTAMP:20260425T154433Z
DTSTART;VALUE=DATE:20130101
DTEND;VALUE=DATE:20140101
SUMMARY:IJRA 2013
DESCRIPTION:International Journal of Robotics and Automation
URL:http://www.wikicfp.com/cfp/servlet/event.showcfp?eventid=14557&copyow
 nerid=23588
UID:cfp164551-E@wikicfp.com
END:VEVENT
BEGIN:VEVENT
DTSTAMP:20260425T154433Z
DTSTART;VALUE=DATE:20131231
SUMMARY:IJRA 2013 Deadline
DESCRIPTION:International Journal of Robotics and Automation
URL:http://www.wikicfp.com/cfp/servlet/event.showcfp?eventid=14557&copyow
 nerid=23588
UID:cfp164551-D@wikicfp.com
END:VEVENT
END:VCALENDAR
