BEGIN:VCALENDAR
PRODID:-//WikiCFP//pkuBenjamin 1.0//EN
VERSION:2.0
CALSCALE:GREGORIAN
BEGIN:VEVENT
DTSTAMP:20260419T152027Z
DTSTART;VALUE=DATE:20110522
DTEND;VALUE=DATE:20110528
SUMMARY:ICASSP 2011
DESCRIPTION:IEEE International Conference on Acoustics\, Speech and Signa
 l Processing
URL:http://www.wikicfp.com/cfp/servlet/event.showcfp?eventid=6204&copyown
 erid=23481
UID:cfp163339-E@wikicfp.com
END:VEVENT
BEGIN:VEVENT
DTSTAMP:20260419T152027Z
DTSTART;VALUE=DATE:20101020
SUMMARY:ICASSP 2011 Deadline
DESCRIPTION:IEEE International Conference on Acoustics\, Speech and Signa
 l Processing
URL:http://www.wikicfp.com/cfp/servlet/event.showcfp?eventid=6204&copyown
 erid=23481
UID:cfp163339-D@wikicfp.com
END:VEVENT
BEGIN:VEVENT
DTSTAMP:20260419T152027Z
DTSTART;VALUE=DATE:20110117
SUMMARY:ICASSP 2011 Notification Due
DESCRIPTION:IEEE International Conference on Acoustics\, Speech and Signa
 l Processing
URL:http://www.wikicfp.com/cfp/servlet/event.showcfp?eventid=6204&copyown
 erid=23481
UID:cfp163339-N@wikicfp.com
END:VEVENT
BEGIN:VEVENT
DTSTAMP:20260419T152027Z
DTSTART;VALUE=DATE:20110220
SUMMARY:ICASSP 2011 Final Version Due
DESCRIPTION:IEEE International Conference on Acoustics\, Speech and Signa
 l Processing
URL:http://www.wikicfp.com/cfp/servlet/event.showcfp?eventid=6204&copyown
 erid=23481
UID:cfp163339-N@wikicfp.com
END:VEVENT
BEGIN:VEVENT
DTSTAMP:20260419T152027Z
DTSTART;VALUE=DATE:20111205
DTEND;VALUE=DATE:20111210
SUMMARY:GLOBECOM 2011
DESCRIPTION:IEEE Global Communications Conference
URL:http://www.wikicfp.com/cfp/servlet/event.showcfp?eventid=10129&copyow
 nerid=23481
UID:cfp163342-E@wikicfp.com
END:VEVENT
BEGIN:VEVENT
DTSTAMP:20260419T152027Z
DTSTART;VALUE=DATE:20110405
SUMMARY:GLOBECOM 2011 Deadline
DESCRIPTION:IEEE Global Communications Conference
URL:http://www.wikicfp.com/cfp/servlet/event.showcfp?eventid=10129&copyow
 nerid=23481
UID:cfp163342-D@wikicfp.com
END:VEVENT
BEGIN:VEVENT
DTSTAMP:20260419T152027Z
DTSTART;VALUE=DATE:20110701
SUMMARY:GLOBECOM 2011 Notification Due
DESCRIPTION:IEEE Global Communications Conference
URL:http://www.wikicfp.com/cfp/servlet/event.showcfp?eventid=10129&copyow
 nerid=23481
UID:cfp163342-N@wikicfp.com
END:VEVENT
BEGIN:VEVENT
DTSTAMP:20260419T152027Z
DTSTART;VALUE=DATE:20110801
SUMMARY:GLOBECOM 2011 Final Version Due
DESCRIPTION:IEEE Global Communications Conference
URL:http://www.wikicfp.com/cfp/servlet/event.showcfp?eventid=10129&copyow
 nerid=23481
UID:cfp163342-N@wikicfp.com
END:VEVENT
BEGIN:VEVENT
DTSTAMP:20260419T152027Z
DTSTART;VALUE=DATE:20120610
DTEND;VALUE=DATE:20120616
SUMMARY:ICC 2012
DESCRIPTION:IEEE International Conference on Communications
URL:http://www.wikicfp.com/cfp/servlet/event.showcfp?eventid=11083&copyow
 nerid=23481
UID:cfp163340-E@wikicfp.com
END:VEVENT
BEGIN:VEVENT
DTSTAMP:20260419T152027Z
DTSTART;VALUE=DATE:20110928
SUMMARY:ICC 2012 Deadline
DESCRIPTION:IEEE International Conference on Communications
URL:http://www.wikicfp.com/cfp/servlet/event.showcfp?eventid=11083&copyow
 nerid=23481
UID:cfp163340-D@wikicfp.com
END:VEVENT
BEGIN:VEVENT
DTSTAMP:20260419T152027Z
DTSTART;VALUE=DATE:20120109
SUMMARY:ICC 2012 Notification Due
DESCRIPTION:IEEE International Conference on Communications
URL:http://www.wikicfp.com/cfp/servlet/event.showcfp?eventid=11083&copyow
 nerid=23481
UID:cfp163340-N@wikicfp.com
END:VEVENT
BEGIN:VEVENT
DTSTAMP:20260419T152027Z
DTSTART;VALUE=DATE:20120210
SUMMARY:ICC 2012 Final Version Due
DESCRIPTION:IEEE International Conference on Communications
URL:http://www.wikicfp.com/cfp/servlet/event.showcfp?eventid=11083&copyow
 nerid=23481
UID:cfp163340-N@wikicfp.com
END:VEVENT
BEGIN:VEVENT
DTSTAMP:20260419T152027Z
DTSTART;VALUE=DATE:20121203
DTEND;VALUE=DATE:20121208
SUMMARY:GLOBECOM 2012
DESCRIPTION:IEEE Global Communications Conference
URL:http://www.wikicfp.com/cfp/servlet/event.showcfp?eventid=13878&copyow
 nerid=23481
UID:cfp163341-E@wikicfp.com
END:VEVENT
BEGIN:VEVENT
DTSTAMP:20260419T152027Z
DTSTART;VALUE=DATE:20120330
SUMMARY:GLOBECOM 2012 Deadline
DESCRIPTION:IEEE Global Communications Conference
URL:http://www.wikicfp.com/cfp/servlet/event.showcfp?eventid=13878&copyow
 nerid=23481
UID:cfp163341-D@wikicfp.com
END:VEVENT
BEGIN:VEVENT
DTSTAMP:20260419T152027Z
DTSTART;VALUE=DATE:20120701
SUMMARY:GLOBECOM 2012 Notification Due
DESCRIPTION:IEEE Global Communications Conference
URL:http://www.wikicfp.com/cfp/servlet/event.showcfp?eventid=13878&copyow
 nerid=23481
UID:cfp163341-N@wikicfp.com
END:VEVENT
BEGIN:VEVENT
DTSTAMP:20260419T152027Z
DTSTART;VALUE=DATE:20120801
SUMMARY:GLOBECOM 2012 Final Version Due
DESCRIPTION:IEEE Global Communications Conference
URL:http://www.wikicfp.com/cfp/servlet/event.showcfp?eventid=13878&copyow
 nerid=23481
UID:cfp163341-N@wikicfp.com
END:VEVENT
BEGIN:VEVENT
DTSTAMP:20260419T152027Z
DTSTART;VALUE=DATE:20120707
DTEND;VALUE=DATE:20120709
SUMMARY:ICSIP 2012
DESCRIPTION:2012 3rd International Conference on Signal and Information P
 rocessing
URL:http://www.wikicfp.com/cfp/servlet/event.showcfp?eventid=21635&copyow
 nerid=23481
UID:cfp258278-E@wikicfp.com
END:VEVENT
BEGIN:VEVENT
DTSTAMP:20260419T152027Z
DTSTART;VALUE=DATE:20120501
SUMMARY:ICSIP 2012 Deadline
DESCRIPTION:2012 3rd International Conference on Signal and Information P
 rocessing
URL:http://www.wikicfp.com/cfp/servlet/event.showcfp?eventid=21635&copyow
 nerid=23481
UID:cfp258278-D@wikicfp.com
END:VEVENT
BEGIN:VEVENT
DTSTAMP:20260419T152027Z
DTSTART;VALUE=DATE:20120515
SUMMARY:ICSIP 2012 Notification Due
DESCRIPTION:2012 3rd International Conference on Signal and Information P
 rocessing
URL:http://www.wikicfp.com/cfp/servlet/event.showcfp?eventid=21635&copyow
 nerid=23481
UID:cfp258278-N@wikicfp.com
END:VEVENT
BEGIN:VEVENT
DTSTAMP:20260419T152027Z
DTSTART;VALUE=DATE:20120530
SUMMARY:ICSIP 2012 Final Version Due
DESCRIPTION:2012 3rd International Conference on Signal and Information P
 rocessing
URL:http://www.wikicfp.com/cfp/servlet/event.showcfp?eventid=21635&copyow
 nerid=23481
UID:cfp258278-N@wikicfp.com
END:VEVENT
END:VCALENDAR
