BEGIN:VCALENDAR
PRODID:-//WikiCFP//shubhi12jain 1.0//EN
VERSION:2.0
CALSCALE:GREGORIAN
BEGIN:VEVENT
DTSTAMP:20260424T084623Z
DTSTART;VALUE=DATE:20111208
DTEND;VALUE=DATE:20111212
SUMMARY:ObCom 2011
DESCRIPTION:ObCom International Conference on Recent Trends in Computing\
 , Communication and Information Technologies
URL:http://www.wikicfp.com/cfp/servlet/event.showcfp?eventid=12379&copyow
 nerid=23197
UID:cfp161208-E@wikicfp.com
END:VEVENT
BEGIN:VEVENT
DTSTAMP:20260424T084623Z
DTSTART;VALUE=DATE:20110918
SUMMARY:ObCom 2011 Deadline
DESCRIPTION:ObCom International Conference on Recent Trends in Computing\
 , Communication and Information Technologies
URL:http://www.wikicfp.com/cfp/servlet/event.showcfp?eventid=12379&copyow
 nerid=23197
UID:cfp161208-D@wikicfp.com
END:VEVENT
BEGIN:VEVENT
DTSTAMP:20260424T084623Z
DTSTART;VALUE=DATE:20111015
SUMMARY:ObCom 2011 Notification Due
DESCRIPTION:ObCom International Conference on Recent Trends in Computing\
 , Communication and Information Technologies
URL:http://www.wikicfp.com/cfp/servlet/event.showcfp?eventid=12379&copyow
 nerid=23197
UID:cfp161208-N@wikicfp.com
END:VEVENT
BEGIN:VEVENT
DTSTAMP:20260424T084623Z
DTSTART;VALUE=DATE:20111031
SUMMARY:ObCom 2011 Final Version Due
DESCRIPTION:ObCom International Conference on Recent Trends in Computing\
 , Communication and Information Technologies
URL:http://www.wikicfp.com/cfp/servlet/event.showcfp?eventid=12379&copyow
 nerid=23197
UID:cfp161208-N@wikicfp.com
END:VEVENT
END:VCALENDAR
