BEGIN:VCALENDAR
PRODID:-//WikiCFP//sarvenaz_slh 1.0//EN
VERSION:2.0
CALSCALE:GREGORIAN
BEGIN:VEVENT
DTSTAMP:20260423T185322Z
DTSTART;VALUE=DATE:20110716
DTEND;VALUE=DATE:20110718
SUMMARY:ICSRA 2011
DESCRIPTION:IIS 3rd International Conference on Signal Processing\, Robot
 ics and Automation
URL:http://www.wikicfp.com/cfp/servlet/event.showcfp?eventid=12365&copyow
 nerid=23189
UID:cfp161147-E@wikicfp.com
END:VEVENT
BEGIN:VEVENT
DTSTAMP:20260423T185322Z
DTSTART;VALUE=DATE:20110510
SUMMARY:ICSRA 2011 Deadline
DESCRIPTION:IIS 3rd International Conference on Signal Processing\, Robot
 ics and Automation
URL:http://www.wikicfp.com/cfp/servlet/event.showcfp?eventid=12365&copyow
 nerid=23189
UID:cfp161147-D@wikicfp.com
END:VEVENT
BEGIN:VEVENT
DTSTAMP:20260423T185322Z
DTSTART;VALUE=DATE:20110601
SUMMARY:ICSRA 2011 Notification Due
DESCRIPTION:IIS 3rd International Conference on Signal Processing\, Robot
 ics and Automation
URL:http://www.wikicfp.com/cfp/servlet/event.showcfp?eventid=12365&copyow
 nerid=23189
UID:cfp161147-N@wikicfp.com
END:VEVENT
BEGIN:VEVENT
DTSTAMP:20260423T185322Z
DTSTART;VALUE=DATE:20110615
SUMMARY:ICSRA 2011 Final Version Due
DESCRIPTION:IIS 3rd International Conference on Signal Processing\, Robot
 ics and Automation
URL:http://www.wikicfp.com/cfp/servlet/event.showcfp?eventid=12365&copyow
 nerid=23189
UID:cfp161147-N@wikicfp.com
END:VEVENT
END:VCALENDAR
