BEGIN:VCALENDAR
PRODID:-//WikiCFP//svinga 1.0//EN
VERSION:2.0
CALSCALE:GREGORIAN
BEGIN:VEVENT
DTSTAMP:20260423T020843Z
DTSTART;VALUE=DATE:20110717
DTEND;VALUE=DATE:20110720
SUMMARY:ISMB/ECCB 2011
DESCRIPTION:19th Annual International Conference on Intelligent Systems f
 or Molecular Biology and 10th European Conference on Computational Biolo
 gy
URL:http://www.wikicfp.com/cfp/servlet/event.showcfp?eventid=11758&copyow
 nerid=23140
UID:cfp160852-E@wikicfp.com
END:VEVENT
BEGIN:VEVENT
DTSTAMP:20260423T020843Z
DTSTART;VALUE=DATE:20110114
SUMMARY:ISMB/ECCB 2011 Deadline
DESCRIPTION:19th Annual International Conference on Intelligent Systems f
 or Molecular Biology and 10th European Conference on Computational Biolo
 gy
URL:http://www.wikicfp.com/cfp/servlet/event.showcfp?eventid=11758&copyow
 nerid=23140
UID:cfp160852-D@wikicfp.com
END:VEVENT
BEGIN:VEVENT
DTSTAMP:20260423T020843Z
DTSTART;VALUE=DATE:20110801
DTEND;VALUE=DATE:20110804
SUMMARY:ACM BCB 2011
DESCRIPTION:2011 ACM Conference on Bioinformatics\, Computational Biology
  and Biomedicine
URL:http://www.wikicfp.com/cfp/servlet/event.showcfp?eventid=13274&copyow
 nerid=23140
UID:cfp160853-E@wikicfp.com
END:VEVENT
BEGIN:VEVENT
DTSTAMP:20260423T020843Z
DTSTART;VALUE=DATE:20110301
SUMMARY:ACM BCB 2011 Deadline
DESCRIPTION:2011 ACM Conference on Bioinformatics\, Computational Biology
  and Biomedicine
URL:http://www.wikicfp.com/cfp/servlet/event.showcfp?eventid=13274&copyow
 nerid=23140
UID:cfp160853-D@wikicfp.com
END:VEVENT
BEGIN:VEVENT
DTSTAMP:20260423T020843Z
DTSTART;VALUE=DATE:20110415
SUMMARY:ACM BCB 2011 Notification Due
DESCRIPTION:2011 ACM Conference on Bioinformatics\, Computational Biology
  and Biomedicine
URL:http://www.wikicfp.com/cfp/servlet/event.showcfp?eventid=13274&copyow
 nerid=23140
UID:cfp160853-N@wikicfp.com
END:VEVENT
BEGIN:VEVENT
DTSTAMP:20260423T020843Z
DTSTART;VALUE=DATE:20110501
SUMMARY:ACM BCB 2011 Final Version Due
DESCRIPTION:2011 ACM Conference on Bioinformatics\, Computational Biology
  and Biomedicine
URL:http://www.wikicfp.com/cfp/servlet/event.showcfp?eventid=13274&copyow
 nerid=23140
UID:cfp160853-N@wikicfp.com
END:VEVENT
BEGIN:VEVENT
DTSTAMP:20260423T020843Z
DTSTART;VALUE=DATE:20110201
DTEND;VALUE=DATE:20111101
SUMMARY:TBME-Letters-Special 2011
DESCRIPTION:IEEE Transactions on Biomedical Engineering (TBME) Letters - 
 Special Issue: Multi-Scale Modeling and Analysis for Computational Biolo
 gy and Medicine
URL:http://www.wikicfp.com/cfp/servlet/event.showcfp?eventid=14545&copyow
 nerid=23140
UID:cfp160857-E@wikicfp.com
END:VEVENT
BEGIN:VEVENT
DTSTAMP:20260423T020843Z
DTSTART;VALUE=DATE:20110402
SUMMARY:TBME-Letters-Special 2011 Deadline
DESCRIPTION:IEEE Transactions on Biomedical Engineering (TBME) Letters - 
 Special Issue: Multi-Scale Modeling and Analysis for Computational Biolo
 gy and Medicine
URL:http://www.wikicfp.com/cfp/servlet/event.showcfp?eventid=14545&copyow
 nerid=23140
UID:cfp160857-D@wikicfp.com
END:VEVENT
BEGIN:VEVENT
DTSTAMP:20260423T020843Z
DTSTART;VALUE=DATE:20110515
SUMMARY:TBME-Letters-Special 2011 Notification Due
DESCRIPTION:IEEE Transactions on Biomedical Engineering (TBME) Letters - 
 Special Issue: Multi-Scale Modeling and Analysis for Computational Biolo
 gy and Medicine
URL:http://www.wikicfp.com/cfp/servlet/event.showcfp?eventid=14545&copyow
 nerid=23140
UID:cfp160857-N@wikicfp.com
END:VEVENT
BEGIN:VEVENT
DTSTAMP:20260423T020843Z
DTSTART;VALUE=DATE:20110601
SUMMARY:TBME-Letters-Special 2011 Final Version Due
DESCRIPTION:IEEE Transactions on Biomedical Engineering (TBME) Letters - 
 Special Issue: Multi-Scale Modeling and Analysis for Computational Biolo
 gy and Medicine
URL:http://www.wikicfp.com/cfp/servlet/event.showcfp?eventid=14545&copyow
 nerid=23140
UID:cfp160857-N@wikicfp.com
END:VEVENT
BEGIN:VEVENT
DTSTAMP:20260423T020843Z
DTSTART;VALUE=DATE:20120206
DTEND;VALUE=DATE:20120209
SUMMARY:ICPRAM 2012
DESCRIPTION:1st International Conference on Pattern Recognition Applicati
 ons and Methods
URL:http://www.wikicfp.com/cfp/servlet/event.showcfp?eventid=15444&copyow
 nerid=23140
UID:cfp160858-E@wikicfp.com
END:VEVENT
BEGIN:VEVENT
DTSTAMP:20260423T020843Z
DTSTART;VALUE=DATE:20110908
SUMMARY:ICPRAM 2012 Deadline
DESCRIPTION:1st International Conference on Pattern Recognition Applicati
 ons and Methods
URL:http://www.wikicfp.com/cfp/servlet/event.showcfp?eventid=15444&copyow
 nerid=23140
UID:cfp160858-D@wikicfp.com
END:VEVENT
BEGIN:VEVENT
DTSTAMP:20260423T020843Z
DTSTART;VALUE=DATE:20111017
SUMMARY:ICPRAM 2012 Notification Due
DESCRIPTION:1st International Conference on Pattern Recognition Applicati
 ons and Methods
URL:http://www.wikicfp.com/cfp/servlet/event.showcfp?eventid=15444&copyow
 nerid=23140
UID:cfp160858-N@wikicfp.com
END:VEVENT
BEGIN:VEVENT
DTSTAMP:20260423T020843Z
DTSTART;VALUE=DATE:20111031
SUMMARY:ICPRAM 2012 Final Version Due
DESCRIPTION:1st International Conference on Pattern Recognition Applicati
 ons and Methods
URL:http://www.wikicfp.com/cfp/servlet/event.showcfp?eventid=15444&copyow
 nerid=23140
UID:cfp160858-N@wikicfp.com
END:VEVENT
BEGIN:VEVENT
DTSTAMP:20260423T020843Z
DTSTART;VALUE=DATE:20100606
DTEND;VALUE=DATE:20100609
SUMMARY:ADHS 2012
DESCRIPTION:4th IFAC Conference on Analysis and Design of Hybrid Systems
URL:http://www.wikicfp.com/cfp/servlet/event.showcfp?eventid=15516&copyow
 nerid=23140
UID:cfp160860-E@wikicfp.com
END:VEVENT
BEGIN:VEVENT
DTSTAMP:20260423T020843Z
DTSTART;VALUE=DATE:20111115
SUMMARY:ADHS 2012 Deadline
DESCRIPTION:4th IFAC Conference on Analysis and Design of Hybrid Systems
URL:http://www.wikicfp.com/cfp/servlet/event.showcfp?eventid=15516&copyow
 nerid=23140
UID:cfp160860-D@wikicfp.com
END:VEVENT
BEGIN:VEVENT
DTSTAMP:20260423T020843Z
DTSTART;VALUE=DATE:20120509
DTEND;VALUE=DATE:20120513
SUMMARY:CIBCB 2012
DESCRIPTION:IEEE Symposium on Computational Intelligence in Bioinformatic
 s and Computational Biology
URL:http://www.wikicfp.com/cfp/servlet/event.showcfp?eventid=14368&copyow
 nerid=23140
UID:cfp160855-E@wikicfp.com
END:VEVENT
BEGIN:VEVENT
DTSTAMP:20260423T020843Z
DTSTART;VALUE=DATE:20111120
SUMMARY:CIBCB 2012 Deadline
DESCRIPTION:IEEE Symposium on Computational Intelligence in Bioinformatic
 s and Computational Biology
URL:http://www.wikicfp.com/cfp/servlet/event.showcfp?eventid=14368&copyow
 nerid=23140
UID:cfp160855-D@wikicfp.com
END:VEVENT
BEGIN:VEVENT
DTSTAMP:20260423T020843Z
DTSTART;VALUE=DATE:20120219
SUMMARY:CIBCB 2012 Notification Due
DESCRIPTION:IEEE Symposium on Computational Intelligence in Bioinformatic
 s and Computational Biology
URL:http://www.wikicfp.com/cfp/servlet/event.showcfp?eventid=14368&copyow
 nerid=23140
UID:cfp160855-N@wikicfp.com
END:VEVENT
BEGIN:VEVENT
DTSTAMP:20260423T020843Z
DTSTART;VALUE=DATE:20120318
SUMMARY:CIBCB 2012 Final Version Due
DESCRIPTION:IEEE Symposium on Computational Intelligence in Bioinformatic
 s and Computational Biology
URL:http://www.wikicfp.com/cfp/servlet/event.showcfp?eventid=14368&copyow
 nerid=23140
UID:cfp160855-N@wikicfp.com
END:VEVENT
BEGIN:VEVENT
DTSTAMP:20260423T020843Z
DTSTART;VALUE=DATE:20130719
DTEND;VALUE=DATE:20130724
SUMMARY:ISMB/ECCB 2013
DESCRIPTION:21st Annual Conference on Intelligent Systems for Molecular B
 iology/12th European Conference on Computational Biology
URL:http://www.wikicfp.com/cfp/servlet/event.showcfp?eventid=26260&copyow
 nerid=23140
UID:cfp314617-E@wikicfp.com
END:VEVENT
BEGIN:VEVENT
DTSTAMP:20260423T020843Z
DTSTART;VALUE=DATE:20130107
SUMMARY:ISMB/ECCB 2013 Deadline
DESCRIPTION:21st Annual Conference on Intelligent Systems for Molecular B
 iology/12th European Conference on Computational Biology
URL:http://www.wikicfp.com/cfp/servlet/event.showcfp?eventid=26260&copyow
 nerid=23140
UID:cfp314617-D@wikicfp.com
END:VEVENT
BEGIN:VEVENT
DTSTAMP:20260423T020843Z
DTSTART;VALUE=DATE:20130412
SUMMARY:ISMB/ECCB 2013 Final Version Due
DESCRIPTION:21st Annual Conference on Intelligent Systems for Molecular B
 iology/12th European Conference on Computational Biology
URL:http://www.wikicfp.com/cfp/servlet/event.showcfp?eventid=26260&copyow
 nerid=23140
UID:cfp314617-N@wikicfp.com
END:VEVENT
END:VCALENDAR
