BEGIN:VCALENDAR
PRODID:-//WikiCFP//THdegroot 1.0//EN
VERSION:2.0
CALSCALE:GREGORIAN
BEGIN:VEVENT
DTSTAMP:20260420T180243Z
DTSTART;VALUE=DATE:20110411
DTEND;VALUE=DATE:20110414
SUMMARY:ICNSC 2011
DESCRIPTION:8th IEEE International Conference on Networking\, Sensing and
  Control
URL:http://www.wikicfp.com/cfp/servlet/event.showcfp?eventid=8628&copyown
 erid=22913
UID:cfp158969-E@wikicfp.com
END:VEVENT
BEGIN:VEVENT
DTSTAMP:20260420T180243Z
DTSTART;VALUE=DATE:20101001
SUMMARY:ICNSC 2011 Deadline
DESCRIPTION:8th IEEE International Conference on Networking\, Sensing and
  Control
URL:http://www.wikicfp.com/cfp/servlet/event.showcfp?eventid=8628&copyown
 erid=22913
UID:cfp158969-D@wikicfp.com
END:VEVENT
BEGIN:VEVENT
DTSTAMP:20260420T180243Z
DTSTART;VALUE=DATE:20101115
SUMMARY:ICNSC 2011 Notification Due
DESCRIPTION:8th IEEE International Conference on Networking\, Sensing and
  Control
URL:http://www.wikicfp.com/cfp/servlet/event.showcfp?eventid=8628&copyown
 erid=22913
UID:cfp158969-N@wikicfp.com
END:VEVENT
BEGIN:VEVENT
DTSTAMP:20260420T180243Z
DTSTART;VALUE=DATE:20101215
SUMMARY:ICNSC 2011 Final Version Due
DESCRIPTION:8th IEEE International Conference on Networking\, Sensing and
  Control
URL:http://www.wikicfp.com/cfp/servlet/event.showcfp?eventid=8628&copyown
 erid=22913
UID:cfp158969-N@wikicfp.com
END:VEVENT
BEGIN:VEVENT
DTSTAMP:20260420T180243Z
DTSTART;VALUE=DATE:20110403
DTEND;VALUE=DATE:20110407
SUMMARY:SysCon 2011
DESCRIPTION:IEEE International Systems Conference
URL:http://www.wikicfp.com/cfp/servlet/event.showcfp?eventid=11113&copyow
 nerid=22913
UID:cfp158968-E@wikicfp.com
END:VEVENT
BEGIN:VEVENT
DTSTAMP:20260420T180243Z
DTSTART;VALUE=DATE:20101001
SUMMARY:SysCon 2011 Deadline
DESCRIPTION:IEEE International Systems Conference
URL:http://www.wikicfp.com/cfp/servlet/event.showcfp?eventid=11113&copyow
 nerid=22913
UID:cfp158968-D@wikicfp.com
END:VEVENT
BEGIN:VEVENT
DTSTAMP:20260420T180243Z
DTSTART;VALUE=DATE:20101201
SUMMARY:SysCon 2011 Notification Due
DESCRIPTION:IEEE International Systems Conference
URL:http://www.wikicfp.com/cfp/servlet/event.showcfp?eventid=11113&copyow
 nerid=22913
UID:cfp158968-N@wikicfp.com
END:VEVENT
BEGIN:VEVENT
DTSTAMP:20260420T180243Z
DTSTART;VALUE=DATE:20110215
SUMMARY:SysCon 2011 Final Version Due
DESCRIPTION:IEEE International Systems Conference
URL:http://www.wikicfp.com/cfp/servlet/event.showcfp?eventid=11113&copyow
 nerid=22913
UID:cfp158968-N@wikicfp.com
END:VEVENT
BEGIN:VEVENT
DTSTAMP:20260420T180243Z
DTSTART;VALUE=DATE:20110705
DTEND;VALUE=DATE:20110709
SUMMARY:FUSION 2011
DESCRIPTION:International Conference on Information Fusion
URL:http://www.wikicfp.com/cfp/servlet/event.showcfp?eventid=11818&copyow
 nerid=22913
UID:cfp158967-E@wikicfp.com
END:VEVENT
BEGIN:VEVENT
DTSTAMP:20260420T180243Z
DTSTART;VALUE=DATE:20110304
SUMMARY:FUSION 2011 Deadline
DESCRIPTION:International Conference on Information Fusion
URL:http://www.wikicfp.com/cfp/servlet/event.showcfp?eventid=11818&copyow
 nerid=22913
UID:cfp158967-D@wikicfp.com
END:VEVENT
BEGIN:VEVENT
DTSTAMP:20260420T180243Z
DTSTART;VALUE=DATE:20110411
SUMMARY:FUSION 2011 Notification Due
DESCRIPTION:International Conference on Information Fusion
URL:http://www.wikicfp.com/cfp/servlet/event.showcfp?eventid=11818&copyow
 nerid=22913
UID:cfp158967-N@wikicfp.com
END:VEVENT
BEGIN:VEVENT
DTSTAMP:20260420T180243Z
DTSTART;VALUE=DATE:20110513
SUMMARY:FUSION 2011 Final Version Due
DESCRIPTION:International Conference on Information Fusion
URL:http://www.wikicfp.com/cfp/servlet/event.showcfp?eventid=11818&copyow
 nerid=22913
UID:cfp158967-N@wikicfp.com
END:VEVENT
BEGIN:VEVENT
DTSTAMP:20260420T180243Z
DTSTART;VALUE=DATE:20110919
DTEND;VALUE=DATE:20110922
SUMMARY:IST-WASN 2011
DESCRIPTION:The 6th International Symposium on Intelligent Systems Techni
 ques for Ad hoc and Wireless Sensor Networks 
URL:http://www.wikicfp.com/cfp/servlet/event.showcfp?eventid=14935&copyow
 nerid=22913
UID:cfp158972-E@wikicfp.com
END:VEVENT
BEGIN:VEVENT
DTSTAMP:20260420T180243Z
DTSTART;VALUE=DATE:20110410
SUMMARY:IST-WASN 2011 Deadline
DESCRIPTION:The 6th International Symposium on Intelligent Systems Techni
 ques for Ad hoc and Wireless Sensor Networks 
URL:http://www.wikicfp.com/cfp/servlet/event.showcfp?eventid=14935&copyow
 nerid=22913
UID:cfp158972-D@wikicfp.com
END:VEVENT
BEGIN:VEVENT
DTSTAMP:20260420T180243Z
DTSTART;VALUE=DATE:20110515
SUMMARY:IST-WASN 2011 Notification Due
DESCRIPTION:The 6th International Symposium on Intelligent Systems Techni
 ques for Ad hoc and Wireless Sensor Networks 
URL:http://www.wikicfp.com/cfp/servlet/event.showcfp?eventid=14935&copyow
 nerid=22913
UID:cfp158972-N@wikicfp.com
END:VEVENT
BEGIN:VEVENT
DTSTAMP:20260420T180243Z
DTSTART;VALUE=DATE:20110620
SUMMARY:IST-WASN 2011 Final Version Due
DESCRIPTION:The 6th International Symposium on Intelligent Systems Techni
 ques for Ad hoc and Wireless Sensor Networks 
URL:http://www.wikicfp.com/cfp/servlet/event.showcfp?eventid=14935&copyow
 nerid=22913
UID:cfp158972-N@wikicfp.com
END:VEVENT
BEGIN:VEVENT
DTSTAMP:20260420T180243Z
DTSTART;VALUE=DATE:20111028
DTEND;VALUE=DATE:20111101
SUMMARY:SENSORS 2011
DESCRIPTION:The 10th Annual IEEE Conference on Sensors
URL:http://www.wikicfp.com/cfp/servlet/event.showcfp?eventid=11237&copyow
 nerid=22913
UID:cfp158962-E@wikicfp.com
END:VEVENT
BEGIN:VEVENT
DTSTAMP:20260420T180243Z
DTSTART;VALUE=DATE:20110506
SUMMARY:SENSORS 2011 Deadline
DESCRIPTION:The 10th Annual IEEE Conference on Sensors
URL:http://www.wikicfp.com/cfp/servlet/event.showcfp?eventid=11237&copyow
 nerid=22913
UID:cfp158962-D@wikicfp.com
END:VEVENT
BEGIN:VEVENT
DTSTAMP:20260420T180243Z
DTSTART;VALUE=DATE:20110630
SUMMARY:SENSORS 2011 Notification Due
DESCRIPTION:The 10th Annual IEEE Conference on Sensors
URL:http://www.wikicfp.com/cfp/servlet/event.showcfp?eventid=11237&copyow
 nerid=22913
UID:cfp158962-N@wikicfp.com
END:VEVENT
BEGIN:VEVENT
DTSTAMP:20260420T180243Z
DTSTART;VALUE=DATE:20110730
SUMMARY:SENSORS 2011 Final Version Due
DESCRIPTION:The 10th Annual IEEE Conference on Sensors
URL:http://www.wikicfp.com/cfp/servlet/event.showcfp?eventid=11237&copyow
 nerid=22913
UID:cfp158962-N@wikicfp.com
END:VEVENT
BEGIN:VEVENT
DTSTAMP:20260420T180243Z
DTSTART;VALUE=DATE:20111129
DTEND;VALUE=DATE:20111203
SUMMARY:RTSS 2011
DESCRIPTION:The 32nd IEEE Real-Time Systems Symposium
URL:http://www.wikicfp.com/cfp/servlet/event.showcfp?eventid=15406&copyow
 nerid=22913
UID:cfp165925-E@wikicfp.com
END:VEVENT
BEGIN:VEVENT
DTSTAMP:20260420T180243Z
DTSTART;VALUE=DATE:20110508
SUMMARY:RTSS 2011 Deadline
DESCRIPTION:The 32nd IEEE Real-Time Systems Symposium
URL:http://www.wikicfp.com/cfp/servlet/event.showcfp?eventid=15406&copyow
 nerid=22913
UID:cfp165925-D@wikicfp.com
END:VEVENT
BEGIN:VEVENT
DTSTAMP:20260420T180243Z
DTSTART;VALUE=DATE:20111026
DTEND;VALUE=DATE:20111029
SUMMARY:ASTSA 2011
DESCRIPTION:Second International Workshop on Advances in Sensor Technolog
 ies\, Systems and Applications 2011
URL:http://www.wikicfp.com/cfp/servlet/event.showcfp?eventid=14178&copyow
 nerid=22913
UID:cfp158960-E@wikicfp.com
END:VEVENT
BEGIN:VEVENT
DTSTAMP:20260420T180243Z
DTSTART;VALUE=DATE:20110601
SUMMARY:ASTSA 2011 Deadline
DESCRIPTION:Second International Workshop on Advances in Sensor Technolog
 ies\, Systems and Applications 2011
URL:http://www.wikicfp.com/cfp/servlet/event.showcfp?eventid=14178&copyow
 nerid=22913
UID:cfp158960-D@wikicfp.com
END:VEVENT
BEGIN:VEVENT
DTSTAMP:20260420T180243Z
DTSTART;VALUE=DATE:20110612
SUMMARY:ASTSA 2011 Notification Due
DESCRIPTION:Second International Workshop on Advances in Sensor Technolog
 ies\, Systems and Applications 2011
URL:http://www.wikicfp.com/cfp/servlet/event.showcfp?eventid=14178&copyow
 nerid=22913
UID:cfp158960-N@wikicfp.com
END:VEVENT
BEGIN:VEVENT
DTSTAMP:20260420T180243Z
DTSTART;VALUE=DATE:20110710
SUMMARY:ASTSA 2011 Final Version Due
DESCRIPTION:Second International Workshop on Advances in Sensor Technolog
 ies\, Systems and Applications 2011
URL:http://www.wikicfp.com/cfp/servlet/event.showcfp?eventid=14178&copyow
 nerid=22913
UID:cfp158960-N@wikicfp.com
END:VEVENT
BEGIN:VEVENT
DTSTAMP:20260420T180243Z
DTSTART;VALUE=DATE:20111206
DTEND;VALUE=DATE:20111210
SUMMARY:ISSNIP 2011
DESCRIPTION:Seventh International Conference on Intelligent Sensors\, Sen
 sor Networks and Information Processing
URL:http://www.wikicfp.com/cfp/servlet/event.showcfp?eventid=15820&copyow
 nerid=22913
UID:cfp171397-E@wikicfp.com
END:VEVENT
BEGIN:VEVENT
DTSTAMP:20260420T180243Z
DTSTART;VALUE=DATE:20110731
SUMMARY:ISSNIP 2011 Deadline
DESCRIPTION:Seventh International Conference on Intelligent Sensors\, Sen
 sor Networks and Information Processing
URL:http://www.wikicfp.com/cfp/servlet/event.showcfp?eventid=15820&copyow
 nerid=22913
UID:cfp171397-D@wikicfp.com
END:VEVENT
BEGIN:VEVENT
DTSTAMP:20260420T180243Z
DTSTART;VALUE=DATE:20110926
SUMMARY:ISSNIP 2011 Notification Due
DESCRIPTION:Seventh International Conference on Intelligent Sensors\, Sen
 sor Networks and Information Processing
URL:http://www.wikicfp.com/cfp/servlet/event.showcfp?eventid=15820&copyow
 nerid=22913
UID:cfp171397-N@wikicfp.com
END:VEVENT
BEGIN:VEVENT
DTSTAMP:20260420T180243Z
DTSTART;VALUE=DATE:20110930
SUMMARY:ISSNIP 2011 Final Version Due
DESCRIPTION:Seventh International Conference on Intelligent Sensors\, Sen
 sor Networks and Information Processing
URL:http://www.wikicfp.com/cfp/servlet/event.showcfp?eventid=15820&copyow
 nerid=22913
UID:cfp171397-N@wikicfp.com
END:VEVENT
BEGIN:VEVENT
DTSTAMP:20260420T180243Z
DTSTART;VALUE=DATE:20120411
DTEND;VALUE=DATE:20120414
SUMMARY:IWSSIP 2012
DESCRIPTION:International Conference on Systems\, Signals and Image Proce
 ssing
URL:http://www.wikicfp.com/cfp/servlet/event.showcfp?eventid=13682&copyow
 nerid=22913
UID:cfp176228-E@wikicfp.com
END:VEVENT
BEGIN:VEVENT
DTSTAMP:20260420T180243Z
DTSTART;VALUE=DATE:20110915
SUMMARY:IWSSIP 2012 Deadline
DESCRIPTION:International Conference on Systems\, Signals and Image Proce
 ssing
URL:http://www.wikicfp.com/cfp/servlet/event.showcfp?eventid=13682&copyow
 nerid=22913
UID:cfp176228-D@wikicfp.com
END:VEVENT
BEGIN:VEVENT
DTSTAMP:20260420T180243Z
DTSTART;VALUE=DATE:20111215
SUMMARY:IWSSIP 2012 Notification Due
DESCRIPTION:International Conference on Systems\, Signals and Image Proce
 ssing
URL:http://www.wikicfp.com/cfp/servlet/event.showcfp?eventid=13682&copyow
 nerid=22913
UID:cfp176228-N@wikicfp.com
END:VEVENT
BEGIN:VEVENT
DTSTAMP:20260420T180243Z
DTSTART;VALUE=DATE:20120131
SUMMARY:IWSSIP 2012 Final Version Due
DESCRIPTION:International Conference on Systems\, Signals and Image Proce
 ssing
URL:http://www.wikicfp.com/cfp/servlet/event.showcfp?eventid=13682&copyow
 nerid=22913
UID:cfp176228-N@wikicfp.com
END:VEVENT
BEGIN:VEVENT
DTSTAMP:20260420T180243Z
DTSTART;VALUE=DATE:20120604
DTEND;VALUE=DATE:20120609
SUMMARY:AAMAS 2012
DESCRIPTION:11th International Conference on Autonomous Agents and Multia
 gent Systems
URL:http://www.wikicfp.com/cfp/servlet/event.showcfp?eventid=16263&copyow
 nerid=22913
UID:cfp178812-E@wikicfp.com
END:VEVENT
BEGIN:VEVENT
DTSTAMP:20260420T180243Z
DTSTART;VALUE=DATE:20111007
SUMMARY:AAMAS 2012 Abstract Due
DESCRIPTION:11th International Conference on Autonomous Agents and Multia
 gent Systems
URL:http://www.wikicfp.com/cfp/servlet/event.showcfp?eventid=16263&copyow
 nerid=22913
UID:cfp178812-A@wikicfp.com
END:VEVENT
BEGIN:VEVENT
DTSTAMP:20260420T180243Z
DTSTART;VALUE=DATE:20111012
SUMMARY:AAMAS 2012 Deadline
DESCRIPTION:11th International Conference on Autonomous Agents and Multia
 gent Systems
URL:http://www.wikicfp.com/cfp/servlet/event.showcfp?eventid=16263&copyow
 nerid=22913
UID:cfp178812-D@wikicfp.com
END:VEVENT
BEGIN:VEVENT
DTSTAMP:20260420T180243Z
DTSTART;VALUE=DATE:20111221
SUMMARY:AAMAS 2012 Notification Due
DESCRIPTION:11th International Conference on Autonomous Agents and Multia
 gent Systems
URL:http://www.wikicfp.com/cfp/servlet/event.showcfp?eventid=16263&copyow
 nerid=22913
UID:cfp178812-N@wikicfp.com
END:VEVENT
BEGIN:VEVENT
DTSTAMP:20260420T180243Z
DTSTART;VALUE=DATE:20120507
DTEND;VALUE=DATE:20120512
SUMMARY:RadarCon 2012
DESCRIPTION:IEEE Radar Conference
URL:http://www.wikicfp.com/cfp/servlet/event.showcfp?eventid=7862&copyown
 erid=22913
UID:cfp158978-E@wikicfp.com
END:VEVENT
BEGIN:VEVENT
DTSTAMP:20260420T180243Z
DTSTART;VALUE=DATE:20111014
SUMMARY:RadarCon 2012 Deadline
DESCRIPTION:IEEE Radar Conference
URL:http://www.wikicfp.com/cfp/servlet/event.showcfp?eventid=7862&copyown
 erid=22913
UID:cfp158978-D@wikicfp.com
END:VEVENT
BEGIN:VEVENT
DTSTAMP:20260420T180243Z
DTSTART;VALUE=DATE:20120115
SUMMARY:RadarCon 2012 Notification Due
DESCRIPTION:IEEE Radar Conference
URL:http://www.wikicfp.com/cfp/servlet/event.showcfp?eventid=7862&copyown
 erid=22913
UID:cfp158978-N@wikicfp.com
END:VEVENT
BEGIN:VEVENT
DTSTAMP:20260420T180243Z
DTSTART;VALUE=DATE:20120302
SUMMARY:RadarCon 2012 Final Version Due
DESCRIPTION:IEEE Radar Conference
URL:http://www.wikicfp.com/cfp/servlet/event.showcfp?eventid=7862&copyown
 erid=22913
UID:cfp158978-N@wikicfp.com
END:VEVENT
BEGIN:VEVENT
DTSTAMP:20260420T180243Z
DTSTART;VALUE=DATE:20121028
DTEND;VALUE=DATE:20121101
SUMMARY:SENSORS 2012
DESCRIPTION:IEEE Sensors
URL:http://www.wikicfp.com/cfp/servlet/event.showcfp?eventid=15113&copyow
 nerid=22913
UID:cfp158961-E@wikicfp.com
END:VEVENT
BEGIN:VEVENT
DTSTAMP:20260420T180243Z
DTSTART;VALUE=DATE:20120504
SUMMARY:SENSORS 2012 Deadline
DESCRIPTION:IEEE Sensors
URL:http://www.wikicfp.com/cfp/servlet/event.showcfp?eventid=15113&copyow
 nerid=22913
UID:cfp158961-D@wikicfp.com
END:VEVENT
END:VCALENDAR
