BEGIN:VCALENDAR
PRODID:-//WikiCFP//emilyksh 1.0//EN
VERSION:2.0
CALSCALE:GREGORIAN
BEGIN:VEVENT
DTSTAMP:20260422T042633Z
DTSTART;VALUE=DATE:20120908
DTEND;VALUE=DATE:20120913
SUMMARY:EKAW 2012
DESCRIPTION:The 18th International Conference on Knowledge Engineering an
 d Knowledge Management
URL:http://www.wikicfp.com/cfp/servlet/event.showcfp?eventid=19122&copyow
 nerid=22691
UID:cfp225708-E@wikicfp.com
END:VEVENT
BEGIN:VEVENT
DTSTAMP:20260422T042633Z
DTSTART;VALUE=DATE:20120418
SUMMARY:EKAW 2012 Abstract Due
DESCRIPTION:The 18th International Conference on Knowledge Engineering an
 d Knowledge Management
URL:http://www.wikicfp.com/cfp/servlet/event.showcfp?eventid=19122&copyow
 nerid=22691
UID:cfp225708-A@wikicfp.com
END:VEVENT
BEGIN:VEVENT
DTSTAMP:20260422T042633Z
DTSTART;VALUE=DATE:20120425
SUMMARY:EKAW 2012 Deadline
DESCRIPTION:The 18th International Conference on Knowledge Engineering an
 d Knowledge Management
URL:http://www.wikicfp.com/cfp/servlet/event.showcfp?eventid=19122&copyow
 nerid=22691
UID:cfp225708-D@wikicfp.com
END:VEVENT
BEGIN:VEVENT
DTSTAMP:20260422T042633Z
DTSTART;VALUE=DATE:20120606
SUMMARY:EKAW 2012 Notification Due
DESCRIPTION:The 18th International Conference on Knowledge Engineering an
 d Knowledge Management
URL:http://www.wikicfp.com/cfp/servlet/event.showcfp?eventid=19122&copyow
 nerid=22691
UID:cfp225708-N@wikicfp.com
END:VEVENT
BEGIN:VEVENT
DTSTAMP:20260422T042633Z
DTSTART;VALUE=DATE:20120630
SUMMARY:EKAW 2012 Final Version Due
DESCRIPTION:The 18th International Conference on Knowledge Engineering an
 d Knowledge Management
URL:http://www.wikicfp.com/cfp/servlet/event.showcfp?eventid=19122&copyow
 nerid=22691
UID:cfp225708-N@wikicfp.com
END:VEVENT
BEGIN:VEVENT
DTSTAMP:20260422T042633Z
DTSTART;VALUE=DATE:20130717
DTEND;VALUE=DATE:20130720
SUMMARY:ICECCS 2013
DESCRIPTION:International Conference on Engineering of Complex Computer S
 ystems
URL:http://www.wikicfp.com/cfp/servlet/event.showcfp?eventid=26461&copyow
 nerid=22691
UID:cfp312106-E@wikicfp.com
END:VEVENT
BEGIN:VEVENT
DTSTAMP:20260422T042633Z
DTSTART;VALUE=DATE:20130201
SUMMARY:ICECCS 2013 Abstract Due
DESCRIPTION:International Conference on Engineering of Complex Computer S
 ystems
URL:http://www.wikicfp.com/cfp/servlet/event.showcfp?eventid=26461&copyow
 nerid=22691
UID:cfp312106-A@wikicfp.com
END:VEVENT
BEGIN:VEVENT
DTSTAMP:20260422T042633Z
DTSTART;VALUE=DATE:20130215
SUMMARY:ICECCS 2013 Deadline
DESCRIPTION:International Conference on Engineering of Complex Computer S
 ystems
URL:http://www.wikicfp.com/cfp/servlet/event.showcfp?eventid=26461&copyow
 nerid=22691
UID:cfp312106-D@wikicfp.com
END:VEVENT
BEGIN:VEVENT
DTSTAMP:20260422T042633Z
DTSTART;VALUE=DATE:20130330
SUMMARY:ICECCS 2013 Notification Due
DESCRIPTION:International Conference on Engineering of Complex Computer S
 ystems
URL:http://www.wikicfp.com/cfp/servlet/event.showcfp?eventid=26461&copyow
 nerid=22691
UID:cfp312106-N@wikicfp.com
END:VEVENT
BEGIN:VEVENT
DTSTAMP:20260422T042633Z
DTSTART;VALUE=DATE:20130420
SUMMARY:ICECCS 2013 Final Version Due
DESCRIPTION:International Conference on Engineering of Complex Computer S
 ystems
URL:http://www.wikicfp.com/cfp/servlet/event.showcfp?eventid=26461&copyow
 nerid=22691
UID:cfp312106-N@wikicfp.com
END:VEVENT
BEGIN:VEVENT
DTSTAMP:20260422T042633Z
DTSTART;VALUE=DATE:20130824
DTEND;VALUE=DATE:20130826
SUMMARY:ICAIT 2013
DESCRIPTION:2013 The 2nd International Conference on Advancements in Info
 rmation Technology - ICAIT 2013
URL:http://www.wikicfp.com/cfp/servlet/event.showcfp?eventid=29127&copyow
 nerid=22691
UID:cfp342241-E@wikicfp.com
END:VEVENT
BEGIN:VEVENT
DTSTAMP:20260422T042633Z
DTSTART;VALUE=DATE:20130615
SUMMARY:ICAIT 2013 Deadline
DESCRIPTION:2013 The 2nd International Conference on Advancements in Info
 rmation Technology - ICAIT 2013
URL:http://www.wikicfp.com/cfp/servlet/event.showcfp?eventid=29127&copyow
 nerid=22691
UID:cfp342241-D@wikicfp.com
END:VEVENT
BEGIN:VEVENT
DTSTAMP:20260422T042633Z
DTSTART;VALUE=DATE:20130630
SUMMARY:ICAIT 2013 Notification Due
DESCRIPTION:2013 The 2nd International Conference on Advancements in Info
 rmation Technology - ICAIT 2013
URL:http://www.wikicfp.com/cfp/servlet/event.showcfp?eventid=29127&copyow
 nerid=22691
UID:cfp342241-N@wikicfp.com
END:VEVENT
BEGIN:VEVENT
DTSTAMP:20260422T042633Z
DTSTART;VALUE=DATE:20130715
SUMMARY:ICAIT 2013 Final Version Due
DESCRIPTION:2013 The 2nd International Conference on Advancements in Info
 rmation Technology - ICAIT 2013
URL:http://www.wikicfp.com/cfp/servlet/event.showcfp?eventid=29127&copyow
 nerid=22691
UID:cfp342241-N@wikicfp.com
END:VEVENT
BEGIN:VEVENT
DTSTAMP:20260422T042633Z
DTSTART;VALUE=DATE:20151019
DTEND;VALUE=DATE:20151024
SUMMARY:CIKM 2015
DESCRIPTION:Conference on Information and Knowledge Management
URL:http://www.wikicfp.com/cfp/servlet/event.showcfp?eventid=38972&copyow
 nerid=22691
UID:cfp465146-E@wikicfp.com
END:VEVENT
BEGIN:VEVENT
DTSTAMP:20260422T042633Z
DTSTART;VALUE=DATE:20150501
SUMMARY:CIKM 2015 Abstract Due
DESCRIPTION:Conference on Information and Knowledge Management
URL:http://www.wikicfp.com/cfp/servlet/event.showcfp?eventid=38972&copyow
 nerid=22691
UID:cfp465146-A@wikicfp.com
END:VEVENT
BEGIN:VEVENT
DTSTAMP:20260422T042633Z
DTSTART;VALUE=DATE:20150508
SUMMARY:CIKM 2015 Deadline
DESCRIPTION:Conference on Information and Knowledge Management
URL:http://www.wikicfp.com/cfp/servlet/event.showcfp?eventid=38972&copyow
 nerid=22691
UID:cfp465146-D@wikicfp.com
END:VEVENT
BEGIN:VEVENT
DTSTAMP:20260422T042633Z
DTSTART;VALUE=DATE:20150703
SUMMARY:CIKM 2015 Notification Due
DESCRIPTION:Conference on Information and Knowledge Management
URL:http://www.wikicfp.com/cfp/servlet/event.showcfp?eventid=38972&copyow
 nerid=22691
UID:cfp465146-N@wikicfp.com
END:VEVENT
BEGIN:VEVENT
DTSTAMP:20260422T042633Z
DTSTART;VALUE=DATE:20150731
SUMMARY:CIKM 2015 Final Version Due
DESCRIPTION:Conference on Information and Knowledge Management
URL:http://www.wikicfp.com/cfp/servlet/event.showcfp?eventid=38972&copyow
 nerid=22691
UID:cfp465146-N@wikicfp.com
END:VEVENT
END:VCALENDAR
