BEGIN:VCALENDAR
PRODID:-//WikiCFP//huajunsir 1.0//EN
VERSION:2.0
CALSCALE:GREGORIAN
BEGIN:VEVENT
DTSTAMP:20260422T125439Z
DTSTART;VALUE=DATE:20111019
DTEND;VALUE=DATE:20111022
SUMMARY:CPSCom 2011
DESCRIPTION:International Conference on Cyber\, Physical and Social Compu
 ting Call for Workshops
URL:http://www.wikicfp.com/cfp/servlet/event.showcfp?eventid=15268&copyow
 nerid=22653
UID:cfp157168-E@wikicfp.com
END:VEVENT
BEGIN:VEVENT
DTSTAMP:20260422T125439Z
DTSTART;VALUE=DATE:20110401
SUMMARY:CPSCom 2011 Deadline
DESCRIPTION:International Conference on Cyber\, Physical and Social Compu
 ting Call for Workshops
URL:http://www.wikicfp.com/cfp/servlet/event.showcfp?eventid=15268&copyow
 nerid=22653
UID:cfp157168-D@wikicfp.com
END:VEVENT
BEGIN:VEVENT
DTSTAMP:20260422T125439Z
DTSTART;VALUE=DATE:20110405
SUMMARY:CPSCom 2011 Notification Due
DESCRIPTION:International Conference on Cyber\, Physical and Social Compu
 ting Call for Workshops
URL:http://www.wikicfp.com/cfp/servlet/event.showcfp?eventid=15268&copyow
 nerid=22653
UID:cfp157168-N@wikicfp.com
END:VEVENT
BEGIN:VEVENT
DTSTAMP:20260422T125439Z
DTSTART;VALUE=DATE:20110420
SUMMARY:CPSCom 2011 Final Version Due
DESCRIPTION:International Conference on Cyber\, Physical and Social Compu
 ting Call for Workshops
URL:http://www.wikicfp.com/cfp/servlet/event.showcfp?eventid=15268&copyow
 nerid=22653
UID:cfp157168-N@wikicfp.com
END:VEVENT
END:VCALENDAR
