BEGIN:VCALENDAR
PRODID:-//WikiCFP//DejanL 1.0//EN
VERSION:2.0
CALSCALE:GREGORIAN
BEGIN:VEVENT
DTSTAMP:20260421T105707Z
DTSTART;VALUE=DATE:20110529
DTEND;VALUE=DATE:20110605
SUMMARY:ESWC 2011
DESCRIPTION:The 8th Extended Semantic Web Conference
URL:http://www.wikicfp.com/cfp/servlet/event.showcfp?eventid=11425&copyow
 nerid=22346
UID:cfp154858-E@wikicfp.com
END:VEVENT
BEGIN:VEVENT
DTSTAMP:20260421T105707Z
DTSTART;VALUE=DATE:20101206
SUMMARY:ESWC 2011 Deadline
DESCRIPTION:The 8th Extended Semantic Web Conference
URL:http://www.wikicfp.com/cfp/servlet/event.showcfp?eventid=11425&copyow
 nerid=22346
UID:cfp154858-D@wikicfp.com
END:VEVENT
BEGIN:VEVENT
DTSTAMP:20260421T105707Z
DTSTART;VALUE=DATE:20110221
SUMMARY:ESWC 2011 Notification Due
DESCRIPTION:The 8th Extended Semantic Web Conference
URL:http://www.wikicfp.com/cfp/servlet/event.showcfp?eventid=11425&copyow
 nerid=22346
UID:cfp154858-N@wikicfp.com
END:VEVENT
BEGIN:VEVENT
DTSTAMP:20260421T105707Z
DTSTART;VALUE=DATE:20110627
DTEND;VALUE=DATE:20110630
SUMMARY:ICSECS 2011
DESCRIPTION:2nd International Conference on Software Engineering and Comp
 uter Systems
URL:http://www.wikicfp.com/cfp/servlet/event.showcfp?eventid=11125&copyow
 nerid=22346
UID:cfp154610-E@wikicfp.com
END:VEVENT
BEGIN:VEVENT
DTSTAMP:20260421T105707Z
DTSTART;VALUE=DATE:20110412
SUMMARY:ICSECS 2011 Abstract Due
DESCRIPTION:2nd International Conference on Software Engineering and Comp
 uter Systems
URL:http://www.wikicfp.com/cfp/servlet/event.showcfp?eventid=11125&copyow
 nerid=22346
UID:cfp154610-A@wikicfp.com
END:VEVENT
BEGIN:VEVENT
DTSTAMP:20260421T105707Z
DTSTART;VALUE=DATE:20110205
SUMMARY:ICSECS 2011 Deadline
DESCRIPTION:2nd International Conference on Software Engineering and Comp
 uter Systems
URL:http://www.wikicfp.com/cfp/servlet/event.showcfp?eventid=11125&copyow
 nerid=22346
UID:cfp154610-D@wikicfp.com
END:VEVENT
BEGIN:VEVENT
DTSTAMP:20260421T105707Z
DTSTART;VALUE=DATE:20110401
SUMMARY:ICSECS 2011 Notification Due
DESCRIPTION:2nd International Conference on Software Engineering and Comp
 uter Systems
URL:http://www.wikicfp.com/cfp/servlet/event.showcfp?eventid=11125&copyow
 nerid=22346
UID:cfp154610-N@wikicfp.com
END:VEVENT
BEGIN:VEVENT
DTSTAMP:20260421T105707Z
DTSTART;VALUE=DATE:20111022
DTEND;VALUE=DATE:20111028
SUMMARY:ISWC 2011
DESCRIPTION:The 10th International Semantic Web Conference
URL:http://www.wikicfp.com/cfp/servlet/event.showcfp?eventid=11426&copyow
 nerid=22346
UID:cfp154859-E@wikicfp.com
END:VEVENT
BEGIN:VEVENT
DTSTAMP:20260421T105707Z
DTSTART;VALUE=DATE:20110616
SUMMARY:ISWC 2011 Abstract Due
DESCRIPTION:The 10th International Semantic Web Conference
URL:http://www.wikicfp.com/cfp/servlet/event.showcfp?eventid=11426&copyow
 nerid=22346
UID:cfp154859-A@wikicfp.com
END:VEVENT
BEGIN:VEVENT
DTSTAMP:20260421T105707Z
DTSTART;VALUE=DATE:20110623
SUMMARY:ISWC 2011 Deadline
DESCRIPTION:The 10th International Semantic Web Conference
URL:http://www.wikicfp.com/cfp/servlet/event.showcfp?eventid=11426&copyow
 nerid=22346
UID:cfp154859-D@wikicfp.com
END:VEVENT
BEGIN:VEVENT
DTSTAMP:20260421T105707Z
DTSTART;VALUE=DATE:20110808
SUMMARY:ISWC 2011 Notification Due
DESCRIPTION:The 10th International Semantic Web Conference
URL:http://www.wikicfp.com/cfp/servlet/event.showcfp?eventid=11426&copyow
 nerid=22346
UID:cfp154859-N@wikicfp.com
END:VEVENT
BEGIN:VEVENT
DTSTAMP:20260421T105707Z
DTSTART;VALUE=DATE:20110828
SUMMARY:ISWC 2011 Final Version Due
DESCRIPTION:The 10th International Semantic Web Conference
URL:http://www.wikicfp.com/cfp/servlet/event.showcfp?eventid=11426&copyow
 nerid=22346
UID:cfp154859-N@wikicfp.com
END:VEVENT
END:VCALENDAR
