BEGIN:VCALENDAR
PRODID:-//WikiCFP//yesnier 1.0//EN
VERSION:2.0
CALSCALE:GREGORIAN
BEGIN:VEVENT
DTSTAMP:20260422T164848Z
DTSTART;VALUE=DATE:20111122
DTEND;VALUE=DATE:20111125
SUMMARY:ISDA 2011
DESCRIPTION:Eleventh International Conference on Intelligent Systems Desi
 gn and Applications
URL:http://www.wikicfp.com/cfp/servlet/event.showcfp?eventid=13638&copyow
 nerid=22259
UID:cfp154248-E@wikicfp.com
END:VEVENT
BEGIN:VEVENT
DTSTAMP:20260422T164848Z
DTSTART;VALUE=DATE:20110531
SUMMARY:ISDA 2011 Deadline
DESCRIPTION:Eleventh International Conference on Intelligent Systems Desi
 gn and Applications
URL:http://www.wikicfp.com/cfp/servlet/event.showcfp?eventid=13638&copyow
 nerid=22259
UID:cfp154248-D@wikicfp.com
END:VEVENT
BEGIN:VEVENT
DTSTAMP:20260422T164848Z
DTSTART;VALUE=DATE:20110722
SUMMARY:ISDA 2011 Notification Due
DESCRIPTION:Eleventh International Conference on Intelligent Systems Desi
 gn and Applications
URL:http://www.wikicfp.com/cfp/servlet/event.showcfp?eventid=13638&copyow
 nerid=22259
UID:cfp154248-N@wikicfp.com
END:VEVENT
BEGIN:VEVENT
DTSTAMP:20260422T164848Z
DTSTART;VALUE=DATE:20110916
SUMMARY:ISDA 2011 Final Version Due
DESCRIPTION:Eleventh International Conference on Intelligent Systems Desi
 gn and Applications
URL:http://www.wikicfp.com/cfp/servlet/event.showcfp?eventid=13638&copyow
 nerid=22259
UID:cfp154248-N@wikicfp.com
END:VEVENT
END:VCALENDAR
