BEGIN:VCALENDAR
PRODID:-//WikiCFP//amir_abbas 1.0//EN
VERSION:2.0
CALSCALE:GREGORIAN
BEGIN:VEVENT
DTSTAMP:20260420T150259Z
DTSTART;VALUE=DATE:20110822
DTEND;VALUE=DATE:20110823
SUMMARY:COIN @ WI-IAT 2011
DESCRIPTION:13th International Workshop on Coordination\, Organizations\,
  Institutions and Norms in Agent Systems
URL:http://www.wikicfp.com/cfp/servlet/event.showcfp?eventid=15005&copyow
 nerid=22213
UID:cfp154056-E@wikicfp.com
END:VEVENT
BEGIN:VEVENT
DTSTAMP:20260420T150259Z
DTSTART;VALUE=DATE:20110321
SUMMARY:COIN @ WI-IAT 2011 Deadline
DESCRIPTION:13th International Workshop on Coordination\, Organizations\,
  Institutions and Norms in Agent Systems
URL:http://www.wikicfp.com/cfp/servlet/event.showcfp?eventid=15005&copyow
 nerid=22213
UID:cfp154056-D@wikicfp.com
END:VEVENT
BEGIN:VEVENT
DTSTAMP:20260420T150259Z
DTSTART;VALUE=DATE:20110601
SUMMARY:COIN @ WI-IAT 2011 Notification Due
DESCRIPTION:13th International Workshop on Coordination\, Organizations\,
  Institutions and Norms in Agent Systems
URL:http://www.wikicfp.com/cfp/servlet/event.showcfp?eventid=15005&copyow
 nerid=22213
UID:cfp154056-N@wikicfp.com
END:VEVENT
BEGIN:VEVENT
DTSTAMP:20260420T150259Z
DTSTART;VALUE=DATE:20110610
SUMMARY:COIN @ WI-IAT 2011 Final Version Due
DESCRIPTION:13th International Workshop on Coordination\, Organizations\,
  Institutions and Norms in Agent Systems
URL:http://www.wikicfp.com/cfp/servlet/event.showcfp?eventid=15005&copyow
 nerid=22213
UID:cfp154056-N@wikicfp.com
END:VEVENT
BEGIN:VEVENT
DTSTAMP:20260420T150259Z
DTSTART;VALUE=DATE:20110915
DTEND;VALUE=DATE:20110919
SUMMARY:EANN / AIAI 2011
DESCRIPTION:12th Engineering Applications of Neural Networks / 7th Artifi
 cial Intelligence Applications and Innovations
URL:http://www.wikicfp.com/cfp/servlet/event.showcfp?eventid=12169&copyow
 nerid=22213
UID:cfp154055-E@wikicfp.com
END:VEVENT
BEGIN:VEVENT
DTSTAMP:20260420T150259Z
DTSTART;VALUE=DATE:20110410
SUMMARY:EANN / AIAI 2011 Deadline
DESCRIPTION:12th Engineering Applications of Neural Networks / 7th Artifi
 cial Intelligence Applications and Innovations
URL:http://www.wikicfp.com/cfp/servlet/event.showcfp?eventid=12169&copyow
 nerid=22213
UID:cfp154055-D@wikicfp.com
END:VEVENT
BEGIN:VEVENT
DTSTAMP:20260420T150259Z
DTSTART;VALUE=DATE:20110515
SUMMARY:EANN / AIAI 2011 Notification Due
DESCRIPTION:12th Engineering Applications of Neural Networks / 7th Artifi
 cial Intelligence Applications and Innovations
URL:http://www.wikicfp.com/cfp/servlet/event.showcfp?eventid=12169&copyow
 nerid=22213
UID:cfp154055-N@wikicfp.com
END:VEVENT
BEGIN:VEVENT
DTSTAMP:20260420T150259Z
DTSTART;VALUE=DATE:20110501
SUMMARY:EANN / AIAI 2011 Final Version Due
DESCRIPTION:12th Engineering Applications of Neural Networks / 7th Artifi
 cial Intelligence Applications and Innovations
URL:http://www.wikicfp.com/cfp/servlet/event.showcfp?eventid=12169&copyow
 nerid=22213
UID:cfp154055-N@wikicfp.com
END:VEVENT
BEGIN:VEVENT
DTSTAMP:20260420T150259Z
DTSTART;VALUE=DATE:20111006
DTEND;VALUE=DATE:20111008
SUMMARY:MATES 2011
DESCRIPTION:Ninth German Conference on Multi-Agent System Technologies
URL:http://www.wikicfp.com/cfp/servlet/event.showcfp?eventid=15006&copyow
 nerid=22213
UID:cfp154054-E@wikicfp.com
END:VEVENT
BEGIN:VEVENT
DTSTAMP:20260420T150259Z
DTSTART;VALUE=DATE:20110411
SUMMARY:MATES 2011 Abstract Due
DESCRIPTION:Ninth German Conference on Multi-Agent System Technologies
URL:http://www.wikicfp.com/cfp/servlet/event.showcfp?eventid=15006&copyow
 nerid=22213
UID:cfp154054-A@wikicfp.com
END:VEVENT
BEGIN:VEVENT
DTSTAMP:20260420T150259Z
DTSTART;VALUE=DATE:20110415
SUMMARY:MATES 2011 Deadline
DESCRIPTION:Ninth German Conference on Multi-Agent System Technologies
URL:http://www.wikicfp.com/cfp/servlet/event.showcfp?eventid=15006&copyow
 nerid=22213
UID:cfp154054-D@wikicfp.com
END:VEVENT
BEGIN:VEVENT
DTSTAMP:20260420T150259Z
DTSTART;VALUE=DATE:20110715
SUMMARY:MATES 2011 Notification Due
DESCRIPTION:Ninth German Conference on Multi-Agent System Technologies
URL:http://www.wikicfp.com/cfp/servlet/event.showcfp?eventid=15006&copyow
 nerid=22213
UID:cfp154054-N@wikicfp.com
END:VEVENT
BEGIN:VEVENT
DTSTAMP:20260420T150259Z
DTSTART;VALUE=DATE:20110731
SUMMARY:MATES 2011 Final Version Due
DESCRIPTION:Ninth German Conference on Multi-Agent System Technologies
URL:http://www.wikicfp.com/cfp/servlet/event.showcfp?eventid=15006&copyow
 nerid=22213
UID:cfp154054-N@wikicfp.com
END:VEVENT
BEGIN:VEVENT
DTSTAMP:20260420T150259Z
DTSTART;VALUE=DATE:20111118
DTEND;VALUE=DATE:20111121
SUMMARY:IEEE ICIS  2011
DESCRIPTION:2011 IEEE International Conference on Intelligent Computing a
 nd Intelligent Systems (ICIS 2011) 
URL:http://www.wikicfp.com/cfp/servlet/event.showcfp?eventid=13047&copyow
 nerid=22213
UID:cfp154052-E@wikicfp.com
END:VEVENT
BEGIN:VEVENT
DTSTAMP:20260420T150259Z
DTSTART;VALUE=DATE:20110701
SUMMARY:IEEE ICIS  2011 Deadline
DESCRIPTION:2011 IEEE International Conference on Intelligent Computing a
 nd Intelligent Systems (ICIS 2011) 
URL:http://www.wikicfp.com/cfp/servlet/event.showcfp?eventid=13047&copyow
 nerid=22213
UID:cfp154052-D@wikicfp.com
END:VEVENT
BEGIN:VEVENT
DTSTAMP:20260420T150259Z
DTSTART;VALUE=DATE:20110901
SUMMARY:IEEE ICIS  2011 Notification Due
DESCRIPTION:2011 IEEE International Conference on Intelligent Computing a
 nd Intelligent Systems (ICIS 2011) 
URL:http://www.wikicfp.com/cfp/servlet/event.showcfp?eventid=13047&copyow
 nerid=22213
UID:cfp154052-N@wikicfp.com
END:VEVENT
BEGIN:VEVENT
DTSTAMP:20260420T150259Z
DTSTART;VALUE=DATE:20110930
SUMMARY:IEEE ICIS  2011 Final Version Due
DESCRIPTION:2011 IEEE International Conference on Intelligent Computing a
 nd Intelligent Systems (ICIS 2011) 
URL:http://www.wikicfp.com/cfp/servlet/event.showcfp?eventid=13047&copyow
 nerid=22213
UID:cfp154052-N@wikicfp.com
END:VEVENT
BEGIN:VEVENT
DTSTAMP:20260420T150259Z
DTSTART;VALUE=DATE:20111205
DTEND;VALUE=DATE:20111209
SUMMARY:HIS 2011
DESCRIPTION:11th International Conference on Hybrid Intelligent Systems
URL:http://www.wikicfp.com/cfp/servlet/event.showcfp?eventid=14127&copyow
 nerid=22213
UID:cfp154053-E@wikicfp.com
END:VEVENT
BEGIN:VEVENT
DTSTAMP:20260420T150259Z
DTSTART;VALUE=DATE:20110920
SUMMARY:HIS 2011 Deadline
DESCRIPTION:11th International Conference on Hybrid Intelligent Systems
URL:http://www.wikicfp.com/cfp/servlet/event.showcfp?eventid=14127&copyow
 nerid=22213
UID:cfp154053-D@wikicfp.com
END:VEVENT
BEGIN:VEVENT
DTSTAMP:20260420T150259Z
DTSTART;VALUE=DATE:20111015
SUMMARY:HIS 2011 Notification Due
DESCRIPTION:11th International Conference on Hybrid Intelligent Systems
URL:http://www.wikicfp.com/cfp/servlet/event.showcfp?eventid=14127&copyow
 nerid=22213
UID:cfp154053-N@wikicfp.com
END:VEVENT
BEGIN:VEVENT
DTSTAMP:20260420T150259Z
DTSTART;VALUE=DATE:20111031
SUMMARY:HIS 2011 Final Version Due
DESCRIPTION:11th International Conference on Hybrid Intelligent Systems
URL:http://www.wikicfp.com/cfp/servlet/event.showcfp?eventid=14127&copyow
 nerid=22213
UID:cfp154053-N@wikicfp.com
END:VEVENT
END:VCALENDAR
