BEGIN:VCALENDAR
PRODID:-//WikiCFP//Labhras_wikicfp 1.0//EN
VERSION:2.0
CALSCALE:GREGORIAN
BEGIN:VEVENT
DTSTAMP:20260419T152031Z
DTSTART;VALUE=DATE:20110621
DTEND;VALUE=DATE:20110624
SUMMARY:IEETeL 2011
DESCRIPTION:2nd International Workshop on Interactive Environments and Em
 ergent Technologies for eLearning
URL:http://www.wikicfp.com/cfp/servlet/event.showcfp?eventid=11719&copyow
 nerid=21783
UID:cfp150621-E@wikicfp.com
END:VEVENT
BEGIN:VEVENT
DTSTAMP:20260419T152031Z
DTSTART;VALUE=DATE:20110410
SUMMARY:IEETeL 2011 Abstract Due
DESCRIPTION:2nd International Workshop on Interactive Environments and Em
 ergent Technologies for eLearning
URL:http://www.wikicfp.com/cfp/servlet/event.showcfp?eventid=11719&copyow
 nerid=21783
UID:cfp150621-A@wikicfp.com
END:VEVENT
BEGIN:VEVENT
DTSTAMP:20260419T152031Z
DTSTART;VALUE=DATE:20110220
SUMMARY:IEETeL 2011 Deadline
DESCRIPTION:2nd International Workshop on Interactive Environments and Em
 ergent Technologies for eLearning
URL:http://www.wikicfp.com/cfp/servlet/event.showcfp?eventid=11719&copyow
 nerid=21783
UID:cfp150621-D@wikicfp.com
END:VEVENT
BEGIN:VEVENT
DTSTAMP:20260419T152031Z
DTSTART;VALUE=DATE:20110401
SUMMARY:IEETeL 2011 Notification Due
DESCRIPTION:2nd International Workshop on Interactive Environments and Em
 ergent Technologies for eLearning
URL:http://www.wikicfp.com/cfp/servlet/event.showcfp?eventid=11719&copyow
 nerid=21783
UID:cfp150621-N@wikicfp.com
END:VEVENT
BEGIN:VEVENT
DTSTAMP:20260419T152031Z
DTSTART;VALUE=DATE:20110410
SUMMARY:IEETeL 2011 Final Version Due
DESCRIPTION:2nd International Workshop on Interactive Environments and Em
 ergent Technologies for eLearning
URL:http://www.wikicfp.com/cfp/servlet/event.showcfp?eventid=11719&copyow
 nerid=21783
UID:cfp150621-N@wikicfp.com
END:VEVENT
BEGIN:VEVENT
DTSTAMP:20260419T152031Z
DTSTART;VALUE=DATE:20110805
DTEND;VALUE=DATE:20110808
SUMMARY:Science in Society  2011
DESCRIPTION:Third International Conference on Science in Society 
URL:http://www.wikicfp.com/cfp/servlet/event.showcfp?eventid=14197&copyow
 nerid=21783
UID:cfp150622-E@wikicfp.com
END:VEVENT
BEGIN:VEVENT
DTSTAMP:20260419T152031Z
DTSTART;VALUE=DATE:20110222
SUMMARY:Science in Society  2011 Deadline
DESCRIPTION:Third International Conference on Science in Society 
URL:http://www.wikicfp.com/cfp/servlet/event.showcfp?eventid=14197&copyow
 nerid=21783
UID:cfp150622-D@wikicfp.com
END:VEVENT
BEGIN:VEVENT
DTSTAMP:20260419T152031Z
DTSTART;VALUE=DATE:20110120
SUMMARY:Problems 2011 Abstract Due
DESCRIPTION:Problems of Education in the 21st Century. Tenth Call for Pap
 ers
URL:http://www.wikicfp.com/cfp/servlet/event.showcfp?eventid=13377&copyow
 nerid=21783
UID:cfp150619-A@wikicfp.com
END:VEVENT
BEGIN:VEVENT
DTSTAMP:20260419T152031Z
DTSTART;VALUE=DATE:20110228
SUMMARY:Problems 2011 Deadline
DESCRIPTION:Problems of Education in the 21st Century. Tenth Call for Pap
 ers
URL:http://www.wikicfp.com/cfp/servlet/event.showcfp?eventid=13377&copyow
 nerid=21783
UID:cfp150619-D@wikicfp.com
END:VEVENT
BEGIN:VEVENT
DTSTAMP:20260419T152031Z
DTSTART;VALUE=DATE:20110311
SUMMARY:Problems 2011 Notification Due
DESCRIPTION:Problems of Education in the 21st Century. Tenth Call for Pap
 ers
URL:http://www.wikicfp.com/cfp/servlet/event.showcfp?eventid=13377&copyow
 nerid=21783
UID:cfp150619-N@wikicfp.com
END:VEVENT
BEGIN:VEVENT
DTSTAMP:20260419T152031Z
DTSTART;VALUE=DATE:20110228
SUMMARY:Problems 2011 Final Version Due
DESCRIPTION:Problems of Education in the 21st Century. Tenth Call for Pap
 ers
URL:http://www.wikicfp.com/cfp/servlet/event.showcfp?eventid=13377&copyow
 nerid=21783
UID:cfp150619-N@wikicfp.com
END:VEVENT
BEGIN:VEVENT
DTSTAMP:20260419T152031Z
DTSTART;VALUE=DATE:20110428
DTEND;VALUE=DATE:20110430
SUMMARY:eLSE 2011
DESCRIPTION:7-th eLearning and Software for Education Conference
URL:http://www.wikicfp.com/cfp/servlet/event.showcfp?eventid=11035&copyow
 nerid=21783
UID:cfp150612-E@wikicfp.com
END:VEVENT
BEGIN:VEVENT
DTSTAMP:20260419T152031Z
DTSTART;VALUE=DATE:20101130
SUMMARY:eLSE 2011 Abstract Due
DESCRIPTION:7-th eLearning and Software for Education Conference
URL:http://www.wikicfp.com/cfp/servlet/event.showcfp?eventid=11035&copyow
 nerid=21783
UID:cfp150612-A@wikicfp.com
END:VEVENT
BEGIN:VEVENT
DTSTAMP:20260419T152031Z
DTSTART;VALUE=DATE:20110315
SUMMARY:eLSE 2011 Deadline
DESCRIPTION:7-th eLearning and Software for Education Conference
URL:http://www.wikicfp.com/cfp/servlet/event.showcfp?eventid=11035&copyow
 nerid=21783
UID:cfp150612-D@wikicfp.com
END:VEVENT
BEGIN:VEVENT
DTSTAMP:20260419T152031Z
DTSTART;VALUE=DATE:20110115
SUMMARY:eLSE 2011 Notification Due
DESCRIPTION:7-th eLearning and Software for Education Conference
URL:http://www.wikicfp.com/cfp/servlet/event.showcfp?eventid=11035&copyow
 nerid=21783
UID:cfp150612-N@wikicfp.com
END:VEVENT
BEGIN:VEVENT
DTSTAMP:20260419T152031Z
DTSTART;VALUE=DATE:20110315
SUMMARY:eLSE 2011 Final Version Due
DESCRIPTION:7-th eLearning and Software for Education Conference
URL:http://www.wikicfp.com/cfp/servlet/event.showcfp?eventid=11035&copyow
 nerid=21783
UID:cfp150612-N@wikicfp.com
END:VEVENT
BEGIN:VEVENT
DTSTAMP:20260419T152031Z
DTSTART;VALUE=DATE:20110615
DTEND;VALUE=DATE:20110618
SUMMARY:SPDECE  2011
DESCRIPTION:Multidisciplinary symposium on the design and evaluation of d
 igital content for education
URL:http://www.wikicfp.com/cfp/servlet/event.showcfp?eventid=11998&copyow
 nerid=21783
UID:cfp150614-E@wikicfp.com
END:VEVENT
BEGIN:VEVENT
DTSTAMP:20260419T152031Z
DTSTART;VALUE=DATE:20110318
SUMMARY:SPDECE  2011 Deadline
DESCRIPTION:Multidisciplinary symposium on the design and evaluation of d
 igital content for education
URL:http://www.wikicfp.com/cfp/servlet/event.showcfp?eventid=11998&copyow
 nerid=21783
UID:cfp150614-D@wikicfp.com
END:VEVENT
BEGIN:VEVENT
DTSTAMP:20260419T152031Z
DTSTART;VALUE=DATE:20110429
SUMMARY:SPDECE  2011 Notification Due
DESCRIPTION:Multidisciplinary symposium on the design and evaluation of d
 igital content for education
URL:http://www.wikicfp.com/cfp/servlet/event.showcfp?eventid=11998&copyow
 nerid=21783
UID:cfp150614-N@wikicfp.com
END:VEVENT
BEGIN:VEVENT
DTSTAMP:20260419T152031Z
DTSTART;VALUE=DATE:20110513
SUMMARY:SPDECE  2011 Final Version Due
DESCRIPTION:Multidisciplinary symposium on the design and evaluation of d
 igital content for education
URL:http://www.wikicfp.com/cfp/servlet/event.showcfp?eventid=11998&copyow
 nerid=21783
UID:cfp150614-N@wikicfp.com
END:VEVENT
BEGIN:VEVENT
DTSTAMP:20260419T152031Z
DTSTART;VALUE=DATE:20110706
DTEND;VALUE=DATE:20110709
SUMMARY:EDM 2011
DESCRIPTION:The 4th International Conference on Educational Data Mining
URL:http://www.wikicfp.com/cfp/servlet/event.showcfp?eventid=14712&copyow
 nerid=21783
UID:cfp150618-E@wikicfp.com
END:VEVENT
BEGIN:VEVENT
DTSTAMP:20260419T152031Z
DTSTART;VALUE=DATE:20110328
SUMMARY:EDM 2011 Deadline
DESCRIPTION:The 4th International Conference on Educational Data Mining
URL:http://www.wikicfp.com/cfp/servlet/event.showcfp?eventid=14712&copyow
 nerid=21783
UID:cfp150618-D@wikicfp.com
END:VEVENT
BEGIN:VEVENT
DTSTAMP:20260419T152031Z
DTSTART;VALUE=DATE:20110515
SUMMARY:EDM 2011 Notification Due
DESCRIPTION:The 4th International Conference on Educational Data Mining
URL:http://www.wikicfp.com/cfp/servlet/event.showcfp?eventid=14712&copyow
 nerid=21783
UID:cfp150618-N@wikicfp.com
END:VEVENT
BEGIN:VEVENT
DTSTAMP:20260419T152031Z
DTSTART;VALUE=DATE:20110605
SUMMARY:EDM 2011 Final Version Due
DESCRIPTION:The 4th International Conference on Educational Data Mining
URL:http://www.wikicfp.com/cfp/servlet/event.showcfp?eventid=14712&copyow
 nerid=21783
UID:cfp150618-N@wikicfp.com
END:VEVENT
BEGIN:VEVENT
DTSTAMP:20260419T152031Z
DTSTART;VALUE=DATE:20110627
DTEND;VALUE=DATE:20110702
SUMMARY:IWEI 2011
DESCRIPTION:International Workshop on Educational Informatics
URL:http://www.wikicfp.com/cfp/servlet/event.showcfp?eventid=14620&copyow
 nerid=21783
UID:cfp150617-E@wikicfp.com
END:VEVENT
BEGIN:VEVENT
DTSTAMP:20260419T152031Z
DTSTART;VALUE=DATE:20110331
SUMMARY:IWEI 2011 Deadline
DESCRIPTION:International Workshop on Educational Informatics
URL:http://www.wikicfp.com/cfp/servlet/event.showcfp?eventid=14620&copyow
 nerid=21783
UID:cfp150617-D@wikicfp.com
END:VEVENT
BEGIN:VEVENT
DTSTAMP:20260419T152031Z
DTSTART;VALUE=DATE:20110420
SUMMARY:IWEI 2011 Notification Due
DESCRIPTION:International Workshop on Educational Informatics
URL:http://www.wikicfp.com/cfp/servlet/event.showcfp?eventid=14620&copyow
 nerid=21783
UID:cfp150617-N@wikicfp.com
END:VEVENT
BEGIN:VEVENT
DTSTAMP:20260419T152031Z
DTSTART;VALUE=DATE:20110510
SUMMARY:IWEI 2011 Final Version Due
DESCRIPTION:International Workshop on Educational Informatics
URL:http://www.wikicfp.com/cfp/servlet/event.showcfp?eventid=14620&copyow
 nerid=21783
UID:cfp150617-N@wikicfp.com
END:VEVENT
BEGIN:VEVENT
DTSTAMP:20260419T152031Z
DTSTART;VALUE=DATE:20110711
DTEND;VALUE=DATE:20110714
SUMMARY:CATE 2011
DESCRIPTION:Computers and Advanced Technology in Education
URL:http://www.wikicfp.com/cfp/servlet/event.showcfp?eventid=11441&copyow
 nerid=21783
UID:cfp150613-E@wikicfp.com
END:VEVENT
BEGIN:VEVENT
DTSTAMP:20260419T152031Z
DTSTART;VALUE=DATE:20110401
SUMMARY:CATE 2011 Deadline
DESCRIPTION:Computers and Advanced Technology in Education
URL:http://www.wikicfp.com/cfp/servlet/event.showcfp?eventid=11441&copyow
 nerid=21783
UID:cfp150613-D@wikicfp.com
END:VEVENT
BEGIN:VEVENT
DTSTAMP:20260419T152031Z
DTSTART;VALUE=DATE:20110429
SUMMARY:CATE 2011 Notification Due
DESCRIPTION:Computers and Advanced Technology in Education
URL:http://www.wikicfp.com/cfp/servlet/event.showcfp?eventid=11441&copyow
 nerid=21783
UID:cfp150613-N@wikicfp.com
END:VEVENT
BEGIN:VEVENT
DTSTAMP:20260419T152031Z
DTSTART;VALUE=DATE:20110518
SUMMARY:CATE 2011 Final Version Due
DESCRIPTION:Computers and Advanced Technology in Education
URL:http://www.wikicfp.com/cfp/servlet/event.showcfp?eventid=11441&copyow
 nerid=21783
UID:cfp150613-N@wikicfp.com
END:VEVENT
BEGIN:VEVENT
DTSTAMP:20260419T152031Z
DTSTART;VALUE=DATE:20110430
SUMMARY:EJIS_special issue 2011 Deadline
DESCRIPTION:European Journal of Information Systems
URL:http://www.wikicfp.com/cfp/servlet/event.showcfp?eventid=14799&copyow
 nerid=21783
UID:cfp150611-D@wikicfp.com
END:VEVENT
BEGIN:VEVENT
DTSTAMP:20260419T152031Z
DTSTART;VALUE=DATE:20110507
SUMMARY:Special Issue Comp. Hum. Behav. 2011 Deadline
DESCRIPTION:special issue 'Web-2.0 technologies in support of open\, team
 -based learning and innovation'
URL:http://www.wikicfp.com/cfp/servlet/event.showcfp?eventid=12673&copyow
 nerid=21783
UID:cfp150616-D@wikicfp.com
END:VEVENT
BEGIN:VEVENT
DTSTAMP:20260419T152031Z
DTSTART;VALUE=DATE:20110701
SUMMARY:Special Issue Comp. Hum. Behav. 2011 Notification Due
DESCRIPTION:special issue 'Web-2.0 technologies in support of open\, team
 -based learning and innovation'
URL:http://www.wikicfp.com/cfp/servlet/event.showcfp?eventid=12673&copyow
 nerid=21783
UID:cfp150616-N@wikicfp.com
END:VEVENT
BEGIN:VEVENT
DTSTAMP:20260419T152031Z
DTSTART;VALUE=DATE:20110901
SUMMARY:Special Issue Comp. Hum. Behav. 2011 Final Version Due
DESCRIPTION:special issue 'Web-2.0 technologies in support of open\, team
 -based learning and innovation'
URL:http://www.wikicfp.com/cfp/servlet/event.showcfp?eventid=12673&copyow
 nerid=21783
UID:cfp150616-N@wikicfp.com
END:VEVENT
BEGIN:VEVENT
DTSTAMP:20260419T152031Z
DTSTART;VALUE=DATE:20111006
DTEND;VALUE=DATE:20111009
SUMMARY:SocInfo 2011
DESCRIPTION:Third International Conference on Social Informatics
URL:http://www.wikicfp.com/cfp/servlet/event.showcfp?eventid=14365&copyow
 nerid=21783
UID:cfp150623-E@wikicfp.com
END:VEVENT
BEGIN:VEVENT
DTSTAMP:20260419T152031Z
DTSTART;VALUE=DATE:20110507
SUMMARY:SocInfo 2011 Deadline
DESCRIPTION:Third International Conference on Social Informatics
URL:http://www.wikicfp.com/cfp/servlet/event.showcfp?eventid=14365&copyow
 nerid=21783
UID:cfp150623-D@wikicfp.com
END:VEVENT
BEGIN:VEVENT
DTSTAMP:20260419T152031Z
DTSTART;VALUE=DATE:20110630
SUMMARY:SocInfo 2011 Notification Due
DESCRIPTION:Third International Conference on Social Informatics
URL:http://www.wikicfp.com/cfp/servlet/event.showcfp?eventid=14365&copyow
 nerid=21783
UID:cfp150623-N@wikicfp.com
END:VEVENT
BEGIN:VEVENT
DTSTAMP:20260419T152031Z
DTSTART;VALUE=DATE:20110715
SUMMARY:SocInfo 2011 Final Version Due
DESCRIPTION:Third International Conference on Social Informatics
URL:http://www.wikicfp.com/cfp/servlet/event.showcfp?eventid=14365&copyow
 nerid=21783
UID:cfp150623-N@wikicfp.com
END:VEVENT
BEGIN:VEVENT
DTSTAMP:20260419T152031Z
DTSTART;VALUE=DATE:20111003
DTEND;VALUE=DATE:20111006
SUMMARY:IICE 2011
DESCRIPTION:Ireland International Conference on Education
URL:http://www.wikicfp.com/cfp/servlet/event.showcfp?eventid=12588&copyow
 nerid=21783
UID:cfp150615-E@wikicfp.com
END:VEVENT
BEGIN:VEVENT
DTSTAMP:20260419T152031Z
DTSTART;VALUE=DATE:20110615
SUMMARY:IICE 2011 Abstract Due
DESCRIPTION:Ireland International Conference on Education
URL:http://www.wikicfp.com/cfp/servlet/event.showcfp?eventid=12588&copyow
 nerid=21783
UID:cfp150615-A@wikicfp.com
END:VEVENT
BEGIN:VEVENT
DTSTAMP:20260419T152031Z
DTSTART;VALUE=DATE:20110630
SUMMARY:IICE 2011 Deadline
DESCRIPTION:Ireland International Conference on Education
URL:http://www.wikicfp.com/cfp/servlet/event.showcfp?eventid=12588&copyow
 nerid=21783
UID:cfp150615-D@wikicfp.com
END:VEVENT
BEGIN:VEVENT
DTSTAMP:20260419T152031Z
DTSTART;VALUE=DATE:20110625
SUMMARY:IICE 2011 Notification Due
DESCRIPTION:Ireland International Conference on Education
URL:http://www.wikicfp.com/cfp/servlet/event.showcfp?eventid=12588&copyow
 nerid=21783
UID:cfp150615-N@wikicfp.com
END:VEVENT
BEGIN:VEVENT
DTSTAMP:20260419T152031Z
DTSTART;VALUE=DATE:20110710
SUMMARY:IICE 2011 Final Version Due
DESCRIPTION:Ireland International Conference on Education
URL:http://www.wikicfp.com/cfp/servlet/event.showcfp?eventid=12588&copyow
 nerid=21783
UID:cfp150615-N@wikicfp.com
END:VEVENT
END:VCALENDAR
