BEGIN:VCALENDAR
PRODID:-//WikiCFP//async36 1.0//EN
VERSION:2.0
CALSCALE:GREGORIAN
BEGIN:VEVENT
DTSTAMP:20260424T234513Z
DTSTART;VALUE=DATE:20110124
DTEND;VALUE=DATE:20110127
SUMMARY:HIPEAC 2011
DESCRIPTION:6th International Conference on High-Performance and Embedded
  Architectures and Compilers
URL:http://www.wikicfp.com/cfp/servlet/event.showcfp?eventid=9966&copyown
 erid=21532
UID:cfp148647-E@wikicfp.com
END:VEVENT
BEGIN:VEVENT
DTSTAMP:20260424T234513Z
DTSTART;VALUE=DATE:20100520
SUMMARY:HIPEAC 2011 Abstract Due
DESCRIPTION:6th International Conference on High-Performance and Embedded
  Architectures and Compilers
URL:http://www.wikicfp.com/cfp/servlet/event.showcfp?eventid=9966&copyown
 erid=21532
UID:cfp148647-A@wikicfp.com
END:VEVENT
BEGIN:VEVENT
DTSTAMP:20260424T234513Z
DTSTART;VALUE=DATE:20100527
SUMMARY:HIPEAC 2011 Deadline
DESCRIPTION:6th International Conference on High-Performance and Embedded
  Architectures and Compilers
URL:http://www.wikicfp.com/cfp/servlet/event.showcfp?eventid=9966&copyown
 erid=21532
UID:cfp148647-D@wikicfp.com
END:VEVENT
BEGIN:VEVENT
DTSTAMP:20260424T234513Z
DTSTART;VALUE=DATE:20100721
SUMMARY:HIPEAC 2011 Notification Due
DESCRIPTION:6th International Conference on High-Performance and Embedded
  Architectures and Compilers
URL:http://www.wikicfp.com/cfp/servlet/event.showcfp?eventid=9966&copyown
 erid=21532
UID:cfp148647-N@wikicfp.com
END:VEVENT
BEGIN:VEVENT
DTSTAMP:20260424T234513Z
DTSTART;VALUE=DATE:20100930
SUMMARY:HIPEAC 2011 Final Version Due
DESCRIPTION:6th International Conference on High-Performance and Embedded
  Architectures and Compilers
URL:http://www.wikicfp.com/cfp/servlet/event.showcfp?eventid=9966&copyown
 erid=21532
UID:cfp148647-N@wikicfp.com
END:VEVENT
BEGIN:VEVENT
DTSTAMP:20260424T234513Z
DTSTART;VALUE=DATE:20110212
DTEND;VALUE=DATE:20110217
SUMMARY:HPCA 2011
DESCRIPTION:IEEE 17th International Symposium on High Performance Compute
 r Architecture
URL:http://www.wikicfp.com/cfp/servlet/event.showcfp?eventid=9619&copyown
 erid=21532
UID:cfp148646-E@wikicfp.com
END:VEVENT
BEGIN:VEVENT
DTSTAMP:20260424T234513Z
DTSTART;VALUE=DATE:20100820
SUMMARY:HPCA 2011 Abstract Due
DESCRIPTION:IEEE 17th International Symposium on High Performance Compute
 r Architecture
URL:http://www.wikicfp.com/cfp/servlet/event.showcfp?eventid=9619&copyown
 erid=21532
UID:cfp148646-A@wikicfp.com
END:VEVENT
BEGIN:VEVENT
DTSTAMP:20260424T234513Z
DTSTART;VALUE=DATE:20100827
SUMMARY:HPCA 2011 Deadline
DESCRIPTION:IEEE 17th International Symposium on High Performance Compute
 r Architecture
URL:http://www.wikicfp.com/cfp/servlet/event.showcfp?eventid=9619&copyown
 erid=21532
UID:cfp148646-D@wikicfp.com
END:VEVENT
BEGIN:VEVENT
DTSTAMP:20260424T234513Z
DTSTART;VALUE=DATE:20101109
SUMMARY:HPCA 2011 Notification Due
DESCRIPTION:IEEE 17th International Symposium on High Performance Compute
 r Architecture
URL:http://www.wikicfp.com/cfp/servlet/event.showcfp?eventid=9619&copyown
 erid=21532
UID:cfp148646-N@wikicfp.com
END:VEVENT
BEGIN:VEVENT
DTSTAMP:20260424T234513Z
DTSTART;VALUE=DATE:20101212
SUMMARY:HPCA 2011 Final Version Due
DESCRIPTION:IEEE 17th International Symposium on High Performance Compute
 r Architecture
URL:http://www.wikicfp.com/cfp/servlet/event.showcfp?eventid=9619&copyown
 erid=21532
UID:cfp148646-N@wikicfp.com
END:VEVENT
BEGIN:VEVENT
DTSTAMP:20260424T234513Z
DTSTART;VALUE=DATE:20110501
DTEND;VALUE=DATE:20110506
SUMMARY:VTS 2011
DESCRIPTION:IEEE VlSI Test Symposium
URL:http://www.wikicfp.com/cfp/servlet/event.showcfp?eventid=11205&copyow
 nerid=21532
UID:cfp148649-E@wikicfp.com
END:VEVENT
BEGIN:VEVENT
DTSTAMP:20260424T234513Z
DTSTART;VALUE=DATE:20100919
SUMMARY:VTS 2011 Deadline
DESCRIPTION:IEEE VlSI Test Symposium
URL:http://www.wikicfp.com/cfp/servlet/event.showcfp?eventid=11205&copyow
 nerid=21532
UID:cfp148649-D@wikicfp.com
END:VEVENT
BEGIN:VEVENT
DTSTAMP:20260424T234513Z
DTSTART;VALUE=DATE:20101128
SUMMARY:VTS 2011 Notification Due
DESCRIPTION:IEEE VlSI Test Symposium
URL:http://www.wikicfp.com/cfp/servlet/event.showcfp?eventid=11205&copyow
 nerid=21532
UID:cfp148649-N@wikicfp.com
END:VEVENT
BEGIN:VEVENT
DTSTAMP:20260424T234513Z
DTSTART;VALUE=DATE:20110425
DTEND;VALUE=DATE:20110429
SUMMARY:VLSI-DAT 2011
DESCRIPTION:International Symposium on VLSI Design\, Automation and Test
URL:http://www.wikicfp.com/cfp/servlet/event.showcfp?eventid=10685&copyow
 nerid=21532
UID:cfp148648-E@wikicfp.com
END:VEVENT
BEGIN:VEVENT
DTSTAMP:20260424T234513Z
DTSTART;VALUE=DATE:20101015
SUMMARY:VLSI-DAT 2011 Deadline
DESCRIPTION:International Symposium on VLSI Design\, Automation and Test
URL:http://www.wikicfp.com/cfp/servlet/event.showcfp?eventid=10685&copyow
 nerid=21532
UID:cfp148648-D@wikicfp.com
END:VEVENT
BEGIN:VEVENT
DTSTAMP:20260424T234513Z
DTSTART;VALUE=DATE:20101231
SUMMARY:VLSI-DAT 2011 Notification Due
DESCRIPTION:International Symposium on VLSI Design\, Automation and Test
URL:http://www.wikicfp.com/cfp/servlet/event.showcfp?eventid=10685&copyow
 nerid=21532
UID:cfp148648-N@wikicfp.com
END:VEVENT
BEGIN:VEVENT
DTSTAMP:20260424T234513Z
DTSTART;VALUE=DATE:20110131
SUMMARY:VLSI-DAT 2011 Final Version Due
DESCRIPTION:International Symposium on VLSI Design\, Automation and Test
URL:http://www.wikicfp.com/cfp/servlet/event.showcfp?eventid=10685&copyow
 nerid=21532
UID:cfp148648-N@wikicfp.com
END:VEVENT
BEGIN:VEVENT
DTSTAMP:20260424T234513Z
DTSTART;VALUE=DATE:20110503
DTEND;VALUE=DATE:20110506
SUMMARY:CF 2011
DESCRIPTION:Computing Frontiers Conference
URL:http://www.wikicfp.com/cfp/servlet/event.showcfp?eventid=11510&copyow
 nerid=21532
UID:cfp148650-E@wikicfp.com
END:VEVENT
BEGIN:VEVENT
DTSTAMP:20260424T234513Z
DTSTART;VALUE=DATE:20101203
SUMMARY:CF 2011 Abstract Due
DESCRIPTION:Computing Frontiers Conference
URL:http://www.wikicfp.com/cfp/servlet/event.showcfp?eventid=11510&copyow
 nerid=21532
UID:cfp148650-A@wikicfp.com
END:VEVENT
BEGIN:VEVENT
DTSTAMP:20260424T234513Z
DTSTART;VALUE=DATE:20101210
SUMMARY:CF 2011 Deadline
DESCRIPTION:Computing Frontiers Conference
URL:http://www.wikicfp.com/cfp/servlet/event.showcfp?eventid=11510&copyow
 nerid=21532
UID:cfp148650-D@wikicfp.com
END:VEVENT
BEGIN:VEVENT
DTSTAMP:20260424T234513Z
DTSTART;VALUE=DATE:20110214
SUMMARY:CF 2011 Notification Due
DESCRIPTION:Computing Frontiers Conference
URL:http://www.wikicfp.com/cfp/servlet/event.showcfp?eventid=11510&copyow
 nerid=21532
UID:cfp148650-N@wikicfp.com
END:VEVENT
BEGIN:VEVENT
DTSTAMP:20260424T234513Z
DTSTART;VALUE=DATE:20110501
DTEND;VALUE=DATE:20110505
SUMMARY:NOCS 2011
DESCRIPTION:International Symposium on Networks-on-Chip
URL:http://www.wikicfp.com/cfp/servlet/event.showcfp?eventid=11207&copyow
 nerid=21532
UID:cfp148639-E@wikicfp.com
END:VEVENT
BEGIN:VEVENT
DTSTAMP:20260424T234513Z
DTSTART;VALUE=DATE:20101210
SUMMARY:NOCS 2011 Abstract Due
DESCRIPTION:International Symposium on Networks-on-Chip
URL:http://www.wikicfp.com/cfp/servlet/event.showcfp?eventid=11207&copyow
 nerid=21532
UID:cfp148639-A@wikicfp.com
END:VEVENT
BEGIN:VEVENT
DTSTAMP:20260424T234513Z
DTSTART;VALUE=DATE:20101217
SUMMARY:NOCS 2011 Deadline
DESCRIPTION:International Symposium on Networks-on-Chip
URL:http://www.wikicfp.com/cfp/servlet/event.showcfp?eventid=11207&copyow
 nerid=21532
UID:cfp148639-D@wikicfp.com
END:VEVENT
BEGIN:VEVENT
DTSTAMP:20260424T234513Z
DTSTART;VALUE=DATE:20110218
SUMMARY:NOCS 2011 Notification Due
DESCRIPTION:International Symposium on Networks-on-Chip
URL:http://www.wikicfp.com/cfp/servlet/event.showcfp?eventid=11207&copyow
 nerid=21532
UID:cfp148639-N@wikicfp.com
END:VEVENT
BEGIN:VEVENT
DTSTAMP:20260424T234513Z
DTSTART;VALUE=DATE:20110311
SUMMARY:NOCS 2011 Final Version Due
DESCRIPTION:International Symposium on Networks-on-Chip
URL:http://www.wikicfp.com/cfp/servlet/event.showcfp?eventid=11207&copyow
 nerid=21532
UID:cfp148639-N@wikicfp.com
END:VEVENT
BEGIN:VEVENT
DTSTAMP:20260424T234513Z
DTSTART;VALUE=DATE:20110601
DTEND;VALUE=DATE:20110605
SUMMARY:ICS 2011
DESCRIPTION:25th International Conference on Supercomputing
URL:http://www.wikicfp.com/cfp/servlet/event.showcfp?eventid=10971&copyow
 nerid=21532
UID:cfp148638-E@wikicfp.com
END:VEVENT
BEGIN:VEVENT
DTSTAMP:20260424T234513Z
DTSTART;VALUE=DATE:20110110
SUMMARY:ICS 2011 Abstract Due
DESCRIPTION:25th International Conference on Supercomputing
URL:http://www.wikicfp.com/cfp/servlet/event.showcfp?eventid=10971&copyow
 nerid=21532
UID:cfp148638-A@wikicfp.com
END:VEVENT
BEGIN:VEVENT
DTSTAMP:20260424T234513Z
DTSTART;VALUE=DATE:20110114
SUMMARY:ICS 2011 Deadline
DESCRIPTION:25th International Conference on Supercomputing
URL:http://www.wikicfp.com/cfp/servlet/event.showcfp?eventid=10971&copyow
 nerid=21532
UID:cfp148638-D@wikicfp.com
END:VEVENT
BEGIN:VEVENT
DTSTAMP:20260424T234513Z
DTSTART;VALUE=DATE:20110301
SUMMARY:ICS 2011 Notification Due
DESCRIPTION:25th International Conference on Supercomputing
URL:http://www.wikicfp.com/cfp/servlet/event.showcfp?eventid=10971&copyow
 nerid=21532
UID:cfp148638-N@wikicfp.com
END:VEVENT
BEGIN:VEVENT
DTSTAMP:20260424T234513Z
DTSTART;VALUE=DATE:20110331
SUMMARY:ICS 2011 Final Version Due
DESCRIPTION:25th International Conference on Supercomputing
URL:http://www.wikicfp.com/cfp/servlet/event.showcfp?eventid=10971&copyow
 nerid=21532
UID:cfp148638-N@wikicfp.com
END:VEVENT
END:VCALENDAR
