BEGIN:VCALENDAR
PRODID:-//WikiCFP//trileaf 1.0//EN
VERSION:2.0
CALSCALE:GREGORIAN
BEGIN:VEVENT
DTSTAMP:20260421T235856Z
DTSTART;VALUE=DATE:20110125
DTEND;VALUE=DATE:20110129
SUMMARY:ASP-DAC 2011
DESCRIPTION:16th Asia and South Pacific Design Automation Conference
URL:http://www.wikicfp.com/cfp/servlet/event.showcfp?eventid=9052&copyown
 erid=21354
UID:cfp147232-E@wikicfp.com
END:VEVENT
BEGIN:VEVENT
DTSTAMP:20260421T235856Z
DTSTART;VALUE=DATE:20100719
SUMMARY:ASP-DAC 2011 Deadline
DESCRIPTION:16th Asia and South Pacific Design Automation Conference
URL:http://www.wikicfp.com/cfp/servlet/event.showcfp?eventid=9052&copyown
 erid=21354
UID:cfp147232-D@wikicfp.com
END:VEVENT
BEGIN:VEVENT
DTSTAMP:20260421T235856Z
DTSTART;VALUE=DATE:20100924
SUMMARY:ASP-DAC 2011 Notification Due
DESCRIPTION:16th Asia and South Pacific Design Automation Conference
URL:http://www.wikicfp.com/cfp/servlet/event.showcfp?eventid=9052&copyown
 erid=21354
UID:cfp147232-N@wikicfp.com
END:VEVENT
BEGIN:VEVENT
DTSTAMP:20260421T235856Z
DTSTART;VALUE=DATE:20101115
SUMMARY:ASP-DAC 2011 Final Version Due
DESCRIPTION:16th Asia and South Pacific Design Automation Conference
URL:http://www.wikicfp.com/cfp/servlet/event.showcfp?eventid=9052&copyown
 erid=21354
UID:cfp147232-N@wikicfp.com
END:VEVENT
BEGIN:VEVENT
DTSTAMP:20260421T235856Z
DTSTART;VALUE=DATE:20110605
DTEND;VALUE=DATE:20110611
SUMMARY:DAC 2011
DESCRIPTION:Design Automation Conference
URL:http://www.wikicfp.com/cfp/servlet/event.showcfp?eventid=11206&copyow
 nerid=21354
UID:cfp147231-E@wikicfp.com
END:VEVENT
BEGIN:VEVENT
DTSTAMP:20260421T235856Z
DTSTART;VALUE=DATE:20101118
SUMMARY:DAC 2011 Deadline
DESCRIPTION:Design Automation Conference
URL:http://www.wikicfp.com/cfp/servlet/event.showcfp?eventid=11206&copyow
 nerid=21354
UID:cfp147231-D@wikicfp.com
END:VEVENT
BEGIN:VEVENT
DTSTAMP:20260421T235856Z
DTSTART;VALUE=DATE:20110204
SUMMARY:DAC 2011 Notification Due
DESCRIPTION:Design Automation Conference
URL:http://www.wikicfp.com/cfp/servlet/event.showcfp?eventid=11206&copyow
 nerid=21354
UID:cfp147231-N@wikicfp.com
END:VEVENT
BEGIN:VEVENT
DTSTAMP:20260421T235856Z
DTSTART;VALUE=DATE:20110307
SUMMARY:DAC 2011 Final Version Due
DESCRIPTION:Design Automation Conference
URL:http://www.wikicfp.com/cfp/servlet/event.showcfp?eventid=11206&copyow
 nerid=21354
UID:cfp147231-N@wikicfp.com
END:VEVENT
END:VCALENDAR
