BEGIN:VCALENDAR
PRODID:-//WikiCFP//asymeon 1.0//EN
VERSION:2.0
CALSCALE:GREGORIAN
BEGIN:VEVENT
DTSTAMP:20260422T202345Z
DTSTART;VALUE=DATE:20110717
DTEND;VALUE=DATE:20110718
SUMMARY:TADA 2011
DESCRIPTION:The 2011 Workshop on Trading Agent Design and Analysis
URL:http://www.wikicfp.com/cfp/servlet/event.showcfp?eventid=15622&copyow
 nerid=21215
UID:cfp162614-E@wikicfp.com
END:VEVENT
BEGIN:VEVENT
DTSTAMP:20260422T202345Z
DTSTART;VALUE=DATE:20110403
SUMMARY:TADA 2011 Deadline
DESCRIPTION:The 2011 Workshop on Trading Agent Design and Analysis
URL:http://www.wikicfp.com/cfp/servlet/event.showcfp?eventid=15622&copyow
 nerid=21215
UID:cfp162614-D@wikicfp.com
END:VEVENT
BEGIN:VEVENT
DTSTAMP:20260422T202345Z
DTSTART;VALUE=DATE:20110425
SUMMARY:TADA 2011 Notification Due
DESCRIPTION:The 2011 Workshop on Trading Agent Design and Analysis
URL:http://www.wikicfp.com/cfp/servlet/event.showcfp?eventid=15622&copyow
 nerid=21215
UID:cfp162614-N@wikicfp.com
END:VEVENT
BEGIN:VEVENT
DTSTAMP:20260422T202345Z
DTSTART;VALUE=DATE:20110516
SUMMARY:TADA 2011 Final Version Due
DESCRIPTION:The 2011 Workshop on Trading Agent Design and Analysis
URL:http://www.wikicfp.com/cfp/servlet/event.showcfp?eventid=15622&copyow
 nerid=21215
UID:cfp162614-N@wikicfp.com
END:VEVENT
BEGIN:VEVENT
DTSTAMP:20260422T202345Z
DTSTART;VALUE=DATE:20120324
DTEND;VALUE=DATE:20120402
SUMMARY:FASE 2012
DESCRIPTION:15th International Conference on Fundamental Approaches to So
 ftware Engineering
URL:http://www.wikicfp.com/cfp/servlet/event.showcfp?eventid=17743&copyow
 nerid=21215
UID:cfp200929-E@wikicfp.com
END:VEVENT
BEGIN:VEVENT
DTSTAMP:20260422T202345Z
DTSTART;VALUE=DATE:20111007
SUMMARY:FASE 2012 Abstract Due
DESCRIPTION:15th International Conference on Fundamental Approaches to So
 ftware Engineering
URL:http://www.wikicfp.com/cfp/servlet/event.showcfp?eventid=17743&copyow
 nerid=21215
UID:cfp200929-A@wikicfp.com
END:VEVENT
BEGIN:VEVENT
DTSTAMP:20260422T202345Z
DTSTART;VALUE=DATE:20111014
SUMMARY:FASE 2012 Deadline
DESCRIPTION:15th International Conference on Fundamental Approaches to So
 ftware Engineering
URL:http://www.wikicfp.com/cfp/servlet/event.showcfp?eventid=17743&copyow
 nerid=21215
UID:cfp200929-D@wikicfp.com
END:VEVENT
BEGIN:VEVENT
DTSTAMP:20260422T202345Z
DTSTART;VALUE=DATE:20111216
SUMMARY:FASE 2012 Notification Due
DESCRIPTION:15th International Conference on Fundamental Approaches to So
 ftware Engineering
URL:http://www.wikicfp.com/cfp/servlet/event.showcfp?eventid=17743&copyow
 nerid=21215
UID:cfp200929-N@wikicfp.com
END:VEVENT
BEGIN:VEVENT
DTSTAMP:20260422T202345Z
DTSTART;VALUE=DATE:20120106
SUMMARY:FASE 2012 Final Version Due
DESCRIPTION:15th International Conference on Fundamental Approaches to So
 ftware Engineering
URL:http://www.wikicfp.com/cfp/servlet/event.showcfp?eventid=17743&copyow
 nerid=21215
UID:cfp200929-N@wikicfp.com
END:VEVENT
BEGIN:VEVENT
DTSTAMP:20260422T202345Z
DTSTART;VALUE=DATE:20120604
DTEND;VALUE=DATE:20120606
SUMMARY:TAC 2012
DESCRIPTION:Thirteenth Annual Trading Agent Competition
URL:http://www.wikicfp.com/cfp/servlet/event.showcfp?eventid=21354&copyow
 nerid=21215
UID:cfp244205-E@wikicfp.com
END:VEVENT
BEGIN:VEVENT
DTSTAMP:20260422T202345Z
DTSTART;VALUE=DATE:20120415
SUMMARY:TAC 2012 Deadline
DESCRIPTION:Thirteenth Annual Trading Agent Competition
URL:http://www.wikicfp.com/cfp/servlet/event.showcfp?eventid=21354&copyow
 nerid=21215
UID:cfp244205-D@wikicfp.com
END:VEVENT
BEGIN:VEVENT
DTSTAMP:20260422T202345Z
DTSTART;VALUE=DATE:20130506
DTEND;VALUE=DATE:20130508
SUMMARY:ADMI 2013
DESCRIPTION:The Ninth International Workshop on Agents and Data Mining In
 teraction
URL:http://www.wikicfp.com/cfp/servlet/event.showcfp?eventid=27548&copyow
 nerid=21215
UID:cfp335317-E@wikicfp.com
END:VEVENT
BEGIN:VEVENT
DTSTAMP:20260422T202345Z
DTSTART;VALUE=DATE:20130228
SUMMARY:ADMI 2013 Deadline
DESCRIPTION:The Ninth International Workshop on Agents and Data Mining In
 teraction
URL:http://www.wikicfp.com/cfp/servlet/event.showcfp?eventid=27548&copyow
 nerid=21215
UID:cfp335317-D@wikicfp.com
END:VEVENT
BEGIN:VEVENT
DTSTAMP:20260422T202345Z
DTSTART;VALUE=DATE:20130311
SUMMARY:ADMI 2013 Notification Due
DESCRIPTION:The Ninth International Workshop on Agents and Data Mining In
 teraction
URL:http://www.wikicfp.com/cfp/servlet/event.showcfp?eventid=27548&copyow
 nerid=21215
UID:cfp335317-N@wikicfp.com
END:VEVENT
BEGIN:VEVENT
DTSTAMP:20260422T202345Z
DTSTART;VALUE=DATE:20130330
SUMMARY:ADMI 2013 Final Version Due
DESCRIPTION:The Ninth International Workshop on Agents and Data Mining In
 teraction
URL:http://www.wikicfp.com/cfp/servlet/event.showcfp?eventid=27548&copyow
 nerid=21215
UID:cfp335317-N@wikicfp.com
END:VEVENT
BEGIN:VEVENT
DTSTAMP:20260422T202345Z
DTSTART;VALUE=DATE:20140506
DTEND;VALUE=DATE:20140507
SUMMARY:ADMI 2014
DESCRIPTION:The Tenth International Workshop on Agents and Data Mining In
 teraction
URL:http://www.wikicfp.com/cfp/servlet/event.showcfp?eventid=35169&copyow
 nerid=21215
UID:cfp414965-E@wikicfp.com
END:VEVENT
BEGIN:VEVENT
DTSTAMP:20260422T202345Z
DTSTART;VALUE=DATE:20140210
SUMMARY:ADMI 2014 Deadline
DESCRIPTION:The Tenth International Workshop on Agents and Data Mining In
 teraction
URL:http://www.wikicfp.com/cfp/servlet/event.showcfp?eventid=35169&copyow
 nerid=21215
UID:cfp414965-D@wikicfp.com
END:VEVENT
END:VCALENDAR
