BEGIN:VCALENDAR
PRODID:-//WikiCFP//halojetter 1.0//EN
VERSION:2.0
CALSCALE:GREGORIAN
BEGIN:VEVENT
DTSTAMP:20260422T200552Z
DTSTART;VALUE=DATE:20090301
DTEND;VALUE=DATE:20090308
SUMMARY:CICLing 2009
DESCRIPTION:10th International Conference on Intelligent Text Processing 
 and Computational Linguistics
URL:http://www.wikicfp.com/cfp/servlet/event.showcfp?eventid=3865&copyown
 erid=2098
UID:cfp16596-E@wikicfp.com
END:VEVENT
BEGIN:VEVENT
DTSTAMP:20260422T200552Z
DTSTART;VALUE=DATE:20081103
SUMMARY:CICLing 2009 Abstract Due
DESCRIPTION:10th International Conference on Intelligent Text Processing 
 and Computational Linguistics
URL:http://www.wikicfp.com/cfp/servlet/event.showcfp?eventid=3865&copyown
 erid=2098
UID:cfp16596-A@wikicfp.com
END:VEVENT
BEGIN:VEVENT
DTSTAMP:20260422T200552Z
DTSTART;VALUE=DATE:20081110
SUMMARY:CICLing 2009 Deadline
DESCRIPTION:10th International Conference on Intelligent Text Processing 
 and Computational Linguistics
URL:http://www.wikicfp.com/cfp/servlet/event.showcfp?eventid=3865&copyown
 erid=2098
UID:cfp16596-D@wikicfp.com
END:VEVENT
BEGIN:VEVENT
DTSTAMP:20260422T200552Z
DTSTART;VALUE=DATE:20090531
DTEND;VALUE=DATE:20090606
SUMMARY:NAACL-HLT 2009
DESCRIPTION:North American Chapter of the Association for Computational L
 inguistics - Human Language Technologies 2009
URL:http://www.wikicfp.com/cfp/servlet/event.showcfp?eventid=3802&copyown
 erid=2098
UID:cfp16597-E@wikicfp.com
END:VEVENT
BEGIN:VEVENT
DTSTAMP:20260422T200552Z
DTSTART;VALUE=DATE:20081201
SUMMARY:NAACL-HLT 2009 Deadline
DESCRIPTION:North American Chapter of the Association for Computational L
 inguistics - Human Language Technologies 2009
URL:http://www.wikicfp.com/cfp/servlet/event.showcfp?eventid=3802&copyown
 erid=2098
UID:cfp16597-D@wikicfp.com
END:VEVENT
BEGIN:VEVENT
DTSTAMP:20260422T200552Z
DTSTART;VALUE=DATE:20090119
SUMMARY:NAACL-HLT 2009 Notification Due
DESCRIPTION:North American Chapter of the Association for Computational L
 inguistics - Human Language Technologies 2009
URL:http://www.wikicfp.com/cfp/servlet/event.showcfp?eventid=3802&copyown
 erid=2098
UID:cfp16597-N@wikicfp.com
END:VEVENT
BEGIN:VEVENT
DTSTAMP:20260422T200552Z
DTSTART;VALUE=DATE:20090331
SUMMARY:NAACL-HLT 2009 Final Version Due
DESCRIPTION:North American Chapter of the Association for Computational L
 inguistics - Human Language Technologies 2009
URL:http://www.wikicfp.com/cfp/servlet/event.showcfp?eventid=3802&copyown
 erid=2098
UID:cfp16597-N@wikicfp.com
END:VEVENT
END:VCALENDAR
