BEGIN:VCALENDAR
PRODID:-//WikiCFP//jctarby 1.0//EN
VERSION:2.0
CALSCALE:GREGORIAN
BEGIN:VEVENT
DTSTAMP:20260420T161642Z
DTSTART;VALUE=DATE:20100203
DTEND;VALUE=DATE:20100205
SUMMARY:TOBI Workshop 2010
DESCRIPTION:Integrating Brain-Computer Interfaces with Conventional Assis
 tive Technology
URL:http://www.wikicfp.com/cfp/servlet/event.showcfp?eventid=6809&copyown
 erid=20976
UID:cfp144521-E@wikicfp.com
END:VEVENT
BEGIN:VEVENT
DTSTAMP:20260420T161642Z
DTSTART;VALUE=DATE:20091211
SUMMARY:TOBI Workshop 2010 Deadline
DESCRIPTION:Integrating Brain-Computer Interfaces with Conventional Assis
 tive Technology
URL:http://www.wikicfp.com/cfp/servlet/event.showcfp?eventid=6809&copyown
 erid=20976
UID:cfp144521-D@wikicfp.com
END:VEVENT
BEGIN:VEVENT
DTSTAMP:20260420T161642Z
DTSTART;VALUE=DATE:20091218
SUMMARY:TOBI Workshop 2010 Notification Due
DESCRIPTION:Integrating Brain-Computer Interfaces with Conventional Assis
 tive Technology
URL:http://www.wikicfp.com/cfp/servlet/event.showcfp?eventid=6809&copyown
 erid=20976
UID:cfp144521-N@wikicfp.com
END:VEVENT
BEGIN:VEVENT
DTSTAMP:20260420T161642Z
DTSTART;VALUE=DATE:20100920
DTEND;VALUE=DATE:20100924
SUMMARY:HCI 2010
DESCRIPTION:Human Computer Interaction
URL:http://www.wikicfp.com/cfp/servlet/event.showcfp?eventid=6327&copyown
 erid=20976
UID:cfp144520-E@wikicfp.com
END:VEVENT
BEGIN:VEVENT
DTSTAMP:20260420T161642Z
DTSTART;VALUE=DATE:20100131
SUMMARY:HCI 2010 Deadline
DESCRIPTION:Human Computer Interaction
URL:http://www.wikicfp.com/cfp/servlet/event.showcfp?eventid=6327&copyown
 erid=20976
UID:cfp144520-D@wikicfp.com
END:VEVENT
BEGIN:VEVENT
DTSTAMP:20260420T161642Z
DTSTART;VALUE=DATE:20100423
SUMMARY:HCI 2010 Notification Due
DESCRIPTION:Human Computer Interaction
URL:http://www.wikicfp.com/cfp/servlet/event.showcfp?eventid=6327&copyown
 erid=20976
UID:cfp144520-N@wikicfp.com
END:VEVENT
BEGIN:VEVENT
DTSTAMP:20260420T161642Z
DTSTART;VALUE=DATE:20100515
SUMMARY:HCI 2010 Final Version Due
DESCRIPTION:Human Computer Interaction
URL:http://www.wikicfp.com/cfp/servlet/event.showcfp?eventid=6327&copyown
 erid=20976
UID:cfp144520-N@wikicfp.com
END:VEVENT
BEGIN:VEVENT
DTSTAMP:20260420T161642Z
DTSTART;VALUE=DATE:20100823
DTEND;VALUE=DATE:20100826
SUMMARY:IASTED-HCI 2010
DESCRIPTION:The Fifth IASTED International Conference on Human-Computer I
 nteraction
URL:http://www.wikicfp.com/cfp/servlet/event.showcfp?eventid=8377&copyown
 erid=20976
UID:cfp144522-E@wikicfp.com
END:VEVENT
BEGIN:VEVENT
DTSTAMP:20260420T161642Z
DTSTART;VALUE=DATE:20100630
SUMMARY:IASTED-HCI 2010 Abstract Due
DESCRIPTION:The Fifth IASTED International Conference on Human-Computer I
 nteraction
URL:http://www.wikicfp.com/cfp/servlet/event.showcfp?eventid=8377&copyown
 erid=20976
UID:cfp144522-A@wikicfp.com
END:VEVENT
BEGIN:VEVENT
DTSTAMP:20260420T161642Z
DTSTART;VALUE=DATE:20100401
SUMMARY:IASTED-HCI 2010 Deadline
DESCRIPTION:The Fifth IASTED International Conference on Human-Computer I
 nteraction
URL:http://www.wikicfp.com/cfp/servlet/event.showcfp?eventid=8377&copyown
 erid=20976
UID:cfp144522-D@wikicfp.com
END:VEVENT
BEGIN:VEVENT
DTSTAMP:20260420T161642Z
DTSTART;VALUE=DATE:20100515
SUMMARY:IASTED-HCI 2010 Notification Due
DESCRIPTION:The Fifth IASTED International Conference on Human-Computer I
 nteraction
URL:http://www.wikicfp.com/cfp/servlet/event.showcfp?eventid=8377&copyown
 erid=20976
UID:cfp144522-N@wikicfp.com
END:VEVENT
BEGIN:VEVENT
DTSTAMP:20260420T161642Z
DTSTART;VALUE=DATE:20100615
SUMMARY:IASTED-HCI 2010 Final Version Due
DESCRIPTION:The Fifth IASTED International Conference on Human-Computer I
 nteraction
URL:http://www.wikicfp.com/cfp/servlet/event.showcfp?eventid=8377&copyown
 erid=20976
UID:cfp144522-N@wikicfp.com
END:VEVENT
BEGIN:VEVENT
DTSTAMP:20260420T161642Z
DTSTART;VALUE=DATE:20100719
DTEND;VALUE=DATE:20100720
SUMMARY:HCIAmI 2010
DESCRIPTION:1st International Workshop on Human-Centric Interfaces for Am
 bient Intelligence
URL:http://www.wikicfp.com/cfp/servlet/event.showcfp?eventid=8435&copyown
 erid=20976
UID:cfp144523-E@wikicfp.com
END:VEVENT
BEGIN:VEVENT
DTSTAMP:20260420T161642Z
DTSTART;VALUE=DATE:20100420
SUMMARY:HCIAmI 2010 Deadline
DESCRIPTION:1st International Workshop on Human-Centric Interfaces for Am
 bient Intelligence
URL:http://www.wikicfp.com/cfp/servlet/event.showcfp?eventid=8435&copyown
 erid=20976
UID:cfp144523-D@wikicfp.com
END:VEVENT
BEGIN:VEVENT
DTSTAMP:20260420T161642Z
DTSTART;VALUE=DATE:20100510
SUMMARY:HCIAmI 2010 Notification Due
DESCRIPTION:1st International Workshop on Human-Centric Interfaces for Am
 bient Intelligence
URL:http://www.wikicfp.com/cfp/servlet/event.showcfp?eventid=8435&copyown
 erid=20976
UID:cfp144523-N@wikicfp.com
END:VEVENT
BEGIN:VEVENT
DTSTAMP:20260420T161642Z
DTSTART;VALUE=DATE:20100515
SUMMARY:HCIAmI 2010 Final Version Due
DESCRIPTION:1st International Workshop on Human-Centric Interfaces for Am
 bient Intelligence
URL:http://www.wikicfp.com/cfp/servlet/event.showcfp?eventid=8435&copyown
 erid=20976
UID:cfp144523-N@wikicfp.com
END:VEVENT
BEGIN:VEVENT
DTSTAMP:20260420T161642Z
DTSTART;VALUE=DATE:20110607
DTEND;VALUE=DATE:20110611
SUMMARY:IS-EUD 2011
DESCRIPTION:Third International Symposium on End-User Development (IS-EUD
  2011)
URL:http://www.wikicfp.com/cfp/servlet/event.showcfp?eventid=10363&copyow
 nerid=20976
UID:cfp144524-E@wikicfp.com
END:VEVENT
BEGIN:VEVENT
DTSTAMP:20260420T161642Z
DTSTART;VALUE=DATE:20101217
SUMMARY:IS-EUD 2011 Abstract Due
DESCRIPTION:Third International Symposium on End-User Development (IS-EUD
  2011)
URL:http://www.wikicfp.com/cfp/servlet/event.showcfp?eventid=10363&copyow
 nerid=20976
UID:cfp144524-A@wikicfp.com
END:VEVENT
BEGIN:VEVENT
DTSTAMP:20260420T161642Z
DTSTART;VALUE=DATE:20110105
SUMMARY:IS-EUD 2011 Deadline
DESCRIPTION:Third International Symposium on End-User Development (IS-EUD
  2011)
URL:http://www.wikicfp.com/cfp/servlet/event.showcfp?eventid=10363&copyow
 nerid=20976
UID:cfp144524-D@wikicfp.com
END:VEVENT
BEGIN:VEVENT
DTSTAMP:20260420T161642Z
DTSTART;VALUE=DATE:20110228
SUMMARY:IS-EUD 2011 Notification Due
DESCRIPTION:Third International Symposium on End-User Development (IS-EUD
  2011)
URL:http://www.wikicfp.com/cfp/servlet/event.showcfp?eventid=10363&copyow
 nerid=20976
UID:cfp144524-N@wikicfp.com
END:VEVENT
BEGIN:VEVENT
DTSTAMP:20260420T161642Z
DTSTART;VALUE=DATE:20110314
SUMMARY:IS-EUD 2011 Final Version Due
DESCRIPTION:Third International Symposium on End-User Development (IS-EUD
  2011)
URL:http://www.wikicfp.com/cfp/servlet/event.showcfp?eventid=10363&copyow
 nerid=20976
UID:cfp144524-N@wikicfp.com
END:VEVENT
BEGIN:VEVENT
DTSTAMP:20260420T161642Z
DTSTART;VALUE=DATE:20110905
DTEND;VALUE=DATE:20110910
SUMMARY:INTERACT 2011
DESCRIPTION:13th IFIP TC13 Conference on Human-Computer Interaction
URL:http://www.wikicfp.com/cfp/servlet/event.showcfp?eventid=9513&copyown
 erid=20976
UID:cfp144527-E@wikicfp.com
END:VEVENT
BEGIN:VEVENT
DTSTAMP:20260420T161642Z
DTSTART;VALUE=DATE:20110110
SUMMARY:INTERACT 2011 Abstract Due
DESCRIPTION:13th IFIP TC13 Conference on Human-Computer Interaction
URL:http://www.wikicfp.com/cfp/servlet/event.showcfp?eventid=9513&copyown
 erid=20976
UID:cfp144527-A@wikicfp.com
END:VEVENT
BEGIN:VEVENT
DTSTAMP:20260420T161642Z
DTSTART;VALUE=DATE:20110124
SUMMARY:INTERACT 2011 Deadline
DESCRIPTION:13th IFIP TC13 Conference on Human-Computer Interaction
URL:http://www.wikicfp.com/cfp/servlet/event.showcfp?eventid=9513&copyown
 erid=20976
UID:cfp144527-D@wikicfp.com
END:VEVENT
BEGIN:VEVENT
DTSTAMP:20260420T161642Z
DTSTART;VALUE=DATE:20110328
SUMMARY:INTERACT 2011 Notification Due
DESCRIPTION:13th IFIP TC13 Conference on Human-Computer Interaction
URL:http://www.wikicfp.com/cfp/servlet/event.showcfp?eventid=9513&copyown
 erid=20976
UID:cfp144527-N@wikicfp.com
END:VEVENT
BEGIN:VEVENT
DTSTAMP:20260420T161642Z
DTSTART;VALUE=DATE:20110418
SUMMARY:INTERACT 2011 Final Version Due
DESCRIPTION:13th IFIP TC13 Conference on Human-Computer Interaction
URL:http://www.wikicfp.com/cfp/servlet/event.showcfp?eventid=9513&copyown
 erid=20976
UID:cfp144527-N@wikicfp.com
END:VEVENT
BEGIN:VEVENT
DTSTAMP:20260420T161642Z
DTSTART;VALUE=DATE:20110608
DTEND;VALUE=DATE:20110612
SUMMARY:ICEIS 2011
DESCRIPTION:13th International Conference on Enterprise Information Syste
 ms
URL:http://www.wikicfp.com/cfp/servlet/event.showcfp?eventid=10647&copyow
 nerid=20976
UID:cfp144528-E@wikicfp.com
END:VEVENT
BEGIN:VEVENT
DTSTAMP:20260420T161642Z
DTSTART;VALUE=DATE:20110125
SUMMARY:ICEIS 2011 Deadline
DESCRIPTION:13th International Conference on Enterprise Information Syste
 ms
URL:http://www.wikicfp.com/cfp/servlet/event.showcfp?eventid=10647&copyow
 nerid=20976
UID:cfp144528-D@wikicfp.com
END:VEVENT
BEGIN:VEVENT
DTSTAMP:20260420T161642Z
DTSTART;VALUE=DATE:20110325
SUMMARY:ICEIS 2011 Notification Due
DESCRIPTION:13th International Conference on Enterprise Information Syste
 ms
URL:http://www.wikicfp.com/cfp/servlet/event.showcfp?eventid=10647&copyow
 nerid=20976
UID:cfp144528-N@wikicfp.com
END:VEVENT
BEGIN:VEVENT
DTSTAMP:20260420T161642Z
DTSTART;VALUE=DATE:20110404
SUMMARY:ICEIS 2011 Final Version Due
DESCRIPTION:13th International Conference on Enterprise Information Syste
 ms
URL:http://www.wikicfp.com/cfp/servlet/event.showcfp?eventid=10647&copyow
 nerid=20976
UID:cfp144528-N@wikicfp.com
END:VEVENT
BEGIN:VEVENT
DTSTAMP:20260420T161642Z
DTSTART;VALUE=DATE:20110920
DTEND;VALUE=DATE:20110924
SUMMARY:HCI 2011
DESCRIPTION:International Conference on Human Computer Interaction
URL:http://www.wikicfp.com/cfp/servlet/event.showcfp?eventid=13450&copyow
 nerid=20976
UID:cfp144534-E@wikicfp.com
END:VEVENT
BEGIN:VEVENT
DTSTAMP:20260420T161642Z
DTSTART;VALUE=DATE:20110131
SUMMARY:HCI 2011 Deadline
DESCRIPTION:International Conference on Human Computer Interaction
URL:http://www.wikicfp.com/cfp/servlet/event.showcfp?eventid=13450&copyow
 nerid=20976
UID:cfp144534-D@wikicfp.com
END:VEVENT
BEGIN:VEVENT
DTSTAMP:20260420T161642Z
DTSTART;VALUE=DATE:20110423
SUMMARY:HCI 2011 Notification Due
DESCRIPTION:International Conference on Human Computer Interaction
URL:http://www.wikicfp.com/cfp/servlet/event.showcfp?eventid=13450&copyow
 nerid=20976
UID:cfp144534-N@wikicfp.com
END:VEVENT
BEGIN:VEVENT
DTSTAMP:20260420T161642Z
DTSTART;VALUE=DATE:20110515
SUMMARY:HCI 2011 Final Version Due
DESCRIPTION:International Conference on Human Computer Interaction
URL:http://www.wikicfp.com/cfp/servlet/event.showcfp?eventid=13450&copyow
 nerid=20976
UID:cfp144534-N@wikicfp.com
END:VEVENT
BEGIN:VEVENT
DTSTAMP:20260420T161642Z
DTSTART;VALUE=DATE:20110516
DTEND;VALUE=DATE:20110519
SUMMARY:IASTED-HCI 2011
DESCRIPTION:The 6th IASTED International Conference on Human-Computer Int
 eraction
URL:http://www.wikicfp.com/cfp/servlet/event.showcfp?eventid=12446&copyow
 nerid=20976
UID:cfp144532-E@wikicfp.com
END:VEVENT
BEGIN:VEVENT
DTSTAMP:20260420T161642Z
DTSTART;VALUE=DATE:20110210
SUMMARY:IASTED-HCI 2011 Deadline
DESCRIPTION:The 6th IASTED International Conference on Human-Computer Int
 eraction
URL:http://www.wikicfp.com/cfp/servlet/event.showcfp?eventid=12446&copyow
 nerid=20976
UID:cfp144532-D@wikicfp.com
END:VEVENT
BEGIN:VEVENT
DTSTAMP:20260420T161642Z
DTSTART;VALUE=DATE:20110301
SUMMARY:IASTED-HCI 2011 Notification Due
DESCRIPTION:The 6th IASTED International Conference on Human-Computer Int
 eraction
URL:http://www.wikicfp.com/cfp/servlet/event.showcfp?eventid=12446&copyow
 nerid=20976
UID:cfp144532-N@wikicfp.com
END:VEVENT
BEGIN:VEVENT
DTSTAMP:20260420T161642Z
DTSTART;VALUE=DATE:20110315
SUMMARY:IASTED-HCI 2011 Final Version Due
DESCRIPTION:The 6th IASTED International Conference on Human-Computer Int
 eraction
URL:http://www.wikicfp.com/cfp/servlet/event.showcfp?eventid=12446&copyow
 nerid=20976
UID:cfp144532-N@wikicfp.com
END:VEVENT
BEGIN:VEVENT
DTSTAMP:20260420T161642Z
DTSTART;VALUE=DATE:20110612
DTEND;VALUE=DATE:20110613
SUMMARY:PerInt 2011
DESCRIPTION:Pervasive Intelligibility: Workshop on Intelligibility and Co
 ntrol in Pervasive Computing
URL:http://www.wikicfp.com/cfp/servlet/event.showcfp?eventid=13644&copyow
 nerid=20976
UID:cfp144526-E@wikicfp.com
END:VEVENT
BEGIN:VEVENT
DTSTAMP:20260420T161642Z
DTSTART;VALUE=DATE:20110211
SUMMARY:PerInt 2011 Deadline
DESCRIPTION:Pervasive Intelligibility: Workshop on Intelligibility and Co
 ntrol in Pervasive Computing
URL:http://www.wikicfp.com/cfp/servlet/event.showcfp?eventid=13644&copyow
 nerid=20976
UID:cfp144526-D@wikicfp.com
END:VEVENT
BEGIN:VEVENT
DTSTAMP:20260420T161642Z
DTSTART;VALUE=DATE:20110318
SUMMARY:PerInt 2011 Notification Due
DESCRIPTION:Pervasive Intelligibility: Workshop on Intelligibility and Co
 ntrol in Pervasive Computing
URL:http://www.wikicfp.com/cfp/servlet/event.showcfp?eventid=13644&copyow
 nerid=20976
UID:cfp144526-N@wikicfp.com
END:VEVENT
BEGIN:VEVENT
DTSTAMP:20260420T161642Z
DTSTART;VALUE=DATE:20110401
SUMMARY:PerInt 2011 Final Version Due
DESCRIPTION:Pervasive Intelligibility: Workshop on Intelligibility and Co
 ntrol in Pervasive Computing
URL:http://www.wikicfp.com/cfp/servlet/event.showcfp?eventid=13644&copyow
 nerid=20976
UID:cfp144526-N@wikicfp.com
END:VEVENT
BEGIN:VEVENT
DTSTAMP:20260420T161642Z
DTSTART;VALUE=DATE:20110830
DTEND;VALUE=DATE:20110903
SUMMARY:MobileHCI 2011
DESCRIPTION:MobileHCI 2011
URL:http://www.wikicfp.com/cfp/servlet/event.showcfp?eventid=11311&copyow
 nerid=20976
UID:cfp144529-E@wikicfp.com
END:VEVENT
BEGIN:VEVENT
DTSTAMP:20260420T161642Z
DTSTART;VALUE=DATE:20110218
SUMMARY:MobileHCI 2011 Deadline
DESCRIPTION:MobileHCI 2011
URL:http://www.wikicfp.com/cfp/servlet/event.showcfp?eventid=11311&copyow
 nerid=20976
UID:cfp144529-D@wikicfp.com
END:VEVENT
BEGIN:VEVENT
DTSTAMP:20260420T161642Z
DTSTART;VALUE=DATE:20110801
DTEND;VALUE=DATE:20110805
SUMMARY:RO-MAN 2011
DESCRIPTION:The 20th IEEE International Symposium on Robot and Human Inte
 ractive Communication
URL:http://www.wikicfp.com/cfp/servlet/event.showcfp?eventid=11698&copyow
 nerid=20976
UID:cfp144530-E@wikicfp.com
END:VEVENT
BEGIN:VEVENT
DTSTAMP:20260420T161642Z
DTSTART;VALUE=DATE:20110317
SUMMARY:RO-MAN 2011 Deadline
DESCRIPTION:The 20th IEEE International Symposium on Robot and Human Inte
 ractive Communication
URL:http://www.wikicfp.com/cfp/servlet/event.showcfp?eventid=11698&copyow
 nerid=20976
UID:cfp144530-D@wikicfp.com
END:VEVENT
BEGIN:VEVENT
DTSTAMP:20260420T161642Z
DTSTART;VALUE=DATE:20110501
SUMMARY:RO-MAN 2011 Notification Due
DESCRIPTION:The 20th IEEE International Symposium on Robot and Human Inte
 ractive Communication
URL:http://www.wikicfp.com/cfp/servlet/event.showcfp?eventid=11698&copyow
 nerid=20976
UID:cfp144530-N@wikicfp.com
END:VEVENT
BEGIN:VEVENT
DTSTAMP:20260420T161642Z
DTSTART;VALUE=DATE:20110601
SUMMARY:RO-MAN 2011 Final Version Due
DESCRIPTION:The 20th IEEE International Symposium on Robot and Human Inte
 ractive Communication
URL:http://www.wikicfp.com/cfp/servlet/event.showcfp?eventid=11698&copyow
 nerid=20976
UID:cfp144530-N@wikicfp.com
END:VEVENT
BEGIN:VEVENT
DTSTAMP:20260420T161642Z
DTSTART;VALUE=DATE:20110917
DTEND;VALUE=DATE:20110922
SUMMARY:UbiComp 2011
DESCRIPTION:13th ACM International Conference on Ubiquitous Computing
URL:http://www.wikicfp.com/cfp/servlet/event.showcfp?eventid=11742&copyow
 nerid=20976
UID:cfp144531-E@wikicfp.com
END:VEVENT
BEGIN:VEVENT
DTSTAMP:20260420T161642Z
DTSTART;VALUE=DATE:20110415
SUMMARY:UbiComp 2011 Deadline
DESCRIPTION:13th ACM International Conference on Ubiquitous Computing
URL:http://www.wikicfp.com/cfp/servlet/event.showcfp?eventid=11742&copyow
 nerid=20976
UID:cfp144531-D@wikicfp.com
END:VEVENT
BEGIN:VEVENT
DTSTAMP:20260420T161642Z
DTSTART;VALUE=DATE:20110618
SUMMARY:UbiComp 2011 Notification Due
DESCRIPTION:13th ACM International Conference on Ubiquitous Computing
URL:http://www.wikicfp.com/cfp/servlet/event.showcfp?eventid=11742&copyow
 nerid=20976
UID:cfp144531-N@wikicfp.com
END:VEVENT
BEGIN:VEVENT
DTSTAMP:20260420T161642Z
DTSTART;VALUE=DATE:20110915
DTEND;VALUE=DATE:20110918
SUMMARY:IVA 2011
DESCRIPTION:Intelligent Virtual Agents
URL:http://www.wikicfp.com/cfp/servlet/event.showcfp?eventid=13313&copyow
 nerid=20976
UID:cfp144525-E@wikicfp.com
END:VEVENT
BEGIN:VEVENT
DTSTAMP:20260420T161642Z
DTSTART;VALUE=DATE:20110426
SUMMARY:IVA 2011 Deadline
DESCRIPTION:Intelligent Virtual Agents
URL:http://www.wikicfp.com/cfp/servlet/event.showcfp?eventid=13313&copyow
 nerid=20976
UID:cfp144525-D@wikicfp.com
END:VEVENT
BEGIN:VEVENT
DTSTAMP:20260420T161642Z
DTSTART;VALUE=DATE:20110610
SUMMARY:IVA 2011 Notification Due
DESCRIPTION:Intelligent Virtual Agents
URL:http://www.wikicfp.com/cfp/servlet/event.showcfp?eventid=13313&copyow
 nerid=20976
UID:cfp144525-N@wikicfp.com
END:VEVENT
BEGIN:VEVENT
DTSTAMP:20260420T161642Z
DTSTART;VALUE=DATE:20110624
SUMMARY:IVA 2011 Final Version Due
DESCRIPTION:Intelligent Virtual Agents
URL:http://www.wikicfp.com/cfp/servlet/event.showcfp?eventid=13313&copyow
 nerid=20976
UID:cfp144525-N@wikicfp.com
END:VEVENT
BEGIN:VEVENT
DTSTAMP:20260420T161642Z
DTSTART;VALUE=DATE:20111005
DTEND;VALUE=DATE:20111008
SUMMARY:BWMMS 2011
DESCRIPTION:9th Berlin Human-Machine Systems Workshop
URL:http://www.wikicfp.com/cfp/servlet/event.showcfp?eventid=13814&copyow
 nerid=20976
UID:cfp144535-E@wikicfp.com
END:VEVENT
BEGIN:VEVENT
DTSTAMP:20260420T161642Z
DTSTART;VALUE=DATE:20110501
SUMMARY:BWMMS 2011 Deadline
DESCRIPTION:9th Berlin Human-Machine Systems Workshop
URL:http://www.wikicfp.com/cfp/servlet/event.showcfp?eventid=13814&copyow
 nerid=20976
UID:cfp144535-D@wikicfp.com
END:VEVENT
BEGIN:VEVENT
DTSTAMP:20260420T161642Z
DTSTART;VALUE=DATE:20110704
SUMMARY:BWMMS 2011 Notification Due
DESCRIPTION:9th Berlin Human-Machine Systems Workshop
URL:http://www.wikicfp.com/cfp/servlet/event.showcfp?eventid=13814&copyow
 nerid=20976
UID:cfp144535-N@wikicfp.com
END:VEVENT
BEGIN:VEVENT
DTSTAMP:20260420T161642Z
DTSTART;VALUE=DATE:20110807
SUMMARY:BWMMS 2011 Final Version Due
DESCRIPTION:9th Berlin Human-Machine Systems Workshop
URL:http://www.wikicfp.com/cfp/servlet/event.showcfp?eventid=13814&copyow
 nerid=20976
UID:cfp144535-N@wikicfp.com
END:VEVENT
BEGIN:VEVENT
DTSTAMP:20260420T161642Z
DTSTART;VALUE=DATE:20111019
DTEND;VALUE=DATE:20111022
SUMMARY:DESIRE 2011
DESCRIPTION:2nd Desire Conference on Creativity and Innovation in Design
URL:http://www.wikicfp.com/cfp/servlet/event.showcfp?eventid=13196&copyow
 nerid=20976
UID:cfp144533-E@wikicfp.com
END:VEVENT
BEGIN:VEVENT
DTSTAMP:20260420T161642Z
DTSTART;VALUE=DATE:20110517
SUMMARY:DESIRE 2011 Deadline
DESCRIPTION:2nd Desire Conference on Creativity and Innovation in Design
URL:http://www.wikicfp.com/cfp/servlet/event.showcfp?eventid=13196&copyow
 nerid=20976
UID:cfp144533-D@wikicfp.com
END:VEVENT
END:VCALENDAR
