BEGIN:VCALENDAR
PRODID:-//WikiCFP//arederer 1.0//EN
VERSION:2.0
CALSCALE:GREGORIAN
BEGIN:VEVENT
DTSTAMP:20260422T110542Z
DTSTART;VALUE=DATE:20110615
DTEND;VALUE=DATE:20110618
SUMMARY:I2CS 2011
DESCRIPTION:11th International Conference on Innovative Internet Communit
 y Services 2011
URL:http://www.wikicfp.com/cfp/servlet/event.showcfp?eventid=13844&copyow
 nerid=20974
UID:cfp144494-E@wikicfp.com
END:VEVENT
BEGIN:VEVENT
DTSTAMP:20260422T110542Z
DTSTART;VALUE=DATE:20110315
SUMMARY:I2CS 2011 Deadline
DESCRIPTION:11th International Conference on Innovative Internet Communit
 y Services 2011
URL:http://www.wikicfp.com/cfp/servlet/event.showcfp?eventid=13844&copyow
 nerid=20974
UID:cfp144494-D@wikicfp.com
END:VEVENT
BEGIN:VEVENT
DTSTAMP:20260422T110542Z
DTSTART;VALUE=DATE:20110403
SUMMARY:I2CS 2011 Notification Due
DESCRIPTION:11th International Conference on Innovative Internet Communit
 y Services 2011
URL:http://www.wikicfp.com/cfp/servlet/event.showcfp?eventid=13844&copyow
 nerid=20974
UID:cfp144494-N@wikicfp.com
END:VEVENT
BEGIN:VEVENT
DTSTAMP:20260422T110542Z
DTSTART;VALUE=DATE:20110424
SUMMARY:I2CS 2011 Final Version Due
DESCRIPTION:11th International Conference on Innovative Internet Communit
 y Services 2011
URL:http://www.wikicfp.com/cfp/servlet/event.showcfp?eventid=13844&copyow
 nerid=20974
UID:cfp144494-N@wikicfp.com
END:VEVENT
END:VCALENDAR
