BEGIN:VCALENDAR
PRODID:-//WikiCFP//udhayakct 1.0//EN
VERSION:2.0
CALSCALE:GREGORIAN
BEGIN:VEVENT
DTSTAMP:20260419T181132Z
DTSTART;VALUE=DATE:20090920
DTEND;VALUE=DATE:20090925
SUMMARY:ECCE 2009
DESCRIPTION:IEEE Energy Conversion Congress and Exposition
URL:http://www.wikicfp.com/cfp/servlet/event.showcfp?eventid=1499&copyown
 erid=20844
UID:cfp143008-E@wikicfp.com
END:VEVENT
BEGIN:VEVENT
DTSTAMP:20260419T181132Z
DTSTART;VALUE=DATE:20090115
SUMMARY:ECCE 2009 Deadline
DESCRIPTION:IEEE Energy Conversion Congress and Exposition
URL:http://www.wikicfp.com/cfp/servlet/event.showcfp?eventid=1499&copyown
 erid=20844
UID:cfp143008-D@wikicfp.com
END:VEVENT
BEGIN:VEVENT
DTSTAMP:20260419T181132Z
DTSTART;VALUE=DATE:20091219
DTEND;VALUE=DATE:20091221
SUMMARY:PEITS 2009
DESCRIPTION:2009 The 2nd Conference on Power Electronics and Intelligent 
 Transportation System
URL:http://www.wikicfp.com/cfp/servlet/event.showcfp?eventid=5958&copyown
 erid=20844
UID:cfp143009-E@wikicfp.com
END:VEVENT
BEGIN:VEVENT
DTSTAMP:20260419T181132Z
DTSTART;VALUE=DATE:20090930
SUMMARY:PEITS 2009 Abstract Due
DESCRIPTION:2009 The 2nd Conference on Power Electronics and Intelligent 
 Transportation System
URL:http://www.wikicfp.com/cfp/servlet/event.showcfp?eventid=5958&copyown
 erid=20844
UID:cfp143009-A@wikicfp.com
END:VEVENT
BEGIN:VEVENT
DTSTAMP:20260419T181132Z
DTSTART;VALUE=DATE:20090801
SUMMARY:PEITS 2009 Deadline
DESCRIPTION:2009 The 2nd Conference on Power Electronics and Intelligent 
 Transportation System
URL:http://www.wikicfp.com/cfp/servlet/event.showcfp?eventid=5958&copyown
 erid=20844
UID:cfp143009-D@wikicfp.com
END:VEVENT
BEGIN:VEVENT
DTSTAMP:20260419T181132Z
DTSTART;VALUE=DATE:20090901
SUMMARY:PEITS 2009 Notification Due
DESCRIPTION:2009 The 2nd Conference on Power Electronics and Intelligent 
 Transportation System
URL:http://www.wikicfp.com/cfp/servlet/event.showcfp?eventid=5958&copyown
 erid=20844
UID:cfp143009-N@wikicfp.com
END:VEVENT
BEGIN:VEVENT
DTSTAMP:20260419T181132Z
DTSTART;VALUE=DATE:20090930
SUMMARY:PEITS 2009 Final Version Due
DESCRIPTION:2009 The 2nd Conference on Power Electronics and Intelligent 
 Transportation System
URL:http://www.wikicfp.com/cfp/servlet/event.showcfp?eventid=5958&copyown
 erid=20844
UID:cfp143009-N@wikicfp.com
END:VEVENT
BEGIN:VEVENT
DTSTAMP:20260419T181132Z
DTSTART;VALUE=DATE:20100614
DTEND;VALUE=DATE:20100617
SUMMARY:SPEEDAM 2010
DESCRIPTION:International Symposium on Power Electronics\, Electrical Dri
 ves\, Automation and Motion
URL:http://www.wikicfp.com/cfp/servlet/event.showcfp?eventid=6069&copyown
 erid=20844
UID:cfp143010-E@wikicfp.com
END:VEVENT
BEGIN:VEVENT
DTSTAMP:20260419T181132Z
DTSTART;VALUE=DATE:20091031
SUMMARY:SPEEDAM 2010 Deadline
DESCRIPTION:International Symposium on Power Electronics\, Electrical Dri
 ves\, Automation and Motion
URL:http://www.wikicfp.com/cfp/servlet/event.showcfp?eventid=6069&copyown
 erid=20844
UID:cfp143010-D@wikicfp.com
END:VEVENT
BEGIN:VEVENT
DTSTAMP:20260419T181132Z
DTSTART;VALUE=DATE:20100115
SUMMARY:SPEEDAM 2010 Notification Due
DESCRIPTION:International Symposium on Power Electronics\, Electrical Dri
 ves\, Automation and Motion
URL:http://www.wikicfp.com/cfp/servlet/event.showcfp?eventid=6069&copyown
 erid=20844
UID:cfp143010-N@wikicfp.com
END:VEVENT
BEGIN:VEVENT
DTSTAMP:20260419T181132Z
DTSTART;VALUE=DATE:20100331
SUMMARY:SPEEDAM 2010 Final Version Due
DESCRIPTION:International Symposium on Power Electronics\, Electrical Dri
 ves\, Automation and Motion
URL:http://www.wikicfp.com/cfp/servlet/event.showcfp?eventid=6069&copyown
 erid=20844
UID:cfp143010-N@wikicfp.com
END:VEVENT
BEGIN:VEVENT
DTSTAMP:20260419T181132Z
DTSTART;VALUE=DATE:20100621
DTEND;VALUE=DATE:20100625
SUMMARY:IPEC 2010
DESCRIPTION:International Power Electronics Conference
URL:http://www.wikicfp.com/cfp/servlet/event.showcfp?eventid=6434&copyown
 erid=20844
UID:cfp143011-E@wikicfp.com
END:VEVENT
BEGIN:VEVENT
DTSTAMP:20260419T181132Z
DTSTART;VALUE=DATE:20091116
SUMMARY:IPEC 2010 Deadline
DESCRIPTION:International Power Electronics Conference
URL:http://www.wikicfp.com/cfp/servlet/event.showcfp?eventid=6434&copyown
 erid=20844
UID:cfp143011-D@wikicfp.com
END:VEVENT
BEGIN:VEVENT
DTSTAMP:20260419T181132Z
DTSTART;VALUE=DATE:20100205
SUMMARY:IPEC 2010 Notification Due
DESCRIPTION:International Power Electronics Conference
URL:http://www.wikicfp.com/cfp/servlet/event.showcfp?eventid=6434&copyown
 erid=20844
UID:cfp143011-N@wikicfp.com
END:VEVENT
BEGIN:VEVENT
DTSTAMP:20260419T181132Z
DTSTART;VALUE=DATE:20100412
SUMMARY:IPEC 2010 Final Version Due
DESCRIPTION:International Power Electronics Conference
URL:http://www.wikicfp.com/cfp/servlet/event.showcfp?eventid=6434&copyown
 erid=20844
UID:cfp143011-N@wikicfp.com
END:VEVENT
BEGIN:VEVENT
DTSTAMP:20260419T181132Z
DTSTART;VALUE=DATE:20100107
DTEND;VALUE=DATE:20100109
SUMMARY:SRTEE 2009
DESCRIPTION:National Symposium on Recent Trends in Electrical Engineering
 â on 7th â 8th Jan 2010
URL:http://www.wikicfp.com/cfp/servlet/event.showcfp?eventid=7100&copyown
 erid=20844
UID:cfp143014-E@wikicfp.com
END:VEVENT
BEGIN:VEVENT
DTSTAMP:20260419T181132Z
DTSTART;VALUE=DATE:20091125
SUMMARY:SRTEE 2009 Deadline
DESCRIPTION:National Symposium on Recent Trends in Electrical Engineering
 â on 7th â 8th Jan 2010
URL:http://www.wikicfp.com/cfp/servlet/event.showcfp?eventid=7100&copyown
 erid=20844
UID:cfp143014-D@wikicfp.com
END:VEVENT
BEGIN:VEVENT
DTSTAMP:20260419T181132Z
DTSTART;VALUE=DATE:20091201
SUMMARY:SRTEE 2009 Notification Due
DESCRIPTION:National Symposium on Recent Trends in Electrical Engineering
 â on 7th â 8th Jan 2010
URL:http://www.wikicfp.com/cfp/servlet/event.showcfp?eventid=7100&copyown
 erid=20844
UID:cfp143014-N@wikicfp.com
END:VEVENT
BEGIN:VEVENT
DTSTAMP:20260419T181132Z
DTSTART;VALUE=DATE:20091225
SUMMARY:SRTEE 2009 Final Version Due
DESCRIPTION:National Symposium on Recent Trends in Electrical Engineering
 â on 7th â 8th Jan 2010
URL:http://www.wikicfp.com/cfp/servlet/event.showcfp?eventid=7100&copyown
 erid=20844
UID:cfp143014-N@wikicfp.com
END:VEVENT
BEGIN:VEVENT
DTSTAMP:20260419T181132Z
DTSTART;VALUE=DATE:20100616
DTEND;VALUE=DATE:20100619
SUMMARY:PEDG 2010
DESCRIPTION:2nd IEEE International Symposium on Power Electronics for Dis
 tributed Generation Systems
URL:http://www.wikicfp.com/cfp/servlet/event.showcfp?eventid=6611&copyown
 erid=20844
UID:cfp143012-E@wikicfp.com
END:VEVENT
BEGIN:VEVENT
DTSTAMP:20260419T181132Z
DTSTART;VALUE=DATE:20091231
SUMMARY:PEDG 2010 Deadline
DESCRIPTION:2nd IEEE International Symposium on Power Electronics for Dis
 tributed Generation Systems
URL:http://www.wikicfp.com/cfp/servlet/event.showcfp?eventid=6611&copyown
 erid=20844
UID:cfp143012-D@wikicfp.com
END:VEVENT
BEGIN:VEVENT
DTSTAMP:20260419T181132Z
DTSTART;VALUE=DATE:20100415
SUMMARY:PEDG 2010 Final Version Due
DESCRIPTION:2nd IEEE International Symposium on Power Electronics for Dis
 tributed Generation Systems
URL:http://www.wikicfp.com/cfp/servlet/event.showcfp?eventid=6611&copyown
 erid=20844
UID:cfp143012-N@wikicfp.com
END:VEVENT
BEGIN:VEVENT
DTSTAMP:20260419T181132Z
DTSTART;VALUE=DATE:20100901
DTEND;VALUE=DATE:20100904
SUMMARY:VPPC 2010
DESCRIPTION:IEEE Vehicle Power and Propulsion Conference
URL:http://www.wikicfp.com/cfp/servlet/event.showcfp?eventid=6946&copyown
 erid=20844
UID:cfp143013-E@wikicfp.com
END:VEVENT
BEGIN:VEVENT
DTSTAMP:20260419T181132Z
DTSTART;VALUE=DATE:20100301
SUMMARY:VPPC 2010 Deadline
DESCRIPTION:IEEE Vehicle Power and Propulsion Conference
URL:http://www.wikicfp.com/cfp/servlet/event.showcfp?eventid=6946&copyown
 erid=20844
UID:cfp143013-D@wikicfp.com
END:VEVENT
BEGIN:VEVENT
DTSTAMP:20260419T181132Z
DTSTART;VALUE=DATE:20100415
SUMMARY:VPPC 2010 Notification Due
DESCRIPTION:IEEE Vehicle Power and Propulsion Conference
URL:http://www.wikicfp.com/cfp/servlet/event.showcfp?eventid=6946&copyown
 erid=20844
UID:cfp143013-N@wikicfp.com
END:VEVENT
BEGIN:VEVENT
DTSTAMP:20260419T181132Z
DTSTART;VALUE=DATE:20100615
SUMMARY:VPPC 2010 Final Version Due
DESCRIPTION:IEEE Vehicle Power and Propulsion Conference
URL:http://www.wikicfp.com/cfp/servlet/event.showcfp?eventid=6946&copyown
 erid=20844
UID:cfp143013-N@wikicfp.com
END:VEVENT
BEGIN:VEVENT
DTSTAMP:20260419T181132Z
DTSTART;VALUE=DATE:20100628
DTEND;VALUE=DATE:20100701
SUMMARY:COMPEL 2010
DESCRIPTION:IEEE 12th Workshop on Control and Modeling for Power Electron
 ics
URL:http://www.wikicfp.com/cfp/servlet/event.showcfp?eventid=8928&copyown
 erid=20844
UID:cfp143017-E@wikicfp.com
END:VEVENT
BEGIN:VEVENT
DTSTAMP:20260419T181132Z
DTSTART;VALUE=DATE:20100402
SUMMARY:COMPEL 2010 Deadline
DESCRIPTION:IEEE 12th Workshop on Control and Modeling for Power Electron
 ics
URL:http://www.wikicfp.com/cfp/servlet/event.showcfp?eventid=8928&copyown
 erid=20844
UID:cfp143017-D@wikicfp.com
END:VEVENT
BEGIN:VEVENT
DTSTAMP:20260419T181132Z
DTSTART;VALUE=DATE:20100507
SUMMARY:COMPEL 2010 Notification Due
DESCRIPTION:IEEE 12th Workshop on Control and Modeling for Power Electron
 ics
URL:http://www.wikicfp.com/cfp/servlet/event.showcfp?eventid=8928&copyown
 erid=20844
UID:cfp143017-N@wikicfp.com
END:VEVENT
BEGIN:VEVENT
DTSTAMP:20260419T181132Z
DTSTART;VALUE=DATE:20100626
SUMMARY:COMPEL 2010 Final Version Due
DESCRIPTION:IEEE 12th Workshop on Control and Modeling for Power Electron
 ics
URL:http://www.wikicfp.com/cfp/servlet/event.showcfp?eventid=8928&copyown
 erid=20844
UID:cfp143017-N@wikicfp.com
END:VEVENT
BEGIN:VEVENT
DTSTAMP:20260419T181132Z
DTSTART;VALUE=DATE:20110601
DTEND;VALUE=DATE:20110604
SUMMARY:CPE 2011
DESCRIPTION:7th International Conference-Workshop Compatibility and Power
  Electronics
URL:http://www.wikicfp.com/cfp/servlet/event.showcfp?eventid=10834&copyow
 nerid=20844
UID:cfp143019-E@wikicfp.com
END:VEVENT
BEGIN:VEVENT
DTSTAMP:20260419T181132Z
DTSTART;VALUE=DATE:20101010
SUMMARY:CPE 2011 Deadline
DESCRIPTION:7th International Conference-Workshop Compatibility and Power
  Electronics
URL:http://www.wikicfp.com/cfp/servlet/event.showcfp?eventid=10834&copyow
 nerid=20844
UID:cfp143019-D@wikicfp.com
END:VEVENT
BEGIN:VEVENT
DTSTAMP:20260419T181132Z
DTSTART;VALUE=DATE:20110215
SUMMARY:CPE 2011 Notification Due
DESCRIPTION:7th International Conference-Workshop Compatibility and Power
  Electronics
URL:http://www.wikicfp.com/cfp/servlet/event.showcfp?eventid=10834&copyow
 nerid=20844
UID:cfp143019-N@wikicfp.com
END:VEVENT
BEGIN:VEVENT
DTSTAMP:20260419T181132Z
DTSTART;VALUE=DATE:20110320
SUMMARY:CPE 2011 Final Version Due
DESCRIPTION:7th International Conference-Workshop Compatibility and Power
  Electronics
URL:http://www.wikicfp.com/cfp/servlet/event.showcfp?eventid=10834&copyow
 nerid=20844
UID:cfp143019-N@wikicfp.com
END:VEVENT
BEGIN:VEVENT
DTSTAMP:20260419T181132Z
DTSTART;VALUE=DATE:20101113
DTEND;VALUE=DATE:20101115
SUMMARY:PEITS 2010
DESCRIPTION:2010 3rd International Conference on Power Electronics and In
 telligent Transportation System
URL:http://www.wikicfp.com/cfp/servlet/event.showcfp?eventid=10915&copyow
 nerid=20844
UID:cfp143020-E@wikicfp.com
END:VEVENT
BEGIN:VEVENT
DTSTAMP:20260419T181132Z
DTSTART;VALUE=DATE:20101031
SUMMARY:PEITS 2010 Abstract Due
DESCRIPTION:2010 3rd International Conference on Power Electronics and In
 telligent Transportation System
URL:http://www.wikicfp.com/cfp/servlet/event.showcfp?eventid=10915&copyow
 nerid=20844
UID:cfp143020-A@wikicfp.com
END:VEVENT
BEGIN:VEVENT
DTSTAMP:20260419T181132Z
DTSTART;VALUE=DATE:20101010
SUMMARY:PEITS 2010 Deadline
DESCRIPTION:2010 3rd International Conference on Power Electronics and In
 telligent Transportation System
URL:http://www.wikicfp.com/cfp/servlet/event.showcfp?eventid=10915&copyow
 nerid=20844
UID:cfp143020-D@wikicfp.com
END:VEVENT
BEGIN:VEVENT
DTSTAMP:20260419T181132Z
DTSTART;VALUE=DATE:20101025
SUMMARY:PEITS 2010 Notification Due
DESCRIPTION:2010 3rd International Conference on Power Electronics and In
 telligent Transportation System
URL:http://www.wikicfp.com/cfp/servlet/event.showcfp?eventid=10915&copyow
 nerid=20844
UID:cfp143020-N@wikicfp.com
END:VEVENT
BEGIN:VEVENT
DTSTAMP:20260419T181132Z
DTSTART;VALUE=DATE:20101031
SUMMARY:PEITS 2010 Final Version Due
DESCRIPTION:2010 3rd International Conference on Power Electronics and In
 telligent Transportation System
URL:http://www.wikicfp.com/cfp/servlet/event.showcfp?eventid=10915&copyow
 nerid=20844
UID:cfp143020-N@wikicfp.com
END:VEVENT
BEGIN:VEVENT
DTSTAMP:20260419T181132Z
DTSTART;VALUE=DATE:20110517
DTEND;VALUE=DATE:20110520
SUMMARY:PCIM Europe  2011
DESCRIPTION:PCIM Europe 2011 International Exhibition & Conference for Po
 wer Electronics\, Intelligent Motion\, Power Quality
URL:http://www.wikicfp.com/cfp/servlet/event.showcfp?eventid=11023&copyow
 nerid=20844
UID:cfp143021-E@wikicfp.com
END:VEVENT
BEGIN:VEVENT
DTSTAMP:20260419T181132Z
DTSTART;VALUE=DATE:20101015
SUMMARY:PCIM Europe  2011 Deadline
DESCRIPTION:PCIM Europe 2011 International Exhibition & Conference for Po
 wer Electronics\, Intelligent Motion\, Power Quality
URL:http://www.wikicfp.com/cfp/servlet/event.showcfp?eventid=11023&copyow
 nerid=20844
UID:cfp143021-D@wikicfp.com
END:VEVENT
BEGIN:VEVENT
DTSTAMP:20260419T181132Z
DTSTART;VALUE=DATE:20101215
SUMMARY:PCIM Europe  2011 Notification Due
DESCRIPTION:PCIM Europe 2011 International Exhibition & Conference for Po
 wer Electronics\, Intelligent Motion\, Power Quality
URL:http://www.wikicfp.com/cfp/servlet/event.showcfp?eventid=11023&copyow
 nerid=20844
UID:cfp143021-N@wikicfp.com
END:VEVENT
BEGIN:VEVENT
DTSTAMP:20260419T181132Z
DTSTART;VALUE=DATE:20110314
SUMMARY:PCIM Europe  2011 Final Version Due
DESCRIPTION:PCIM Europe 2011 International Exhibition & Conference for Po
 wer Electronics\, Intelligent Motion\, Power Quality
URL:http://www.wikicfp.com/cfp/servlet/event.showcfp?eventid=11023&copyow
 nerid=20844
UID:cfp143021-N@wikicfp.com
END:VEVENT
BEGIN:VEVENT
DTSTAMP:20260419T181132Z
DTSTART;VALUE=DATE:20110606
DTEND;VALUE=DATE:20110609
SUMMARY:ELECTRIMACS 2011
DESCRIPTION:ELECTRIMACS
URL:http://www.wikicfp.com/cfp/servlet/event.showcfp?eventid=9941&copyown
 erid=20844
UID:cfp143018-E@wikicfp.com
END:VEVENT
BEGIN:VEVENT
DTSTAMP:20260419T181132Z
DTSTART;VALUE=DATE:20101115
SUMMARY:ELECTRIMACS 2011 Deadline
DESCRIPTION:ELECTRIMACS
URL:http://www.wikicfp.com/cfp/servlet/event.showcfp?eventid=9941&copyown
 erid=20844
UID:cfp143018-D@wikicfp.com
END:VEVENT
BEGIN:VEVENT
DTSTAMP:20260419T181132Z
DTSTART;VALUE=DATE:20110301
SUMMARY:ELECTRIMACS 2011 Notification Due
DESCRIPTION:ELECTRIMACS
URL:http://www.wikicfp.com/cfp/servlet/event.showcfp?eventid=9941&copyown
 erid=20844
UID:cfp143018-N@wikicfp.com
END:VEVENT
BEGIN:VEVENT
DTSTAMP:20260419T181132Z
DTSTART;VALUE=DATE:20110415
SUMMARY:ELECTRIMACS 2011 Final Version Due
DESCRIPTION:ELECTRIMACS
URL:http://www.wikicfp.com/cfp/servlet/event.showcfp?eventid=9941&copyown
 erid=20844
UID:cfp143018-N@wikicfp.com
END:VEVENT
BEGIN:VEVENT
DTSTAMP:20260419T181132Z
DTSTART;VALUE=DATE:20110530
DTEND;VALUE=DATE:20110604
SUMMARY:ICPE 2011
DESCRIPTION:8th International Conference on Power Electronics (ICPE) ECCE
  Asia
URL:http://www.wikicfp.com/cfp/servlet/event.showcfp?eventid=8606&copyown
 erid=20844
UID:cfp143016-E@wikicfp.com
END:VEVENT
BEGIN:VEVENT
DTSTAMP:20260419T181132Z
DTSTART;VALUE=DATE:20101210
SUMMARY:ICPE 2011 Deadline
DESCRIPTION:8th International Conference on Power Electronics (ICPE) ECCE
  Asia
URL:http://www.wikicfp.com/cfp/servlet/event.showcfp?eventid=8606&copyown
 erid=20844
UID:cfp143016-D@wikicfp.com
END:VEVENT
BEGIN:VEVENT
DTSTAMP:20260419T181132Z
DTSTART;VALUE=DATE:20110211
SUMMARY:ICPE 2011 Notification Due
DESCRIPTION:8th International Conference on Power Electronics (ICPE) ECCE
  Asia
URL:http://www.wikicfp.com/cfp/servlet/event.showcfp?eventid=8606&copyown
 erid=20844
UID:cfp143016-N@wikicfp.com
END:VEVENT
BEGIN:VEVENT
DTSTAMP:20260419T181132Z
DTSTART;VALUE=DATE:20110408
SUMMARY:ICPE 2011 Final Version Due
DESCRIPTION:8th International Conference on Power Electronics (ICPE) ECCE
  Asia
URL:http://www.wikicfp.com/cfp/servlet/event.showcfp?eventid=8606&copyown
 erid=20844
UID:cfp143016-N@wikicfp.com
END:VEVENT
BEGIN:VEVENT
DTSTAMP:20260419T181132Z
DTSTART;VALUE=DATE:20110228
DTEND;VALUE=DATE:20110302
SUMMARY:CAR 2011
DESCRIPTION:International Conference on Control\, Automation and Robotics
 
URL:http://www.wikicfp.com/cfp/servlet/event.showcfp?eventid=11963&copyow
 nerid=20844
UID:cfp143005-E@wikicfp.com
END:VEVENT
BEGIN:VEVENT
DTSTAMP:20260419T181132Z
DTSTART;VALUE=DATE:20110115
SUMMARY:CAR 2011 Deadline
DESCRIPTION:International Conference on Control\, Automation and Robotics
 
URL:http://www.wikicfp.com/cfp/servlet/event.showcfp?eventid=11963&copyow
 nerid=20844
UID:cfp143005-D@wikicfp.com
END:VEVENT
BEGIN:VEVENT
DTSTAMP:20260419T181132Z
DTSTART;VALUE=DATE:20110122
SUMMARY:CAR 2011 Notification Due
DESCRIPTION:International Conference on Control\, Automation and Robotics
 
URL:http://www.wikicfp.com/cfp/servlet/event.showcfp?eventid=11963&copyow
 nerid=20844
UID:cfp143005-N@wikicfp.com
END:VEVENT
BEGIN:VEVENT
DTSTAMP:20260419T181132Z
DTSTART;VALUE=DATE:20110614
DTEND;VALUE=DATE:20110618
SUMMARY:PC 2011
DESCRIPTION:18th International Conference on Process Control
URL:http://www.wikicfp.com/cfp/servlet/event.showcfp?eventid=12259&copyow
 nerid=20844
UID:cfp143006-E@wikicfp.com
END:VEVENT
BEGIN:VEVENT
DTSTAMP:20260419T181132Z
DTSTART;VALUE=DATE:20110131
SUMMARY:PC 2011 Deadline
DESCRIPTION:18th International Conference on Process Control
URL:http://www.wikicfp.com/cfp/servlet/event.showcfp?eventid=12259&copyow
 nerid=20844
UID:cfp143006-D@wikicfp.com
END:VEVENT
BEGIN:VEVENT
DTSTAMP:20260419T181132Z
DTSTART;VALUE=DATE:20110401
SUMMARY:PC 2011 Notification Due
DESCRIPTION:18th International Conference on Process Control
URL:http://www.wikicfp.com/cfp/servlet/event.showcfp?eventid=12259&copyow
 nerid=20844
UID:cfp143006-N@wikicfp.com
END:VEVENT
BEGIN:VEVENT
DTSTAMP:20260419T181132Z
DTSTART;VALUE=DATE:20110502
SUMMARY:PC 2011 Final Version Due
DESCRIPTION:18th International Conference on Process Control
URL:http://www.wikicfp.com/cfp/servlet/event.showcfp?eventid=12259&copyow
 nerid=20844
UID:cfp143006-N@wikicfp.com
END:VEVENT
BEGIN:VEVENT
DTSTAMP:20260419T181132Z
DTSTART;VALUE=DATE:20110628
DTEND;VALUE=DATE:20110703
SUMMARY:ICML 2011
DESCRIPTION:The 28th International Conference on Machine Learning
URL:http://www.wikicfp.com/cfp/servlet/event.showcfp?eventid=11637&copyow
 nerid=20844
UID:cfp143000-E@wikicfp.com
END:VEVENT
BEGIN:VEVENT
DTSTAMP:20260419T181132Z
DTSTART;VALUE=DATE:20110201
SUMMARY:ICML 2011 Deadline
DESCRIPTION:The 28th International Conference on Machine Learning
URL:http://www.wikicfp.com/cfp/servlet/event.showcfp?eventid=11637&copyow
 nerid=20844
UID:cfp143000-D@wikicfp.com
END:VEVENT
BEGIN:VEVENT
DTSTAMP:20260419T181132Z
DTSTART;VALUE=DATE:20110419
SUMMARY:ICML 2011 Notification Due
DESCRIPTION:The 28th International Conference on Machine Learning
URL:http://www.wikicfp.com/cfp/servlet/event.showcfp?eventid=11637&copyow
 nerid=20844
UID:cfp143000-N@wikicfp.com
END:VEVENT
BEGIN:VEVENT
DTSTAMP:20260419T181132Z
DTSTART;VALUE=DATE:20110905
DTEND;VALUE=DATE:20110909
SUMMARY:SDEMPED 2011
DESCRIPTION:8th IEEE International Symposium on Diagnostics for Electric 
 Machines\, Power Electronics and Drives - (SDEMPED 2011)
URL:http://www.wikicfp.com/cfp/servlet/event.showcfp?eventid=11139&copyow
 nerid=20844
UID:cfp143023-E@wikicfp.com
END:VEVENT
BEGIN:VEVENT
DTSTAMP:20260419T181132Z
DTSTART;VALUE=DATE:20110215
SUMMARY:SDEMPED 2011 Deadline
DESCRIPTION:8th IEEE International Symposium on Diagnostics for Electric 
 Machines\, Power Electronics and Drives - (SDEMPED 2011)
URL:http://www.wikicfp.com/cfp/servlet/event.showcfp?eventid=11139&copyow
 nerid=20844
UID:cfp143023-D@wikicfp.com
END:VEVENT
BEGIN:VEVENT
DTSTAMP:20260419T181132Z
DTSTART;VALUE=DATE:20110415
SUMMARY:SDEMPED 2011 Notification Due
DESCRIPTION:8th IEEE International Symposium on Diagnostics for Electric 
 Machines\, Power Electronics and Drives - (SDEMPED 2011)
URL:http://www.wikicfp.com/cfp/servlet/event.showcfp?eventid=11139&copyow
 nerid=20844
UID:cfp143023-N@wikicfp.com
END:VEVENT
BEGIN:VEVENT
DTSTAMP:20260419T181132Z
DTSTART;VALUE=DATE:20110615
SUMMARY:SDEMPED 2011 Final Version Due
DESCRIPTION:8th IEEE International Symposium on Diagnostics for Electric 
 Machines\, Power Electronics and Drives - (SDEMPED 2011)
URL:http://www.wikicfp.com/cfp/servlet/event.showcfp?eventid=11139&copyow
 nerid=20844
UID:cfp143023-N@wikicfp.com
END:VEVENT
BEGIN:VEVENT
DTSTAMP:20260419T181132Z
DTSTART;VALUE=DATE:20110906
DTEND;VALUE=DATE:20110910
SUMMARY:VPPC 2011
DESCRIPTION:IEEE Vehicle Power and Propulsion Conference
URL:http://www.wikicfp.com/cfp/servlet/event.showcfp?eventid=7851&copyown
 erid=20844
UID:cfp143015-E@wikicfp.com
END:VEVENT
BEGIN:VEVENT
DTSTAMP:20260419T181132Z
DTSTART;VALUE=DATE:20110225
SUMMARY:VPPC 2011 Deadline
DESCRIPTION:IEEE Vehicle Power and Propulsion Conference
URL:http://www.wikicfp.com/cfp/servlet/event.showcfp?eventid=7851&copyown
 erid=20844
UID:cfp143015-D@wikicfp.com
END:VEVENT
BEGIN:VEVENT
DTSTAMP:20260419T181132Z
DTSTART;VALUE=DATE:20110430
SUMMARY:VPPC 2011 Notification Due
DESCRIPTION:IEEE Vehicle Power and Propulsion Conference
URL:http://www.wikicfp.com/cfp/servlet/event.showcfp?eventid=7851&copyown
 erid=20844
UID:cfp143015-N@wikicfp.com
END:VEVENT
BEGIN:VEVENT
DTSTAMP:20260419T181132Z
DTSTART;VALUE=DATE:20110617
SUMMARY:VPPC 2011 Final Version Due
DESCRIPTION:IEEE Vehicle Power and Propulsion Conference
URL:http://www.wikicfp.com/cfp/servlet/event.showcfp?eventid=7851&copyown
 erid=20844
UID:cfp143015-N@wikicfp.com
END:VEVENT
BEGIN:VEVENT
DTSTAMP:20260419T181132Z
DTSTART;VALUE=DATE:20110828
DTEND;VALUE=DATE:20110901
SUMMARY:MESA  2011
DESCRIPTION:The 7th International ASME/IEEE Conference on Mechatronics & 
 Embedded Systems & Applications
URL:http://www.wikicfp.com/cfp/servlet/event.showcfp?eventid=12653&copyow
 nerid=20844
UID:cfp143007-E@wikicfp.com
END:VEVENT
BEGIN:VEVENT
DTSTAMP:20260419T181132Z
DTSTART;VALUE=DATE:20110218
SUMMARY:MESA  2011 Abstract Due
DESCRIPTION:The 7th International ASME/IEEE Conference on Mechatronics & 
 Embedded Systems & Applications
URL:http://www.wikicfp.com/cfp/servlet/event.showcfp?eventid=12653&copyow
 nerid=20844
UID:cfp143007-A@wikicfp.com
END:VEVENT
BEGIN:VEVENT
DTSTAMP:20260419T181132Z
DTSTART;VALUE=DATE:20110225
SUMMARY:MESA  2011 Deadline
DESCRIPTION:The 7th International ASME/IEEE Conference on Mechatronics & 
 Embedded Systems & Applications
URL:http://www.wikicfp.com/cfp/servlet/event.showcfp?eventid=12653&copyow
 nerid=20844
UID:cfp143007-D@wikicfp.com
END:VEVENT
BEGIN:VEVENT
DTSTAMP:20260419T181132Z
DTSTART;VALUE=DATE:20110520
SUMMARY:MESA  2011 Notification Due
DESCRIPTION:The 7th International ASME/IEEE Conference on Mechatronics & 
 Embedded Systems & Applications
URL:http://www.wikicfp.com/cfp/servlet/event.showcfp?eventid=12653&copyow
 nerid=20844
UID:cfp143007-N@wikicfp.com
END:VEVENT
BEGIN:VEVENT
DTSTAMP:20260419T181132Z
DTSTART;VALUE=DATE:20110530
SUMMARY:MESA  2011 Final Version Due
DESCRIPTION:The 7th International ASME/IEEE Conference on Mechatronics & 
 Embedded Systems & Applications
URL:http://www.wikicfp.com/cfp/servlet/event.showcfp?eventid=12653&copyow
 nerid=20844
UID:cfp143007-N@wikicfp.com
END:VEVENT
BEGIN:VEVENT
DTSTAMP:20260419T181132Z
DTSTART;VALUE=DATE:20110410
DTEND;VALUE=DATE:20110412
SUMMARY:CESSE 2011
DESCRIPTION:2011 International Conference on Computer\, Electrical\, and 
 Systems Sciences\, and Engineering
URL:http://www.wikicfp.com/cfp/servlet/event.showcfp?eventid=14209&copyow
 nerid=20844
UID:cfp143004-E@wikicfp.com
END:VEVENT
BEGIN:VEVENT
DTSTAMP:20260419T181132Z
DTSTART;VALUE=DATE:20110315
SUMMARY:CESSE 2011 Abstract Due
DESCRIPTION:2011 International Conference on Computer\, Electrical\, and 
 Systems Sciences\, and Engineering
URL:http://www.wikicfp.com/cfp/servlet/event.showcfp?eventid=14209&copyow
 nerid=20844
UID:cfp143004-A@wikicfp.com
END:VEVENT
BEGIN:VEVENT
DTSTAMP:20260419T181132Z
DTSTART;VALUE=DATE:20110301
SUMMARY:CESSE 2011 Deadline
DESCRIPTION:2011 International Conference on Computer\, Electrical\, and 
 Systems Sciences\, and Engineering
URL:http://www.wikicfp.com/cfp/servlet/event.showcfp?eventid=14209&copyow
 nerid=20844
UID:cfp143004-D@wikicfp.com
END:VEVENT
BEGIN:VEVENT
DTSTAMP:20260419T181132Z
DTSTART;VALUE=DATE:20110912
DTEND;VALUE=DATE:20110917
SUMMARY:ESSCIRC 2011
DESCRIPTION:37th European Solid State Circuits Conference
URL:http://www.wikicfp.com/cfp/servlet/event.showcfp?eventid=14285&copyow
 nerid=20844
UID:cfp143001-E@wikicfp.com
END:VEVENT
BEGIN:VEVENT
DTSTAMP:20260419T181132Z
DTSTART;VALUE=DATE:20110411
SUMMARY:ESSCIRC 2011 Deadline
DESCRIPTION:37th European Solid State Circuits Conference
URL:http://www.wikicfp.com/cfp/servlet/event.showcfp?eventid=14285&copyow
 nerid=20844
UID:cfp143001-D@wikicfp.com
END:VEVENT
BEGIN:VEVENT
DTSTAMP:20260419T181132Z
DTSTART;VALUE=DATE:20110604
SUMMARY:ESSCIRC 2011 Notification Due
DESCRIPTION:37th European Solid State Circuits Conference
URL:http://www.wikicfp.com/cfp/servlet/event.showcfp?eventid=14285&copyow
 nerid=20844
UID:cfp143001-N@wikicfp.com
END:VEVENT
BEGIN:VEVENT
DTSTAMP:20260419T181132Z
DTSTART;VALUE=DATE:20110615
SUMMARY:ESSCIRC 2011 Final Version Due
DESCRIPTION:37th European Solid State Circuits Conference
URL:http://www.wikicfp.com/cfp/servlet/event.showcfp?eventid=14285&copyow
 nerid=20844
UID:cfp143001-N@wikicfp.com
END:VEVENT
BEGIN:VEVENT
DTSTAMP:20260419T181132Z
DTSTART;VALUE=DATE:20110730
DTEND;VALUE=DATE:20110801
SUMMARY:CASE 2011
DESCRIPTION:International Conference on Control\, Automation and Systems 
 Engineering
URL:http://www.wikicfp.com/cfp/servlet/event.showcfp?eventid=13785&copyow
 nerid=20844
UID:cfp143003-E@wikicfp.com
END:VEVENT
BEGIN:VEVENT
DTSTAMP:20260419T181132Z
DTSTART;VALUE=DATE:20110510
SUMMARY:CASE 2011 Deadline
DESCRIPTION:International Conference on Control\, Automation and Systems 
 Engineering
URL:http://www.wikicfp.com/cfp/servlet/event.showcfp?eventid=13785&copyow
 nerid=20844
UID:cfp143003-D@wikicfp.com
END:VEVENT
BEGIN:VEVENT
DTSTAMP:20260419T181132Z
DTSTART;VALUE=DATE:20110610
SUMMARY:CASE 2011 Notification Due
DESCRIPTION:International Conference on Control\, Automation and Systems 
 Engineering
URL:http://www.wikicfp.com/cfp/servlet/event.showcfp?eventid=13785&copyow
 nerid=20844
UID:cfp143003-N@wikicfp.com
END:VEVENT
BEGIN:VEVENT
DTSTAMP:20260419T181132Z
DTSTART;VALUE=DATE:20110701
SUMMARY:CASE 2011 Final Version Due
DESCRIPTION:International Conference on Control\, Automation and Systems 
 Engineering
URL:http://www.wikicfp.com/cfp/servlet/event.showcfp?eventid=13785&copyow
 nerid=20844
UID:cfp143003-N@wikicfp.com
END:VEVENT
BEGIN:VEVENT
DTSTAMP:20260419T181132Z
DTSTART;VALUE=DATE:20110621
DTEND;VALUE=DATE:20110624
SUMMARY:PCIM Asia 2011
DESCRIPTION:PCIM Asia 2011 International Exhibition & Conference for Powe
 r Electronics\, Intelligent Motion\, Power Quality
URL:http://www.wikicfp.com/cfp/servlet/event.showcfp?eventid=11024&copyow
 nerid=20844
UID:cfp143022-E@wikicfp.com
END:VEVENT
BEGIN:VEVENT
DTSTAMP:20260419T181132Z
DTSTART;VALUE=DATE:20111018
SUMMARY:PCIM Asia 2011 Deadline
DESCRIPTION:PCIM Asia 2011 International Exhibition & Conference for Powe
 r Electronics\, Intelligent Motion\, Power Quality
URL:http://www.wikicfp.com/cfp/servlet/event.showcfp?eventid=11024&copyow
 nerid=20844
UID:cfp143022-D@wikicfp.com
END:VEVENT
BEGIN:VEVENT
DTSTAMP:20260419T181132Z
DTSTART;VALUE=DATE:20101215
SUMMARY:PCIM Asia 2011 Notification Due
DESCRIPTION:PCIM Asia 2011 International Exhibition & Conference for Powe
 r Electronics\, Intelligent Motion\, Power Quality
URL:http://www.wikicfp.com/cfp/servlet/event.showcfp?eventid=11024&copyow
 nerid=20844
UID:cfp143022-N@wikicfp.com
END:VEVENT
BEGIN:VEVENT
DTSTAMP:20260419T181132Z
DTSTART;VALUE=DATE:20110315
SUMMARY:PCIM Asia 2011 Final Version Due
DESCRIPTION:PCIM Asia 2011 International Exhibition & Conference for Powe
 r Electronics\, Intelligent Motion\, Power Quality
URL:http://www.wikicfp.com/cfp/servlet/event.showcfp?eventid=11024&copyow
 nerid=20844
UID:cfp143022-N@wikicfp.com
END:VEVENT
END:VCALENDAR
