BEGIN:VCALENDAR
PRODID:-//WikiCFP//voigtmannc 1.0//EN
VERSION:2.0
CALSCALE:GREGORIAN
BEGIN:VEVENT
DTSTAMP:20260419T154659Z
DTSTART;VALUE=DATE:20110321
DTEND;VALUE=DATE:20110326
SUMMARY:PerCom 2011
DESCRIPTION:IEEE International Conference on Pervasive Computing and Comm
 unications
URL:http://www.wikicfp.com/cfp/servlet/event.showcfp?eventid=9491&copyown
 erid=20815
UID:cfp142813-E@wikicfp.com
END:VEVENT
BEGIN:VEVENT
DTSTAMP:20260419T154659Z
DTSTART;VALUE=DATE:20100927
SUMMARY:PerCom 2011 Deadline
DESCRIPTION:IEEE International Conference on Pervasive Computing and Comm
 unications
URL:http://www.wikicfp.com/cfp/servlet/event.showcfp?eventid=9491&copyown
 erid=20815
UID:cfp142813-D@wikicfp.com
END:VEVENT
BEGIN:VEVENT
DTSTAMP:20260419T154659Z
DTSTART;VALUE=DATE:20101221
SUMMARY:PerCom 2011 Notification Due
DESCRIPTION:IEEE International Conference on Pervasive Computing and Comm
 unications
URL:http://www.wikicfp.com/cfp/servlet/event.showcfp?eventid=9491&copyown
 erid=20815
UID:cfp142813-N@wikicfp.com
END:VEVENT
BEGIN:VEVENT
DTSTAMP:20260419T154659Z
DTSTART;VALUE=DATE:20110128
SUMMARY:PerCom 2011 Final Version Due
DESCRIPTION:IEEE International Conference on Pervasive Computing and Comm
 unications
URL:http://www.wikicfp.com/cfp/servlet/event.showcfp?eventid=9491&copyown
 erid=20815
UID:cfp142813-N@wikicfp.com
END:VEVENT
BEGIN:VEVENT
DTSTAMP:20260419T154659Z
DTSTART;VALUE=DATE:20110223
DTEND;VALUE=DATE:20110224
SUMMARY:CoSDEO 2011
DESCRIPTION:Second Workshop on Context-Systems Design\, Evaluation and Op
 timisation
URL:http://www.wikicfp.com/cfp/servlet/event.showcfp?eventid=13237&copyow
 nerid=20815
UID:cfp143885-E@wikicfp.com
END:VEVENT
BEGIN:VEVENT
DTSTAMP:20260419T154659Z
DTSTART;VALUE=DATE:20101220
SUMMARY:CoSDEO 2011 Deadline
DESCRIPTION:Second Workshop on Context-Systems Design\, Evaluation and Op
 timisation
URL:http://www.wikicfp.com/cfp/servlet/event.showcfp?eventid=13237&copyow
 nerid=20815
UID:cfp143885-D@wikicfp.com
END:VEVENT
BEGIN:VEVENT
DTSTAMP:20260419T154659Z
DTSTART;VALUE=DATE:20110107
SUMMARY:CoSDEO 2011 Notification Due
DESCRIPTION:Second Workshop on Context-Systems Design\, Evaluation and Op
 timisation
URL:http://www.wikicfp.com/cfp/servlet/event.showcfp?eventid=13237&copyow
 nerid=20815
UID:cfp143885-N@wikicfp.com
END:VEVENT
BEGIN:VEVENT
DTSTAMP:20260419T154659Z
DTSTART;VALUE=DATE:20110114
SUMMARY:CoSDEO 2011 Final Version Due
DESCRIPTION:Second Workshop on Context-Systems Design\, Evaluation and Op
 timisation
URL:http://www.wikicfp.com/cfp/servlet/event.showcfp?eventid=13237&copyow
 nerid=20815
UID:cfp143885-N@wikicfp.com
END:VEVENT
BEGIN:VEVENT
DTSTAMP:20260419T154659Z
DTSTART;VALUE=DATE:20110705
DTEND;VALUE=DATE:20110709
SUMMARY:IWCMC-SEC 2011
DESCRIPTION:Security Symposium at IWCMC 2011
URL:http://www.wikicfp.com/cfp/servlet/event.showcfp?eventid=13966&copyow
 nerid=20815
UID:cfp143122-E@wikicfp.com
END:VEVENT
BEGIN:VEVENT
DTSTAMP:20260419T154659Z
DTSTART;VALUE=DATE:20110117
SUMMARY:IWCMC-SEC 2011 Deadline
DESCRIPTION:Security Symposium at IWCMC 2011
URL:http://www.wikicfp.com/cfp/servlet/event.showcfp?eventid=13966&copyow
 nerid=20815
UID:cfp143122-D@wikicfp.com
END:VEVENT
BEGIN:VEVENT
DTSTAMP:20260419T154659Z
DTSTART;VALUE=DATE:20110315
SUMMARY:IWCMC-SEC 2011 Notification Due
DESCRIPTION:Security Symposium at IWCMC 2011
URL:http://www.wikicfp.com/cfp/servlet/event.showcfp?eventid=13966&copyow
 nerid=20815
UID:cfp143122-N@wikicfp.com
END:VEVENT
BEGIN:VEVENT
DTSTAMP:20260419T154659Z
DTSTART;VALUE=DATE:20110401
SUMMARY:IWCMC-SEC 2011 Final Version Due
DESCRIPTION:Security Symposium at IWCMC 2011
URL:http://www.wikicfp.com/cfp/servlet/event.showcfp?eventid=13966&copyow
 nerid=20815
UID:cfp143122-N@wikicfp.com
END:VEVENT
BEGIN:VEVENT
DTSTAMP:20260419T154659Z
DTSTART;VALUE=DATE:20110627
DTEND;VALUE=DATE:20110630
SUMMARY:IEEE/ACM DCOSS 2011
DESCRIPTION: The 7th IEEE International Conference on Distributed Computi
 ng in Sensor Systems
URL:http://www.wikicfp.com/cfp/servlet/event.showcfp?eventid=12459&copyow
 nerid=20815
UID:cfp143890-E@wikicfp.com
END:VEVENT
BEGIN:VEVENT
DTSTAMP:20260419T154659Z
DTSTART;VALUE=DATE:20110204
SUMMARY:IEEE/ACM DCOSS 2011 Deadline
DESCRIPTION: The 7th IEEE International Conference on Distributed Computi
 ng in Sensor Systems
URL:http://www.wikicfp.com/cfp/servlet/event.showcfp?eventid=12459&copyow
 nerid=20815
UID:cfp143890-D@wikicfp.com
END:VEVENT
BEGIN:VEVENT
DTSTAMP:20260419T154659Z
DTSTART;VALUE=DATE:20110325
SUMMARY:IEEE/ACM DCOSS 2011 Notification Due
DESCRIPTION: The 7th IEEE International Conference on Distributed Computi
 ng in Sensor Systems
URL:http://www.wikicfp.com/cfp/servlet/event.showcfp?eventid=12459&copyow
 nerid=20815
UID:cfp143890-N@wikicfp.com
END:VEVENT
BEGIN:VEVENT
DTSTAMP:20260419T154659Z
DTSTART;VALUE=DATE:20110411
SUMMARY:IEEE/ACM DCOSS 2011 Final Version Due
DESCRIPTION: The 7th IEEE International Conference on Distributed Computi
 ng in Sensor Systems
URL:http://www.wikicfp.com/cfp/servlet/event.showcfp?eventid=12459&copyow
 nerid=20815
UID:cfp143890-N@wikicfp.com
END:VEVENT
BEGIN:VEVENT
DTSTAMP:20260419T154659Z
DTSTART;VALUE=DATE:20110628
DTEND;VALUE=DATE:20110702
SUMMARY:ISCC 2011
DESCRIPTION:16th IEEE Symposium on Computers and Communications
URL:http://www.wikicfp.com/cfp/servlet/event.showcfp?eventid=12115&copyow
 nerid=20815
UID:cfp143121-E@wikicfp.com
END:VEVENT
BEGIN:VEVENT
DTSTAMP:20260419T154659Z
DTSTART;VALUE=DATE:20110207
SUMMARY:ISCC 2011 Deadline
DESCRIPTION:16th IEEE Symposium on Computers and Communications
URL:http://www.wikicfp.com/cfp/servlet/event.showcfp?eventid=12115&copyow
 nerid=20815
UID:cfp143121-D@wikicfp.com
END:VEVENT
BEGIN:VEVENT
DTSTAMP:20260419T154659Z
DTSTART;VALUE=DATE:20110319
SUMMARY:ISCC 2011 Notification Due
DESCRIPTION:16th IEEE Symposium on Computers and Communications
URL:http://www.wikicfp.com/cfp/servlet/event.showcfp?eventid=12115&copyow
 nerid=20815
UID:cfp143121-N@wikicfp.com
END:VEVENT
BEGIN:VEVENT
DTSTAMP:20260419T154659Z
DTSTART;VALUE=DATE:20110413
SUMMARY:ISCC 2011 Final Version Due
DESCRIPTION:16th IEEE Symposium on Computers and Communications
URL:http://www.wikicfp.com/cfp/servlet/event.showcfp?eventid=12115&copyow
 nerid=20815
UID:cfp143121-N@wikicfp.com
END:VEVENT
BEGIN:VEVENT
DTSTAMP:20260419T154659Z
DTSTART;VALUE=DATE:20110619
DTEND;VALUE=DATE:20110625
SUMMARY:COLLA 2011
DESCRIPTION:The First International Conference on Advanced Collaborative 
 Networks\, Systems and Applications
URL:http://www.wikicfp.com/cfp/servlet/event.showcfp?eventid=12557&copyow
 nerid=20815
UID:cfp143886-E@wikicfp.com
END:VEVENT
BEGIN:VEVENT
DTSTAMP:20260419T154659Z
DTSTART;VALUE=DATE:20110228
SUMMARY:COLLA 2011 Deadline
DESCRIPTION:The First International Conference on Advanced Collaborative 
 Networks\, Systems and Applications
URL:http://www.wikicfp.com/cfp/servlet/event.showcfp?eventid=12557&copyow
 nerid=20815
UID:cfp143886-D@wikicfp.com
END:VEVENT
BEGIN:VEVENT
DTSTAMP:20260419T154659Z
DTSTART;VALUE=DATE:20110325
SUMMARY:COLLA 2011 Notification Due
DESCRIPTION:The First International Conference on Advanced Collaborative 
 Networks\, Systems and Applications
URL:http://www.wikicfp.com/cfp/servlet/event.showcfp?eventid=12557&copyow
 nerid=20815
UID:cfp143886-N@wikicfp.com
END:VEVENT
BEGIN:VEVENT
DTSTAMP:20260419T154659Z
DTSTART;VALUE=DATE:20110415
SUMMARY:COLLA 2011 Final Version Due
DESCRIPTION:The First International Conference on Advanced Collaborative 
 Networks\, Systems and Applications
URL:http://www.wikicfp.com/cfp/servlet/event.showcfp?eventid=12557&copyow
 nerid=20815
UID:cfp143886-N@wikicfp.com
END:VEVENT
BEGIN:VEVENT
DTSTAMP:20260419T154659Z
DTSTART;VALUE=DATE:20110725
DTEND;VALUE=DATE:20110729
SUMMARY:IE 2011
DESCRIPTION:The 7th International Conference on Intelligent Environments
URL:http://www.wikicfp.com/cfp/servlet/event.showcfp?eventid=11423&copyow
 nerid=20815
UID:cfp143120-E@wikicfp.com
END:VEVENT
BEGIN:VEVENT
DTSTAMP:20260419T154659Z
DTSTART;VALUE=DATE:20110301
SUMMARY:IE 2011 Deadline
DESCRIPTION:The 7th International Conference on Intelligent Environments
URL:http://www.wikicfp.com/cfp/servlet/event.showcfp?eventid=11423&copyow
 nerid=20815
UID:cfp143120-D@wikicfp.com
END:VEVENT
BEGIN:VEVENT
DTSTAMP:20260419T154659Z
DTSTART;VALUE=DATE:20110328
SUMMARY:IE 2011 Notification Due
DESCRIPTION:The 7th International Conference on Intelligent Environments
URL:http://www.wikicfp.com/cfp/servlet/event.showcfp?eventid=11423&copyow
 nerid=20815
UID:cfp143120-N@wikicfp.com
END:VEVENT
BEGIN:VEVENT
DTSTAMP:20260419T154659Z
DTSTART;VALUE=DATE:20110411
SUMMARY:IE 2011 Final Version Due
DESCRIPTION:The 7th International Conference on Intelligent Environments
URL:http://www.wikicfp.com/cfp/servlet/event.showcfp?eventid=11423&copyow
 nerid=20815
UID:cfp143120-N@wikicfp.com
END:VEVENT
BEGIN:VEVENT
DTSTAMP:20260419T154659Z
DTSTART;VALUE=DATE:20110803
DTEND;VALUE=DATE:20110806
SUMMARY:ATC 2011
DESCRIPTION:2011 International Conference on Advanced Technologies for Co
 mmunications
URL:http://www.wikicfp.com/cfp/servlet/event.showcfp?eventid=13909&copyow
 nerid=20815
UID:cfp143116-E@wikicfp.com
END:VEVENT
BEGIN:VEVENT
DTSTAMP:20260419T154659Z
DTSTART;VALUE=DATE:20110301
SUMMARY:ATC 2011 Deadline
DESCRIPTION:2011 International Conference on Advanced Technologies for Co
 mmunications
URL:http://www.wikicfp.com/cfp/servlet/event.showcfp?eventid=13909&copyow
 nerid=20815
UID:cfp143116-D@wikicfp.com
END:VEVENT
BEGIN:VEVENT
DTSTAMP:20260419T154659Z
DTSTART;VALUE=DATE:20110501
SUMMARY:ATC 2011 Notification Due
DESCRIPTION:2011 International Conference on Advanced Technologies for Co
 mmunications
URL:http://www.wikicfp.com/cfp/servlet/event.showcfp?eventid=13909&copyow
 nerid=20815
UID:cfp143116-N@wikicfp.com
END:VEVENT
BEGIN:VEVENT
DTSTAMP:20260419T154659Z
DTSTART;VALUE=DATE:20110601
SUMMARY:ATC 2011 Final Version Due
DESCRIPTION:2011 International Conference on Advanced Technologies for Co
 mmunications
URL:http://www.wikicfp.com/cfp/servlet/event.showcfp?eventid=13909&copyow
 nerid=20815
UID:cfp143116-N@wikicfp.com
END:VEVENT
BEGIN:VEVENT
DTSTAMP:20260419T154659Z
DTSTART;VALUE=DATE:20110919
DTEND;VALUE=DATE:20110924
SUMMARY:MobiCom 2011
DESCRIPTION:The 17th Annual International Conference on Mobile Computing 
 and Networking  
URL:http://www.wikicfp.com/cfp/servlet/event.showcfp?eventid=13671&copyow
 nerid=20815
UID:cfp143098-E@wikicfp.com
END:VEVENT
BEGIN:VEVENT
DTSTAMP:20260419T154659Z
DTSTART;VALUE=DATE:20110302
SUMMARY:MobiCom 2011 Abstract Due
DESCRIPTION:The 17th Annual International Conference on Mobile Computing 
 and Networking  
URL:http://www.wikicfp.com/cfp/servlet/event.showcfp?eventid=13671&copyow
 nerid=20815
UID:cfp143098-A@wikicfp.com
END:VEVENT
BEGIN:VEVENT
DTSTAMP:20260419T154659Z
DTSTART;VALUE=DATE:20110309
SUMMARY:MobiCom 2011 Deadline
DESCRIPTION:The 17th Annual International Conference on Mobile Computing 
 and Networking  
URL:http://www.wikicfp.com/cfp/servlet/event.showcfp?eventid=13671&copyow
 nerid=20815
UID:cfp143098-D@wikicfp.com
END:VEVENT
BEGIN:VEVENT
DTSTAMP:20260419T154659Z
DTSTART;VALUE=DATE:20110609
SUMMARY:MobiCom 2011 Notification Due
DESCRIPTION:The 17th Annual International Conference on Mobile Computing 
 and Networking  
URL:http://www.wikicfp.com/cfp/servlet/event.showcfp?eventid=13671&copyow
 nerid=20815
UID:cfp143098-N@wikicfp.com
END:VEVENT
BEGIN:VEVENT
DTSTAMP:20260419T154659Z
DTSTART;VALUE=DATE:20110630
SUMMARY:MobiCom 2011 Final Version Due
DESCRIPTION:The 17th Annual International Conference on Mobile Computing 
 and Networking  
URL:http://www.wikicfp.com/cfp/servlet/event.showcfp?eventid=13671&copyow
 nerid=20815
UID:cfp143098-N@wikicfp.com
END:VEVENT
BEGIN:VEVENT
DTSTAMP:20260419T154659Z
DTSTART;VALUE=DATE:20110725
DTEND;VALUE=DATE:20110728
SUMMARY:MSN 2011
DESCRIPTION:The 1st International Workshop on Mobile Social Networks
URL:http://www.wikicfp.com/cfp/servlet/event.showcfp?eventid=14028&copyow
 nerid=20815
UID:cfp143101-E@wikicfp.com
END:VEVENT
BEGIN:VEVENT
DTSTAMP:20260419T154659Z
DTSTART;VALUE=DATE:20110322
SUMMARY:MSN 2011 Deadline
DESCRIPTION:The 1st International Workshop on Mobile Social Networks
URL:http://www.wikicfp.com/cfp/servlet/event.showcfp?eventid=14028&copyow
 nerid=20815
UID:cfp143101-D@wikicfp.com
END:VEVENT
BEGIN:VEVENT
DTSTAMP:20260419T154659Z
DTSTART;VALUE=DATE:20110408
SUMMARY:MSN 2011 Notification Due
DESCRIPTION:The 1st International Workshop on Mobile Social Networks
URL:http://www.wikicfp.com/cfp/servlet/event.showcfp?eventid=14028&copyow
 nerid=20815
UID:cfp143101-N@wikicfp.com
END:VEVENT
BEGIN:VEVENT
DTSTAMP:20260419T154659Z
DTSTART;VALUE=DATE:20110420
SUMMARY:MSN 2011 Final Version Due
DESCRIPTION:The 1st International Workshop on Mobile Social Networks
URL:http://www.wikicfp.com/cfp/servlet/event.showcfp?eventid=14028&copyow
 nerid=20815
UID:cfp143101-N@wikicfp.com
END:VEVENT
BEGIN:VEVENT
DTSTAMP:20260419T154659Z
DTSTART;VALUE=DATE:20111205
DTEND;VALUE=DATE:20111210
SUMMARY:GLOBECOM 2011
DESCRIPTION:IEEE Global Communications Conference
URL:http://www.wikicfp.com/cfp/servlet/event.showcfp?eventid=10129&copyow
 nerid=20815
UID:cfp143123-E@wikicfp.com
END:VEVENT
BEGIN:VEVENT
DTSTAMP:20260419T154659Z
DTSTART;VALUE=DATE:20110405
SUMMARY:GLOBECOM 2011 Deadline
DESCRIPTION:IEEE Global Communications Conference
URL:http://www.wikicfp.com/cfp/servlet/event.showcfp?eventid=10129&copyow
 nerid=20815
UID:cfp143123-D@wikicfp.com
END:VEVENT
BEGIN:VEVENT
DTSTAMP:20260419T154659Z
DTSTART;VALUE=DATE:20110701
SUMMARY:GLOBECOM 2011 Notification Due
DESCRIPTION:IEEE Global Communications Conference
URL:http://www.wikicfp.com/cfp/servlet/event.showcfp?eventid=10129&copyow
 nerid=20815
UID:cfp143123-N@wikicfp.com
END:VEVENT
BEGIN:VEVENT
DTSTAMP:20260419T154659Z
DTSTART;VALUE=DATE:20110801
SUMMARY:GLOBECOM 2011 Final Version Due
DESCRIPTION:IEEE Global Communications Conference
URL:http://www.wikicfp.com/cfp/servlet/event.showcfp?eventid=10129&copyow
 nerid=20815
UID:cfp143123-N@wikicfp.com
END:VEVENT
BEGIN:VEVENT
DTSTAMP:20260419T154659Z
DTSTART;VALUE=DATE:20110917
DTEND;VALUE=DATE:20110922
SUMMARY:UbiComp 2011
DESCRIPTION:13th ACM International Conference on Ubiquitous Computing
URL:http://www.wikicfp.com/cfp/servlet/event.showcfp?eventid=11742&copyow
 nerid=20815
UID:cfp143119-E@wikicfp.com
END:VEVENT
BEGIN:VEVENT
DTSTAMP:20260419T154659Z
DTSTART;VALUE=DATE:20110415
SUMMARY:UbiComp 2011 Deadline
DESCRIPTION:13th ACM International Conference on Ubiquitous Computing
URL:http://www.wikicfp.com/cfp/servlet/event.showcfp?eventid=11742&copyow
 nerid=20815
UID:cfp143119-D@wikicfp.com
END:VEVENT
BEGIN:VEVENT
DTSTAMP:20260419T154659Z
DTSTART;VALUE=DATE:20110618
SUMMARY:UbiComp 2011 Notification Due
DESCRIPTION:13th ACM International Conference on Ubiquitous Computing
URL:http://www.wikicfp.com/cfp/servlet/event.showcfp?eventid=11742&copyow
 nerid=20815
UID:cfp143119-N@wikicfp.com
END:VEVENT
BEGIN:VEVENT
DTSTAMP:20260419T154659Z
DTSTART;VALUE=DATE:20110822
DTEND;VALUE=DATE:20110824
SUMMARY:ruSMART 2011
DESCRIPTION:The 4th Conference on Smart Spaces
URL:http://www.wikicfp.com/cfp/servlet/event.showcfp?eventid=13706&copyow
 nerid=20815
UID:cfp143893-E@wikicfp.com
END:VEVENT
BEGIN:VEVENT
DTSTAMP:20260419T154659Z
DTSTART;VALUE=DATE:20110418
SUMMARY:ruSMART 2011 Deadline
DESCRIPTION:The 4th Conference on Smart Spaces
URL:http://www.wikicfp.com/cfp/servlet/event.showcfp?eventid=13706&copyow
 nerid=20815
UID:cfp143893-D@wikicfp.com
END:VEVENT
BEGIN:VEVENT
DTSTAMP:20260419T154659Z
DTSTART;VALUE=DATE:20110520
SUMMARY:ruSMART 2011 Notification Due
DESCRIPTION:The 4th Conference on Smart Spaces
URL:http://www.wikicfp.com/cfp/servlet/event.showcfp?eventid=13706&copyow
 nerid=20815
UID:cfp143893-N@wikicfp.com
END:VEVENT
BEGIN:VEVENT
DTSTAMP:20260419T154659Z
DTSTART;VALUE=DATE:20110601
SUMMARY:ruSMART 2011 Final Version Due
DESCRIPTION:The 4th Conference on Smart Spaces
URL:http://www.wikicfp.com/cfp/servlet/event.showcfp?eventid=13706&copyow
 nerid=20815
UID:cfp143893-N@wikicfp.com
END:VEVENT
BEGIN:VEVENT
DTSTAMP:20260419T154659Z
DTSTART;VALUE=DATE:20111026
DTEND;VALUE=DATE:20111029
SUMMARY:WMNC 2011
DESCRIPTION:4th Joint IFIP Wireless and Mobile Networking Conference
URL:http://www.wikicfp.com/cfp/servlet/event.showcfp?eventid=14229&copyow
 nerid=20815
UID:cfp143892-E@wikicfp.com
END:VEVENT
BEGIN:VEVENT
DTSTAMP:20260419T154659Z
DTSTART;VALUE=DATE:20110430
SUMMARY:WMNC 2011 Deadline
DESCRIPTION:4th Joint IFIP Wireless and Mobile Networking Conference
URL:http://www.wikicfp.com/cfp/servlet/event.showcfp?eventid=14229&copyow
 nerid=20815
UID:cfp143892-D@wikicfp.com
END:VEVENT
BEGIN:VEVENT
DTSTAMP:20260419T154659Z
DTSTART;VALUE=DATE:20110713
SUMMARY:WMNC 2011 Notification Due
DESCRIPTION:4th Joint IFIP Wireless and Mobile Networking Conference
URL:http://www.wikicfp.com/cfp/servlet/event.showcfp?eventid=14229&copyow
 nerid=20815
UID:cfp143892-N@wikicfp.com
END:VEVENT
BEGIN:VEVENT
DTSTAMP:20260419T154659Z
DTSTART;VALUE=DATE:20110904
SUMMARY:WMNC 2011 Final Version Due
DESCRIPTION:4th Joint IFIP Wireless and Mobile Networking Conference
URL:http://www.wikicfp.com/cfp/servlet/event.showcfp?eventid=14229&copyow
 nerid=20815
UID:cfp143892-N@wikicfp.com
END:VEVENT
BEGIN:VEVENT
DTSTAMP:20260419T154659Z
DTSTART;VALUE=DATE:20111106
DTEND;VALUE=DATE:20111110
SUMMARY:ISWCS 2011
DESCRIPTION:8th International Symposium on Wireless Communication Systems
 
URL:http://www.wikicfp.com/cfp/servlet/event.showcfp?eventid=11779&copyow
 nerid=20815
UID:cfp146342-E@wikicfp.com
END:VEVENT
BEGIN:VEVENT
DTSTAMP:20260419T154659Z
DTSTART;VALUE=DATE:20110613
SUMMARY:ISWCS 2011 Deadline
DESCRIPTION:8th International Symposium on Wireless Communication Systems
 
URL:http://www.wikicfp.com/cfp/servlet/event.showcfp?eventid=11779&copyow
 nerid=20815
UID:cfp146342-D@wikicfp.com
END:VEVENT
BEGIN:VEVENT
DTSTAMP:20260419T154659Z
DTSTART;VALUE=DATE:20110801
SUMMARY:ISWCS 2011 Notification Due
DESCRIPTION:8th International Symposium on Wireless Communication Systems
 
URL:http://www.wikicfp.com/cfp/servlet/event.showcfp?eventid=11779&copyow
 nerid=20815
UID:cfp146342-N@wikicfp.com
END:VEVENT
BEGIN:VEVENT
DTSTAMP:20260419T154659Z
DTSTART;VALUE=DATE:20110912
SUMMARY:ISWCS 2011 Final Version Due
DESCRIPTION:8th International Symposium on Wireless Communication Systems
 
URL:http://www.wikicfp.com/cfp/servlet/event.showcfp?eventid=11779&copyow
 nerid=20815
UID:cfp146342-N@wikicfp.com
END:VEVENT
END:VCALENDAR
