BEGIN:VCALENDAR
PRODID:-//WikiCFP//Teeravisit 1.0//EN
VERSION:2.0
CALSCALE:GREGORIAN
BEGIN:VEVENT
DTSTAMP:20260419T223112Z
DTSTART;VALUE=DATE:20110925
DTEND;VALUE=DATE:20110929
SUMMARY:ICCT 2011
DESCRIPTION:IEEE 13th International Conference on Communication Technolog
 y
URL:http://www.wikicfp.com/cfp/servlet/event.showcfp?eventid=13032&copyow
 nerid=20751
UID:cfp142387-E@wikicfp.com
END:VEVENT
BEGIN:VEVENT
DTSTAMP:20260419T223112Z
DTSTART;VALUE=DATE:20110501
SUMMARY:ICCT 2011 Deadline
DESCRIPTION:IEEE 13th International Conference on Communication Technolog
 y
URL:http://www.wikicfp.com/cfp/servlet/event.showcfp?eventid=13032&copyow
 nerid=20751
UID:cfp142387-D@wikicfp.com
END:VEVENT
BEGIN:VEVENT
DTSTAMP:20260419T223112Z
DTSTART;VALUE=DATE:20110601
SUMMARY:ICCT 2011 Notification Due
DESCRIPTION:IEEE 13th International Conference on Communication Technolog
 y
URL:http://www.wikicfp.com/cfp/servlet/event.showcfp?eventid=13032&copyow
 nerid=20751
UID:cfp142387-N@wikicfp.com
END:VEVENT
BEGIN:VEVENT
DTSTAMP:20260419T223112Z
DTSTART;VALUE=DATE:20110801
SUMMARY:ICCT 2011 Final Version Due
DESCRIPTION:IEEE 13th International Conference on Communication Technolog
 y
URL:http://www.wikicfp.com/cfp/servlet/event.showcfp?eventid=13032&copyow
 nerid=20751
UID:cfp142387-N@wikicfp.com
END:VEVENT
BEGIN:VEVENT
DTSTAMP:20260419T223112Z
DTSTART;VALUE=DATE:20111107
DTEND;VALUE=DATE:20111110
SUMMARY:COMCAS 2011
DESCRIPTION:IEEE International Conference on Microwaves\, Communications\
 , Antennas and Electronic Systems
URL:http://www.wikicfp.com/cfp/servlet/event.showcfp?eventid=10318&copyow
 nerid=20751
UID:cfp142388-E@wikicfp.com
END:VEVENT
BEGIN:VEVENT
DTSTAMP:20260419T223112Z
DTSTART;VALUE=DATE:20110625
SUMMARY:COMCAS 2011 Deadline
DESCRIPTION:IEEE International Conference on Microwaves\, Communications\
 , Antennas and Electronic Systems
URL:http://www.wikicfp.com/cfp/servlet/event.showcfp?eventid=10318&copyow
 nerid=20751
UID:cfp142388-D@wikicfp.com
END:VEVENT
BEGIN:VEVENT
DTSTAMP:20260419T223112Z
DTSTART;VALUE=DATE:20110730
SUMMARY:COMCAS 2011 Notification Due
DESCRIPTION:IEEE International Conference on Microwaves\, Communications\
 , Antennas and Electronic Systems
URL:http://www.wikicfp.com/cfp/servlet/event.showcfp?eventid=10318&copyow
 nerid=20751
UID:cfp142388-N@wikicfp.com
END:VEVENT
BEGIN:VEVENT
DTSTAMP:20260419T223112Z
DTSTART;VALUE=DATE:20110901
SUMMARY:COMCAS 2011 Final Version Due
DESCRIPTION:IEEE International Conference on Microwaves\, Communications\
 , Antennas and Electronic Systems
URL:http://www.wikicfp.com/cfp/servlet/event.showcfp?eventid=10318&copyow
 nerid=20751
UID:cfp142388-N@wikicfp.com
END:VEVENT
END:VCALENDAR
