BEGIN:VCALENDAR
PRODID:-//WikiCFP//emunoz 1.0//EN
VERSION:2.0
CALSCALE:GREGORIAN
BEGIN:VEVENT
DTSTAMP:20260422T225716Z
DTSTART;VALUE=DATE:20120626
DTEND;VALUE=DATE:20120629
SUMMARY:NLDB 2012
DESCRIPTION:17th International Conference on Application of Natural Langu
 age Processing  to Information Systems
URL:http://www.wikicfp.com/cfp/servlet/event.showcfp?eventid=18776&copyow
 nerid=19851
UID:cfp254663-E@wikicfp.com
END:VEVENT
BEGIN:VEVENT
DTSTAMP:20260422T225716Z
DTSTART;VALUE=DATE:20120131
SUMMARY:NLDB 2012 Deadline
DESCRIPTION:17th International Conference on Application of Natural Langu
 age Processing  to Information Systems
URL:http://www.wikicfp.com/cfp/servlet/event.showcfp?eventid=18776&copyow
 nerid=19851
UID:cfp254663-D@wikicfp.com
END:VEVENT
BEGIN:VEVENT
DTSTAMP:20260422T225716Z
DTSTART;VALUE=DATE:20120315
SUMMARY:NLDB 2012 Notification Due
DESCRIPTION:17th International Conference on Application of Natural Langu
 age Processing  to Information Systems
URL:http://www.wikicfp.com/cfp/servlet/event.showcfp?eventid=18776&copyow
 nerid=19851
UID:cfp254663-N@wikicfp.com
END:VEVENT
BEGIN:VEVENT
DTSTAMP:20260422T225716Z
DTSTART;VALUE=DATE:20120331
SUMMARY:NLDB 2012 Final Version Due
DESCRIPTION:17th International Conference on Application of Natural Langu
 age Processing  to Information Systems
URL:http://www.wikicfp.com/cfp/servlet/event.showcfp?eventid=18776&copyow
 nerid=19851
UID:cfp254663-N@wikicfp.com
END:VEVENT
BEGIN:VEVENT
DTSTAMP:20260422T225716Z
DTSTART;VALUE=DATE:20120626
DTEND;VALUE=DATE:20120629
SUMMARY:NLDB 2012
DESCRIPTION:17th International conference on Applications of Natural Lang
 uage Processing  to Information Systems
URL:http://www.wikicfp.com/cfp/servlet/event.showcfp?eventid=18895&copyow
 nerid=19851
UID:cfp254664-E@wikicfp.com
END:VEVENT
BEGIN:VEVENT
DTSTAMP:20260422T225716Z
DTSTART;VALUE=DATE:20120131
SUMMARY:NLDB 2012 Deadline
DESCRIPTION:17th International conference on Applications of Natural Lang
 uage Processing  to Information Systems
URL:http://www.wikicfp.com/cfp/servlet/event.showcfp?eventid=18895&copyow
 nerid=19851
UID:cfp254664-D@wikicfp.com
END:VEVENT
BEGIN:VEVENT
DTSTAMP:20260422T225716Z
DTSTART;VALUE=DATE:20120315
SUMMARY:NLDB 2012 Notification Due
DESCRIPTION:17th International conference on Applications of Natural Lang
 uage Processing  to Information Systems
URL:http://www.wikicfp.com/cfp/servlet/event.showcfp?eventid=18895&copyow
 nerid=19851
UID:cfp254664-N@wikicfp.com
END:VEVENT
BEGIN:VEVENT
DTSTAMP:20260422T225716Z
DTSTART;VALUE=DATE:20120331
SUMMARY:NLDB 2012 Final Version Due
DESCRIPTION:17th International conference on Applications of Natural Lang
 uage Processing  to Information Systems
URL:http://www.wikicfp.com/cfp/servlet/event.showcfp?eventid=18895&copyow
 nerid=19851
UID:cfp254664-N@wikicfp.com
END:VEVENT
BEGIN:VEVENT
DTSTAMP:20260422T225716Z
DTSTART;VALUE=DATE:20120827
DTEND;VALUE=DATE:20120901
SUMMARY:VLDB 2012
DESCRIPTION:38th International Conference on Very Large Databases
URL:http://www.wikicfp.com/cfp/servlet/event.showcfp?eventid=16049&copyow
 nerid=19851
UID:cfp254666-E@wikicfp.com
END:VEVENT
BEGIN:VEVENT
DTSTAMP:20260422T225716Z
DTSTART;VALUE=DATE:20120301
SUMMARY:VLDB 2012 Deadline
DESCRIPTION:38th International Conference on Very Large Databases
URL:http://www.wikicfp.com/cfp/servlet/event.showcfp?eventid=16049&copyow
 nerid=19851
UID:cfp254666-D@wikicfp.com
END:VEVENT
BEGIN:VEVENT
DTSTAMP:20260422T225716Z
DTSTART;VALUE=DATE:20120519
SUMMARY:VLDB 2012 Notification Due
DESCRIPTION:38th International Conference on Very Large Databases
URL:http://www.wikicfp.com/cfp/servlet/event.showcfp?eventid=16049&copyow
 nerid=19851
UID:cfp254666-N@wikicfp.com
END:VEVENT
BEGIN:VEVENT
DTSTAMP:20260422T225716Z
DTSTART;VALUE=DATE:20120619
SUMMARY:VLDB 2012 Final Version Due
DESCRIPTION:38th International Conference on Very Large Databases
URL:http://www.wikicfp.com/cfp/servlet/event.showcfp?eventid=16049&copyow
 nerid=19851
UID:cfp254666-N@wikicfp.com
END:VEVENT
BEGIN:VEVENT
DTSTAMP:20260422T225716Z
DTSTART;VALUE=DATE:20120627
DTEND;VALUE=DATE:20120701
SUMMARY:AMW 2012
DESCRIPTION:6th ALBERTO MENDELZON INTERNATIONAL WORKSHOP ON FOUNDATIONS O
 F DATA MANAGEMENT
URL:http://www.wikicfp.com/cfp/servlet/event.showcfp?eventid=19206&copyow
 nerid=19851
UID:cfp236040-E@wikicfp.com
END:VEVENT
BEGIN:VEVENT
DTSTAMP:20260422T225716Z
DTSTART;VALUE=DATE:20120305
SUMMARY:AMW 2012 Deadline
DESCRIPTION:6th ALBERTO MENDELZON INTERNATIONAL WORKSHOP ON FOUNDATIONS O
 F DATA MANAGEMENT
URL:http://www.wikicfp.com/cfp/servlet/event.showcfp?eventid=19206&copyow
 nerid=19851
UID:cfp236040-D@wikicfp.com
END:VEVENT
BEGIN:VEVENT
DTSTAMP:20260422T225716Z
DTSTART;VALUE=DATE:20120409
SUMMARY:AMW 2012 Notification Due
DESCRIPTION:6th ALBERTO MENDELZON INTERNATIONAL WORKSHOP ON FOUNDATIONS O
 F DATA MANAGEMENT
URL:http://www.wikicfp.com/cfp/servlet/event.showcfp?eventid=19206&copyow
 nerid=19851
UID:cfp236040-N@wikicfp.com
END:VEVENT
BEGIN:VEVENT
DTSTAMP:20260422T225716Z
DTSTART;VALUE=DATE:20120507
SUMMARY:AMW 2012 Final Version Due
DESCRIPTION:6th ALBERTO MENDELZON INTERNATIONAL WORKSHOP ON FOUNDATIONS O
 F DATA MANAGEMENT
URL:http://www.wikicfp.com/cfp/servlet/event.showcfp?eventid=19206&copyow
 nerid=19851
UID:cfp236040-N@wikicfp.com
END:VEVENT
BEGIN:VEVENT
DTSTAMP:20260422T225716Z
DTSTART;VALUE=DATE:20120520
DTEND;VALUE=DATE:20120521
SUMMARY:WebDB 2012
DESCRIPTION:15th International Workshop on the Web and Databases
URL:http://www.wikicfp.com/cfp/servlet/event.showcfp?eventid=20646&copyow
 nerid=19851
UID:cfp236042-E@wikicfp.com
END:VEVENT
BEGIN:VEVENT
DTSTAMP:20260422T225716Z
DTSTART;VALUE=DATE:20120309
SUMMARY:WebDB 2012 Deadline
DESCRIPTION:15th International Workshop on the Web and Databases
URL:http://www.wikicfp.com/cfp/servlet/event.showcfp?eventid=20646&copyow
 nerid=19851
UID:cfp236042-D@wikicfp.com
END:VEVENT
BEGIN:VEVENT
DTSTAMP:20260422T225716Z
DTSTART;VALUE=DATE:20120415
SUMMARY:WebDB 2012 Notification Due
DESCRIPTION:15th International Workshop on the Web and Databases
URL:http://www.wikicfp.com/cfp/servlet/event.showcfp?eventid=20646&copyow
 nerid=19851
UID:cfp236042-N@wikicfp.com
END:VEVENT
BEGIN:VEVENT
DTSTAMP:20260422T225716Z
DTSTART;VALUE=DATE:20120808
DTEND;VALUE=DATE:20120811
SUMMARY:DIM 2012
DESCRIPTION:IEEE International Workshop on Data Integration and Mining
URL:http://www.wikicfp.com/cfp/servlet/event.showcfp?eventid=20030&copyow
 nerid=19851
UID:cfp236041-E@wikicfp.com
END:VEVENT
BEGIN:VEVENT
DTSTAMP:20260422T225716Z
DTSTART;VALUE=DATE:20120331
SUMMARY:DIM 2012 Deadline
DESCRIPTION:IEEE International Workshop on Data Integration and Mining
URL:http://www.wikicfp.com/cfp/servlet/event.showcfp?eventid=20030&copyow
 nerid=19851
UID:cfp236041-D@wikicfp.com
END:VEVENT
BEGIN:VEVENT
DTSTAMP:20260422T225716Z
DTSTART;VALUE=DATE:20120430
SUMMARY:DIM 2012 Notification Due
DESCRIPTION:IEEE International Workshop on Data Integration and Mining
URL:http://www.wikicfp.com/cfp/servlet/event.showcfp?eventid=20030&copyow
 nerid=19851
UID:cfp236041-N@wikicfp.com
END:VEVENT
BEGIN:VEVENT
DTSTAMP:20260422T225716Z
DTSTART;VALUE=DATE:20120514
SUMMARY:DIM 2012 Final Version Due
DESCRIPTION:IEEE International Workshop on Data Integration and Mining
URL:http://www.wikicfp.com/cfp/servlet/event.showcfp?eventid=20030&copyow
 nerid=19851
UID:cfp236041-N@wikicfp.com
END:VEVENT
BEGIN:VEVENT
DTSTAMP:20260422T225716Z
DTSTART;VALUE=DATE:20120808
DTEND;VALUE=DATE:20120811
SUMMARY:IDEAS  2012
DESCRIPTION:16th International Database Engineering & Applications Sympos
 ium
URL:http://www.wikicfp.com/cfp/servlet/event.showcfp?eventid=20920&copyow
 nerid=19851
UID:cfp254665-E@wikicfp.com
END:VEVENT
BEGIN:VEVENT
DTSTAMP:20260422T225716Z
DTSTART;VALUE=DATE:20120518
SUMMARY:IDEAS  2012 Deadline
DESCRIPTION:16th International Database Engineering & Applications Sympos
 ium
URL:http://www.wikicfp.com/cfp/servlet/event.showcfp?eventid=20920&copyow
 nerid=19851
UID:cfp254665-D@wikicfp.com
END:VEVENT
BEGIN:VEVENT
DTSTAMP:20260422T225716Z
DTSTART;VALUE=DATE:20120702
SUMMARY:IDEAS  2012 Notification Due
DESCRIPTION:16th International Database Engineering & Applications Sympos
 ium
URL:http://www.wikicfp.com/cfp/servlet/event.showcfp?eventid=20920&copyow
 nerid=19851
UID:cfp254665-N@wikicfp.com
END:VEVENT
BEGIN:VEVENT
DTSTAMP:20260422T225716Z
DTSTART;VALUE=DATE:20120730
SUMMARY:IDEAS  2012 Final Version Due
DESCRIPTION:16th International Database Engineering & Applications Sympos
 ium
URL:http://www.wikicfp.com/cfp/servlet/event.showcfp?eventid=20920&copyow
 nerid=19851
UID:cfp254665-N@wikicfp.com
END:VEVENT
BEGIN:VEVENT
DTSTAMP:20260422T225716Z
DTSTART;VALUE=DATE:20121029
DTEND;VALUE=DATE:20121103
SUMMARY:CIKM 2012
DESCRIPTION:21st ACM International Conference on Information and Knowledg
 e Management
URL:http://www.wikicfp.com/cfp/servlet/event.showcfp?eventid=19979&copyow
 nerid=19851
UID:cfp254667-E@wikicfp.com
END:VEVENT
BEGIN:VEVENT
DTSTAMP:20260422T225716Z
DTSTART;VALUE=DATE:20120518
SUMMARY:CIKM 2012 Abstract Due
DESCRIPTION:21st ACM International Conference on Information and Knowledg
 e Management
URL:http://www.wikicfp.com/cfp/servlet/event.showcfp?eventid=19979&copyow
 nerid=19851
UID:cfp254667-A@wikicfp.com
END:VEVENT
BEGIN:VEVENT
DTSTAMP:20260422T225716Z
DTSTART;VALUE=DATE:20120525
SUMMARY:CIKM 2012 Deadline
DESCRIPTION:21st ACM International Conference on Information and Knowledg
 e Management
URL:http://www.wikicfp.com/cfp/servlet/event.showcfp?eventid=19979&copyow
 nerid=19851
UID:cfp254667-D@wikicfp.com
END:VEVENT
BEGIN:VEVENT
DTSTAMP:20260422T225716Z
DTSTART;VALUE=DATE:20120716
SUMMARY:CIKM 2012 Notification Due
DESCRIPTION:21st ACM International Conference on Information and Knowledg
 e Management
URL:http://www.wikicfp.com/cfp/servlet/event.showcfp?eventid=19979&copyow
 nerid=19851
UID:cfp254667-N@wikicfp.com
END:VEVENT
BEGIN:VEVENT
DTSTAMP:20260422T225716Z
DTSTART;VALUE=DATE:20121029
DTEND;VALUE=DATE:20121103
SUMMARY:CIKM 2012
DESCRIPTION:21st ACM International Conference on Information and Knowledg
 e Management
URL:http://www.wikicfp.com/cfp/servlet/event.showcfp?eventid=21117&copyow
 nerid=19851
UID:cfp254668-E@wikicfp.com
END:VEVENT
BEGIN:VEVENT
DTSTAMP:20260422T225716Z
DTSTART;VALUE=DATE:20120518
SUMMARY:CIKM 2012 Abstract Due
DESCRIPTION:21st ACM International Conference on Information and Knowledg
 e Management
URL:http://www.wikicfp.com/cfp/servlet/event.showcfp?eventid=21117&copyow
 nerid=19851
UID:cfp254668-A@wikicfp.com
END:VEVENT
BEGIN:VEVENT
DTSTAMP:20260422T225716Z
DTSTART;VALUE=DATE:20120525
SUMMARY:CIKM 2012 Deadline
DESCRIPTION:21st ACM International Conference on Information and Knowledg
 e Management
URL:http://www.wikicfp.com/cfp/servlet/event.showcfp?eventid=21117&copyow
 nerid=19851
UID:cfp254668-D@wikicfp.com
END:VEVENT
BEGIN:VEVENT
DTSTAMP:20260422T225716Z
DTSTART;VALUE=DATE:20130513
DTEND;VALUE=DATE:20130518
SUMMARY:WWW 2013
DESCRIPTION:International World Wide Web Conference
URL:http://www.wikicfp.com/cfp/servlet/event.showcfp?eventid=24163&copyow
 nerid=19851
UID:cfp309350-E@wikicfp.com
END:VEVENT
BEGIN:VEVENT
DTSTAMP:20260422T225716Z
DTSTART;VALUE=DATE:20121119
SUMMARY:WWW 2013 Abstract Due
DESCRIPTION:International World Wide Web Conference
URL:http://www.wikicfp.com/cfp/servlet/event.showcfp?eventid=24163&copyow
 nerid=19851
UID:cfp309350-A@wikicfp.com
END:VEVENT
BEGIN:VEVENT
DTSTAMP:20260422T225716Z
DTSTART;VALUE=DATE:20121126
SUMMARY:WWW 2013 Deadline
DESCRIPTION:International World Wide Web Conference
URL:http://www.wikicfp.com/cfp/servlet/event.showcfp?eventid=24163&copyow
 nerid=19851
UID:cfp309350-D@wikicfp.com
END:VEVENT
BEGIN:VEVENT
DTSTAMP:20260422T225716Z
DTSTART;VALUE=DATE:20130208
SUMMARY:WWW 2013 Notification Due
DESCRIPTION:International World Wide Web Conference
URL:http://www.wikicfp.com/cfp/servlet/event.showcfp?eventid=24163&copyow
 nerid=19851
UID:cfp309350-N@wikicfp.com
END:VEVENT
BEGIN:VEVENT
DTSTAMP:20260422T225716Z
DTSTART;VALUE=DATE:20130624
DTEND;VALUE=DATE:20130627
SUMMARY:PODS 2013
DESCRIPTION:32nd ACM SIGMOD-SIGACT-SIGART Symposium on Principles Of Data
 base Systems
URL:http://www.wikicfp.com/cfp/servlet/event.showcfp?eventid=25177&copyow
 nerid=19851
UID:cfp309353-E@wikicfp.com
END:VEVENT
BEGIN:VEVENT
DTSTAMP:20260422T225716Z
DTSTART;VALUE=DATE:20121128
SUMMARY:PODS 2013 Deadline
DESCRIPTION:32nd ACM SIGMOD-SIGACT-SIGART Symposium on Principles Of Data
 base Systems
URL:http://www.wikicfp.com/cfp/servlet/event.showcfp?eventid=25177&copyow
 nerid=19851
UID:cfp309353-D@wikicfp.com
END:VEVENT
BEGIN:VEVENT
DTSTAMP:20260422T225716Z
DTSTART;VALUE=DATE:20130526
DTEND;VALUE=DATE:20130531
SUMMARY:ESWC 2013
DESCRIPTION:10th Extended Semantic Web Conference
URL:http://www.wikicfp.com/cfp/servlet/event.showcfp?eventid=25751&copyow
 nerid=19851
UID:cfp309351-E@wikicfp.com
END:VEVENT
BEGIN:VEVENT
DTSTAMP:20260422T225716Z
DTSTART;VALUE=DATE:20121205
SUMMARY:ESWC 2013 Abstract Due
DESCRIPTION:10th Extended Semantic Web Conference
URL:http://www.wikicfp.com/cfp/servlet/event.showcfp?eventid=25751&copyow
 nerid=19851
UID:cfp309351-A@wikicfp.com
END:VEVENT
BEGIN:VEVENT
DTSTAMP:20260422T225716Z
DTSTART;VALUE=DATE:20121212
SUMMARY:ESWC 2013 Deadline
DESCRIPTION:10th Extended Semantic Web Conference
URL:http://www.wikicfp.com/cfp/servlet/event.showcfp?eventid=25751&copyow
 nerid=19851
UID:cfp309351-D@wikicfp.com
END:VEVENT
BEGIN:VEVENT
DTSTAMP:20260422T225716Z
DTSTART;VALUE=DATE:20130222
SUMMARY:ESWC 2013 Notification Due
DESCRIPTION:10th Extended Semantic Web Conference
URL:http://www.wikicfp.com/cfp/servlet/event.showcfp?eventid=25751&copyow
 nerid=19851
UID:cfp309351-N@wikicfp.com
END:VEVENT
BEGIN:VEVENT
DTSTAMP:20260422T225716Z
DTSTART;VALUE=DATE:20130309
SUMMARY:ESWC 2013 Final Version Due
DESCRIPTION:10th Extended Semantic Web Conference
URL:http://www.wikicfp.com/cfp/servlet/event.showcfp?eventid=25751&copyow
 nerid=19851
UID:cfp309351-N@wikicfp.com
END:VEVENT
BEGIN:VEVENT
DTSTAMP:20260422T225716Z
DTSTART;VALUE=DATE:20130501
DTEND;VALUE=DATE:20130504
SUMMARY:Hypertext 2013
DESCRIPTION:24th ACM Conference on Hypertext and Social Media
URL:http://www.wikicfp.com/cfp/servlet/event.showcfp?eventid=26221&copyow
 nerid=19851
UID:cfp308296-E@wikicfp.com
END:VEVENT
BEGIN:VEVENT
DTSTAMP:20260422T225716Z
DTSTART;VALUE=DATE:20121213
SUMMARY:Hypertext 2013 Abstract Due
DESCRIPTION:24th ACM Conference on Hypertext and Social Media
URL:http://www.wikicfp.com/cfp/servlet/event.showcfp?eventid=26221&copyow
 nerid=19851
UID:cfp308296-A@wikicfp.com
END:VEVENT
BEGIN:VEVENT
DTSTAMP:20260422T225716Z
DTSTART;VALUE=DATE:20121218
SUMMARY:Hypertext 2013 Deadline
DESCRIPTION:24th ACM Conference on Hypertext and Social Media
URL:http://www.wikicfp.com/cfp/servlet/event.showcfp?eventid=26221&copyow
 nerid=19851
UID:cfp308296-D@wikicfp.com
END:VEVENT
BEGIN:VEVENT
DTSTAMP:20260422T225716Z
DTSTART;VALUE=DATE:20130130
SUMMARY:Hypertext 2013 Notification Due
DESCRIPTION:24th ACM Conference on Hypertext and Social Media
URL:http://www.wikicfp.com/cfp/servlet/event.showcfp?eventid=26221&copyow
 nerid=19851
UID:cfp308296-N@wikicfp.com
END:VEVENT
BEGIN:VEVENT
DTSTAMP:20260422T225716Z
DTSTART;VALUE=DATE:20130217
SUMMARY:Hypertext 2013 Final Version Due
DESCRIPTION:24th ACM Conference on Hypertext and Social Media
URL:http://www.wikicfp.com/cfp/servlet/event.showcfp?eventid=26221&copyow
 nerid=19851
UID:cfp308296-N@wikicfp.com
END:VEVENT
BEGIN:VEVENT
DTSTAMP:20260422T225716Z
DTSTART;VALUE=DATE:20130826
DTEND;VALUE=DATE:20130901
SUMMARY:VLDB 2013
DESCRIPTION:International Conference on Very Large Data Bases
URL:http://www.wikicfp.com/cfp/servlet/event.showcfp?eventid=22371&copyow
 nerid=19851
UID:cfp309352-E@wikicfp.com
END:VEVENT
BEGIN:VEVENT
DTSTAMP:20260422T225716Z
DTSTART;VALUE=DATE:20130301
SUMMARY:VLDB 2013 Deadline
DESCRIPTION:International Conference on Very Large Data Bases
URL:http://www.wikicfp.com/cfp/servlet/event.showcfp?eventid=22371&copyow
 nerid=19851
UID:cfp309352-D@wikicfp.com
END:VEVENT
BEGIN:VEVENT
DTSTAMP:20260422T225716Z
DTSTART;VALUE=DATE:20130708
DTEND;VALUE=DATE:20130713
SUMMARY:ICWE 2013
DESCRIPTION:The International Conference on Web Engineering
URL:http://www.wikicfp.com/cfp/servlet/event.showcfp?eventid=26222&copyow
 nerid=19851
UID:cfp308295-E@wikicfp.com
END:VEVENT
BEGIN:VEVENT
DTSTAMP:20260422T225716Z
DTSTART;VALUE=DATE:20130308
SUMMARY:ICWE 2013 Deadline
DESCRIPTION:The International Conference on Web Engineering
URL:http://www.wikicfp.com/cfp/servlet/event.showcfp?eventid=26222&copyow
 nerid=19851
UID:cfp308295-D@wikicfp.com
END:VEVENT
BEGIN:VEVENT
DTSTAMP:20260422T225716Z
DTSTART;VALUE=DATE:20140622
DTEND;VALUE=DATE:20140628
SUMMARY:SIGMOD  2014
DESCRIPTION:ACM Conference on Management of Data
URL:http://www.wikicfp.com/cfp/servlet/event.showcfp?eventid=32160&copyow
 nerid=19851
UID:cfp376675-E@wikicfp.com
END:VEVENT
BEGIN:VEVENT
DTSTAMP:20260422T225716Z
DTSTART;VALUE=DATE:20130909
SUMMARY:SIGMOD  2014 Abstract Due
DESCRIPTION:ACM Conference on Management of Data
URL:http://www.wikicfp.com/cfp/servlet/event.showcfp?eventid=32160&copyow
 nerid=19851
UID:cfp376675-A@wikicfp.com
END:VEVENT
BEGIN:VEVENT
DTSTAMP:20260422T225716Z
DTSTART;VALUE=DATE:20130916
SUMMARY:SIGMOD  2014 Deadline
DESCRIPTION:ACM Conference on Management of Data
URL:http://www.wikicfp.com/cfp/servlet/event.showcfp?eventid=32160&copyow
 nerid=19851
UID:cfp376675-D@wikicfp.com
END:VEVENT
BEGIN:VEVENT
DTSTAMP:20260422T225716Z
DTSTART;VALUE=DATE:20131119
SUMMARY:SIGMOD  2014 Notification Due
DESCRIPTION:ACM Conference on Management of Data
URL:http://www.wikicfp.com/cfp/servlet/event.showcfp?eventid=32160&copyow
 nerid=19851
UID:cfp376675-N@wikicfp.com
END:VEVENT
BEGIN:VEVENT
DTSTAMP:20260422T225716Z
DTSTART;VALUE=DATE:20140212
SUMMARY:SIGMOD  2014 Final Version Due
DESCRIPTION:ACM Conference on Management of Data
URL:http://www.wikicfp.com/cfp/servlet/event.showcfp?eventid=32160&copyow
 nerid=19851
UID:cfp376675-N@wikicfp.com
END:VEVENT
BEGIN:VEVENT
DTSTAMP:20260422T225716Z
DTSTART;VALUE=DATE:20170813
DTEND;VALUE=DATE:20170818
SUMMARY:KDD 2017
DESCRIPTION:Knowledge Discovery and Data Mining
URL:http://www.wikicfp.com/cfp/servlet/event.showcfp?eventid=58292&copyow
 nerid=19851
UID:cfp628905-E@wikicfp.com
END:VEVENT
BEGIN:VEVENT
DTSTAMP:20260422T225716Z
DTSTART;VALUE=DATE:20161209
SUMMARY:KDD 2017 Deadline
DESCRIPTION:Knowledge Discovery and Data Mining
URL:http://www.wikicfp.com/cfp/servlet/event.showcfp?eventid=58292&copyow
 nerid=19851
UID:cfp628905-D@wikicfp.com
END:VEVENT
BEGIN:VEVENT
DTSTAMP:20260422T225716Z
DTSTART;VALUE=DATE:20161231
SUMMARY:KDD 2017 Notification Due
DESCRIPTION:Knowledge Discovery and Data Mining
URL:http://www.wikicfp.com/cfp/servlet/event.showcfp?eventid=58292&copyow
 nerid=19851
UID:cfp628905-N@wikicfp.com
END:VEVENT
BEGIN:VEVENT
DTSTAMP:20260422T225716Z
DTSTART;VALUE=DATE:20190127
DTEND;VALUE=DATE:20190202
SUMMARY:AAAI 2019
DESCRIPTION:National Conference on Artificial Intelligence
URL:http://www.wikicfp.com/cfp/servlet/event.showcfp?eventid=75888&copyow
 nerid=19851
UID:cfp742228-E@wikicfp.com
END:VEVENT
BEGIN:VEVENT
DTSTAMP:20260422T225716Z
DTSTART;VALUE=DATE:20180901
SUMMARY:AAAI 2019 Abstract Due
DESCRIPTION:National Conference on Artificial Intelligence
URL:http://www.wikicfp.com/cfp/servlet/event.showcfp?eventid=75888&copyow
 nerid=19851
UID:cfp742228-A@wikicfp.com
END:VEVENT
BEGIN:VEVENT
DTSTAMP:20260422T225716Z
DTSTART;VALUE=DATE:20180905
SUMMARY:AAAI 2019 Deadline
DESCRIPTION:National Conference on Artificial Intelligence
URL:http://www.wikicfp.com/cfp/servlet/event.showcfp?eventid=75888&copyow
 nerid=19851
UID:cfp742228-D@wikicfp.com
END:VEVENT
BEGIN:VEVENT
DTSTAMP:20260422T225716Z
DTSTART;VALUE=DATE:20181101
SUMMARY:AAAI 2019 Notification Due
DESCRIPTION:National Conference on Artificial Intelligence
URL:http://www.wikicfp.com/cfp/servlet/event.showcfp?eventid=75888&copyow
 nerid=19851
UID:cfp742228-N@wikicfp.com
END:VEVENT
BEGIN:VEVENT
DTSTAMP:20260422T225716Z
DTSTART;VALUE=DATE:20181114
SUMMARY:AAAI 2019 Final Version Due
DESCRIPTION:National Conference on Artificial Intelligence
URL:http://www.wikicfp.com/cfp/servlet/event.showcfp?eventid=75888&copyow
 nerid=19851
UID:cfp742228-N@wikicfp.com
END:VEVENT
END:VCALENDAR
