BEGIN:VCALENDAR
PRODID:-//WikiCFP//bjoernd 1.0//EN
VERSION:2.0
CALSCALE:GREGORIAN
BEGIN:VEVENT
DTSTAMP:20260419T211041Z
DTSTART;VALUE=DATE:20140120
DTEND;VALUE=DATE:20140123
SUMMARY:HiPEAC 2014
DESCRIPTION:9th International Conference on High-Performance and Embedded
  Architectures and Compilers
URL:http://www.wikicfp.com/cfp/servlet/event.showcfp?eventid=30827&copyow
 nerid=19805
UID:cfp436882-E@wikicfp.com
END:VEVENT
BEGIN:VEVENT
DTSTAMP:20260419T211041Z
DTSTART;VALUE=DATE:20130614
SUMMARY:HiPEAC 2014 Deadline
DESCRIPTION:9th International Conference on High-Performance and Embedded
  Architectures and Compilers
URL:http://www.wikicfp.com/cfp/servlet/event.showcfp?eventid=30827&copyow
 nerid=19805
UID:cfp436882-D@wikicfp.com
END:VEVENT
BEGIN:VEVENT
DTSTAMP:20260419T211041Z
DTSTART;VALUE=DATE:20140623
DTEND;VALUE=DATE:20140627
SUMMARY:DSN 2014
DESCRIPTION:The 44th Annual IEEE/IFIP International Conference on Dependa
 ble Systems and Networks 
URL:http://www.wikicfp.com/cfp/servlet/event.showcfp?eventid=31552&copyow
 nerid=19805
UID:cfp436883-E@wikicfp.com
END:VEVENT
BEGIN:VEVENT
DTSTAMP:20260419T211041Z
DTSTART;VALUE=DATE:20131201
SUMMARY:DSN 2014 Abstract Due
DESCRIPTION:The 44th Annual IEEE/IFIP International Conference on Dependa
 ble Systems and Networks 
URL:http://www.wikicfp.com/cfp/servlet/event.showcfp?eventid=31552&copyow
 nerid=19805
UID:cfp436883-A@wikicfp.com
END:VEVENT
BEGIN:VEVENT
DTSTAMP:20260419T211041Z
DTSTART;VALUE=DATE:20131208
SUMMARY:DSN 2014 Deadline
DESCRIPTION:The 44th Annual IEEE/IFIP International Conference on Dependa
 ble Systems and Networks 
URL:http://www.wikicfp.com/cfp/servlet/event.showcfp?eventid=31552&copyow
 nerid=19805
UID:cfp436883-D@wikicfp.com
END:VEVENT
BEGIN:VEVENT
DTSTAMP:20260419T211041Z
DTSTART;VALUE=DATE:20140225
SUMMARY:DSN 2014 Notification Due
DESCRIPTION:The 44th Annual IEEE/IFIP International Conference on Dependa
 ble Systems and Networks 
URL:http://www.wikicfp.com/cfp/servlet/event.showcfp?eventid=31552&copyow
 nerid=19805
UID:cfp436883-N@wikicfp.com
END:VEVENT
BEGIN:VEVENT
DTSTAMP:20260419T211041Z
DTSTART;VALUE=DATE:20140910
DTEND;VALUE=DATE:20140913
SUMMARY:SAFECOMP 2014
DESCRIPTION:The 33rd International Conference on Computer Safety\, Reliab
 ility and Security
URL:http://www.wikicfp.com/cfp/servlet/event.showcfp?eventid=36076&copyow
 nerid=19805
UID:cfp436880-E@wikicfp.com
END:VEVENT
BEGIN:VEVENT
DTSTAMP:20260419T211041Z
DTSTART;VALUE=DATE:20140225
SUMMARY:SAFECOMP 2014 Abstract Due
DESCRIPTION:The 33rd International Conference on Computer Safety\, Reliab
 ility and Security
URL:http://www.wikicfp.com/cfp/servlet/event.showcfp?eventid=36076&copyow
 nerid=19805
UID:cfp436880-A@wikicfp.com
END:VEVENT
BEGIN:VEVENT
DTSTAMP:20260419T211041Z
DTSTART;VALUE=DATE:20140228
SUMMARY:SAFECOMP 2014 Deadline
DESCRIPTION:The 33rd International Conference on Computer Safety\, Reliab
 ility and Security
URL:http://www.wikicfp.com/cfp/servlet/event.showcfp?eventid=36076&copyow
 nerid=19805
UID:cfp436880-D@wikicfp.com
END:VEVENT
BEGIN:VEVENT
DTSTAMP:20260419T211041Z
DTSTART;VALUE=DATE:20140520
SUMMARY:SAFECOMP 2014 Notification Due
DESCRIPTION:The 33rd International Conference on Computer Safety\, Reliab
 ility and Security
URL:http://www.wikicfp.com/cfp/servlet/event.showcfp?eventid=36076&copyow
 nerid=19805
UID:cfp436880-N@wikicfp.com
END:VEVENT
BEGIN:VEVENT
DTSTAMP:20260419T211041Z
DTSTART;VALUE=DATE:20140620
SUMMARY:SAFECOMP 2014 Final Version Due
DESCRIPTION:The 33rd International Conference on Computer Safety\, Reliab
 ility and Security
URL:http://www.wikicfp.com/cfp/servlet/event.showcfp?eventid=36076&copyow
 nerid=19805
UID:cfp436880-N@wikicfp.com
END:VEVENT
BEGIN:VEVENT
DTSTAMP:20260419T211041Z
DTSTART;VALUE=DATE:20141006
DTEND;VALUE=DATE:20141009
SUMMARY:OSDI 2014
DESCRIPTION:11th USENIX Symposium on Operating Systems Design and Impleme
 ntation
URL:http://www.wikicfp.com/cfp/servlet/event.showcfp?eventid=33816&copyow
 nerid=19805
UID:cfp436885-E@wikicfp.com
END:VEVENT
BEGIN:VEVENT
DTSTAMP:20260419T211041Z
DTSTART;VALUE=DATE:20140424
SUMMARY:OSDI 2014 Abstract Due
DESCRIPTION:11th USENIX Symposium on Operating Systems Design and Impleme
 ntation
URL:http://www.wikicfp.com/cfp/servlet/event.showcfp?eventid=33816&copyow
 nerid=19805
UID:cfp436885-A@wikicfp.com
END:VEVENT
BEGIN:VEVENT
DTSTAMP:20260419T211041Z
DTSTART;VALUE=DATE:20140501
SUMMARY:OSDI 2014 Deadline
DESCRIPTION:11th USENIX Symposium on Operating Systems Design and Impleme
 ntation
URL:http://www.wikicfp.com/cfp/servlet/event.showcfp?eventid=33816&copyow
 nerid=19805
UID:cfp436885-D@wikicfp.com
END:VEVENT
BEGIN:VEVENT
DTSTAMP:20260419T211041Z
DTSTART;VALUE=DATE:20140717
SUMMARY:OSDI 2014 Notification Due
DESCRIPTION:11th USENIX Symposium on Operating Systems Design and Impleme
 ntation
URL:http://www.wikicfp.com/cfp/servlet/event.showcfp?eventid=33816&copyow
 nerid=19805
UID:cfp436885-N@wikicfp.com
END:VEVENT
BEGIN:VEVENT
DTSTAMP:20260419T211041Z
DTSTART;VALUE=DATE:20140910
SUMMARY:OSDI 2014 Final Version Due
DESCRIPTION:11th USENIX Symposium on Operating Systems Design and Impleme
 ntation
URL:http://www.wikicfp.com/cfp/servlet/event.showcfp?eventid=33816&copyow
 nerid=19805
UID:cfp436885-N@wikicfp.com
END:VEVENT
BEGIN:VEVENT
DTSTAMP:20260419T211041Z
DTSTART;VALUE=DATE:20140925
DTEND;VALUE=DATE:20140927
SUMMARY:BigSys 2014
DESCRIPTION:Workshop on System Software Support for Big Data
URL:http://www.wikicfp.com/cfp/servlet/event.showcfp?eventid=36817&copyow
 nerid=19805
UID:cfp436881-E@wikicfp.com
END:VEVENT
BEGIN:VEVENT
DTSTAMP:20260419T211041Z
DTSTART;VALUE=DATE:20140519
SUMMARY:BigSys 2014 Deadline
DESCRIPTION:Workshop on System Software Support for Big Data
URL:http://www.wikicfp.com/cfp/servlet/event.showcfp?eventid=36817&copyow
 nerid=19805
UID:cfp436881-D@wikicfp.com
END:VEVENT
BEGIN:VEVENT
DTSTAMP:20260419T211041Z
DTSTART;VALUE=DATE:20140609
SUMMARY:BigSys 2014 Notification Due
DESCRIPTION:Workshop on System Software Support for Big Data
URL:http://www.wikicfp.com/cfp/servlet/event.showcfp?eventid=36817&copyow
 nerid=19805
UID:cfp436881-N@wikicfp.com
END:VEVENT
BEGIN:VEVENT
DTSTAMP:20260419T211041Z
DTSTART;VALUE=DATE:20140623
SUMMARY:BigSys 2014 Final Version Due
DESCRIPTION:Workshop on System Software Support for Big Data
URL:http://www.wikicfp.com/cfp/servlet/event.showcfp?eventid=36817&copyow
 nerid=19805
UID:cfp436881-N@wikicfp.com
END:VEVENT
BEGIN:VEVENT
DTSTAMP:20260419T211041Z
DTSTART;VALUE=DATE:20150314
DTEND;VALUE=DATE:20150319
SUMMARY:ASPLOS 2015
DESCRIPTION:Architectural Support for Programming Languages and Operating
  Systems
URL:http://www.wikicfp.com/cfp/servlet/event.showcfp?eventid=36667&copyow
 nerid=19805
UID:cfp436884-E@wikicfp.com
END:VEVENT
BEGIN:VEVENT
DTSTAMP:20260419T211041Z
DTSTART;VALUE=DATE:20140731
SUMMARY:ASPLOS 2015 Abstract Due
DESCRIPTION:Architectural Support for Programming Languages and Operating
  Systems
URL:http://www.wikicfp.com/cfp/servlet/event.showcfp?eventid=36667&copyow
 nerid=19805
UID:cfp436884-A@wikicfp.com
END:VEVENT
BEGIN:VEVENT
DTSTAMP:20260419T211041Z
DTSTART;VALUE=DATE:20140807
SUMMARY:ASPLOS 2015 Deadline
DESCRIPTION:Architectural Support for Programming Languages and Operating
  Systems
URL:http://www.wikicfp.com/cfp/servlet/event.showcfp?eventid=36667&copyow
 nerid=19805
UID:cfp436884-D@wikicfp.com
END:VEVENT
END:VCALENDAR
