BEGIN:VCALENDAR
PRODID:-//WikiCFP//mathel 1.0//EN
VERSION:2.0
CALSCALE:GREGORIAN
BEGIN:VEVENT
DTSTAMP:20260421T192741Z
DTSTART;VALUE=DATE:20110921
DTEND;VALUE=DATE:20110924
SUMMARY:ICCCI 2011
DESCRIPTION:The 3rd International Conference on Computational Collective 
 Intelligence â Technologies and Applications
URL:http://www.wikicfp.com/cfp/servlet/event.showcfp?eventid=12501&copyow
 nerid=19701
UID:cfp135299-E@wikicfp.com
END:VEVENT
BEGIN:VEVENT
DTSTAMP:20260421T192741Z
DTSTART;VALUE=DATE:20110331
SUMMARY:ICCCI 2011 Deadline
DESCRIPTION:The 3rd International Conference on Computational Collective 
 Intelligence â Technologies and Applications
URL:http://www.wikicfp.com/cfp/servlet/event.showcfp?eventid=12501&copyow
 nerid=19701
UID:cfp135299-D@wikicfp.com
END:VEVENT
BEGIN:VEVENT
DTSTAMP:20260421T192741Z
DTSTART;VALUE=DATE:20110430
SUMMARY:ICCCI 2011 Notification Due
DESCRIPTION:The 3rd International Conference on Computational Collective 
 Intelligence â Technologies and Applications
URL:http://www.wikicfp.com/cfp/servlet/event.showcfp?eventid=12501&copyow
 nerid=19701
UID:cfp135299-N@wikicfp.com
END:VEVENT
BEGIN:VEVENT
DTSTAMP:20260421T192741Z
DTSTART;VALUE=DATE:20110515
SUMMARY:ICCCI 2011 Final Version Due
DESCRIPTION:The 3rd International Conference on Computational Collective 
 Intelligence â Technologies and Applications
URL:http://www.wikicfp.com/cfp/servlet/event.showcfp?eventid=12501&copyow
 nerid=19701
UID:cfp135299-N@wikicfp.com
END:VEVENT
BEGIN:VEVENT
DTSTAMP:20260421T192741Z
DTSTART;VALUE=DATE:20110623
DTEND;VALUE=DATE:20110626
SUMMARY:INES 2011
DESCRIPTION:15th IEEE International Conference on Intelligent Engineering
  Systems
URL:http://www.wikicfp.com/cfp/servlet/event.showcfp?eventid=11136&copyow
 nerid=19701
UID:cfp135296-E@wikicfp.com
END:VEVENT
BEGIN:VEVENT
DTSTAMP:20260421T192741Z
DTSTART;VALUE=DATE:20110415
SUMMARY:INES 2011 Deadline
DESCRIPTION:15th IEEE International Conference on Intelligent Engineering
  Systems
URL:http://www.wikicfp.com/cfp/servlet/event.showcfp?eventid=11136&copyow
 nerid=19701
UID:cfp135296-D@wikicfp.com
END:VEVENT
BEGIN:VEVENT
DTSTAMP:20260421T192741Z
DTSTART;VALUE=DATE:20110512
SUMMARY:INES 2011 Notification Due
DESCRIPTION:15th IEEE International Conference on Intelligent Engineering
  Systems
URL:http://www.wikicfp.com/cfp/servlet/event.showcfp?eventid=11136&copyow
 nerid=19701
UID:cfp135296-N@wikicfp.com
END:VEVENT
BEGIN:VEVENT
DTSTAMP:20260421T192741Z
DTSTART;VALUE=DATE:20110526
SUMMARY:INES 2011 Final Version Due
DESCRIPTION:15th IEEE International Conference on Intelligent Engineering
  Systems
URL:http://www.wikicfp.com/cfp/servlet/event.showcfp?eventid=11136&copyow
 nerid=19701
UID:cfp135296-N@wikicfp.com
END:VEVENT
BEGIN:VEVENT
DTSTAMP:20260421T192741Z
DTSTART;VALUE=DATE:20111024
DTEND;VALUE=DATE:20111027
SUMMARY:IJCCI 2011
DESCRIPTION:IJCCI- 3rd International Joint Conference on Computational In
 telligence
URL:http://www.wikicfp.com/cfp/servlet/event.showcfp?eventid=13230&copyow
 nerid=19701
UID:cfp135300-E@wikicfp.com
END:VEVENT
BEGIN:VEVENT
DTSTAMP:20260421T192741Z
DTSTART;VALUE=DATE:20110512
SUMMARY:IJCCI 2011 Deadline
DESCRIPTION:IJCCI- 3rd International Joint Conference on Computational In
 telligence
URL:http://www.wikicfp.com/cfp/servlet/event.showcfp?eventid=13230&copyow
 nerid=19701
UID:cfp135300-D@wikicfp.com
END:VEVENT
BEGIN:VEVENT
DTSTAMP:20260421T192741Z
DTSTART;VALUE=DATE:20110708
SUMMARY:IJCCI 2011 Notification Due
DESCRIPTION:IJCCI- 3rd International Joint Conference on Computational In
 telligence
URL:http://www.wikicfp.com/cfp/servlet/event.showcfp?eventid=13230&copyow
 nerid=19701
UID:cfp135300-N@wikicfp.com
END:VEVENT
BEGIN:VEVENT
DTSTAMP:20260421T192741Z
DTSTART;VALUE=DATE:20110727
SUMMARY:IJCCI 2011 Final Version Due
DESCRIPTION:IJCCI- 3rd International Joint Conference on Computational In
 telligence
URL:http://www.wikicfp.com/cfp/servlet/event.showcfp?eventid=13230&copyow
 nerid=19701
UID:cfp135300-N@wikicfp.com
END:VEVENT
BEGIN:VEVENT
DTSTAMP:20260421T192741Z
DTSTART;VALUE=DATE:20111029
DTEND;VALUE=DATE:20111101
SUMMARY:IDA 2011
DESCRIPTION:The 10th International Symposium on Intelligent Data Analysis
 
URL:http://www.wikicfp.com/cfp/servlet/event.showcfp?eventid=12443&copyow
 nerid=19701
UID:cfp135298-E@wikicfp.com
END:VEVENT
BEGIN:VEVENT
DTSTAMP:20260421T192741Z
DTSTART;VALUE=DATE:20110514
SUMMARY:IDA 2011 Deadline
DESCRIPTION:The 10th International Symposium on Intelligent Data Analysis
 
URL:http://www.wikicfp.com/cfp/servlet/event.showcfp?eventid=12443&copyow
 nerid=19701
UID:cfp135298-D@wikicfp.com
END:VEVENT
BEGIN:VEVENT
DTSTAMP:20260421T192741Z
DTSTART;VALUE=DATE:20110713
SUMMARY:IDA 2011 Notification Due
DESCRIPTION:The 10th International Symposium on Intelligent Data Analysis
 
URL:http://www.wikicfp.com/cfp/servlet/event.showcfp?eventid=12443&copyow
 nerid=19701
UID:cfp135298-N@wikicfp.com
END:VEVENT
BEGIN:VEVENT
DTSTAMP:20260421T192741Z
DTSTART;VALUE=DATE:20110813
SUMMARY:IDA 2011 Final Version Due
DESCRIPTION:The 10th International Symposium on Intelligent Data Analysis
 
URL:http://www.wikicfp.com/cfp/servlet/event.showcfp?eventid=12443&copyow
 nerid=19701
UID:cfp135298-N@wikicfp.com
END:VEVENT
BEGIN:VEVENT
DTSTAMP:20260421T192741Z
DTSTART;VALUE=DATE:20110906
DTEND;VALUE=DATE:20110909
SUMMARY:ICAIS 2011
DESCRIPTION:2011 International Conference on Adaptive and Intelligent Sys
 tems
URL:http://www.wikicfp.com/cfp/servlet/event.showcfp?eventid=12034&copyow
 nerid=19701
UID:cfp135297-E@wikicfp.com
END:VEVENT
BEGIN:VEVENT
DTSTAMP:20260421T192741Z
DTSTART;VALUE=DATE:20110610
SUMMARY:ICAIS 2011 Deadline
DESCRIPTION:2011 International Conference on Adaptive and Intelligent Sys
 tems
URL:http://www.wikicfp.com/cfp/servlet/event.showcfp?eventid=12034&copyow
 nerid=19701
UID:cfp135297-D@wikicfp.com
END:VEVENT
BEGIN:VEVENT
DTSTAMP:20260421T192741Z
DTSTART;VALUE=DATE:20110708
SUMMARY:ICAIS 2011 Notification Due
DESCRIPTION:2011 International Conference on Adaptive and Intelligent Sys
 tems
URL:http://www.wikicfp.com/cfp/servlet/event.showcfp?eventid=12034&copyow
 nerid=19701
UID:cfp135297-N@wikicfp.com
END:VEVENT
BEGIN:VEVENT
DTSTAMP:20260421T192741Z
DTSTART;VALUE=DATE:20110718
SUMMARY:ICAIS 2011 Final Version Due
DESCRIPTION:2011 International Conference on Adaptive and Intelligent Sys
 tems
URL:http://www.wikicfp.com/cfp/servlet/event.showcfp?eventid=12034&copyow
 nerid=19701
UID:cfp135297-N@wikicfp.com
END:VEVENT
END:VCALENDAR
