BEGIN:VCALENDAR
PRODID:-//WikiCFP//raedit 1.0//EN
VERSION:2.0
CALSCALE:GREGORIAN
BEGIN:VEVENT
DTSTAMP:20260424T024501Z
DTSTART;VALUE=DATE:20110727
DTEND;VALUE=DATE:20110730
SUMMARY:PETS 2011
DESCRIPTION:11th Privacy Enhancing Technologies Symposium
URL:http://www.wikicfp.com/cfp/servlet/event.showcfp?eventid=12667&copyow
 nerid=19666
UID:cfp135087-E@wikicfp.com
END:VEVENT
BEGIN:VEVENT
DTSTAMP:20260424T024501Z
DTSTART;VALUE=DATE:20110228
SUMMARY:PETS 2011 Deadline
DESCRIPTION:11th Privacy Enhancing Technologies Symposium
URL:http://www.wikicfp.com/cfp/servlet/event.showcfp?eventid=12667&copyow
 nerid=19666
UID:cfp135087-D@wikicfp.com
END:VEVENT
BEGIN:VEVENT
DTSTAMP:20260424T024501Z
DTSTART;VALUE=DATE:20110411
SUMMARY:PETS 2011 Notification Due
DESCRIPTION:11th Privacy Enhancing Technologies Symposium
URL:http://www.wikicfp.com/cfp/servlet/event.showcfp?eventid=12667&copyow
 nerid=19666
UID:cfp135087-N@wikicfp.com
END:VEVENT
BEGIN:VEVENT
DTSTAMP:20260424T024501Z
DTSTART;VALUE=DATE:20110509
SUMMARY:PETS 2011 Final Version Due
DESCRIPTION:11th Privacy Enhancing Technologies Symposium
URL:http://www.wikicfp.com/cfp/servlet/event.showcfp?eventid=12667&copyow
 nerid=19666
UID:cfp135087-N@wikicfp.com
END:VEVENT
BEGIN:VEVENT
DTSTAMP:20260424T024501Z
DTSTART;VALUE=DATE:20110722
DTEND;VALUE=DATE:20110725
SUMMARY:IWTMP2PS  2011
DESCRIPTION:Second International Workshop on Trust Management in P2P Syst
 ems 
URL:http://www.wikicfp.com/cfp/servlet/event.showcfp?eventid=11804&copyow
 nerid=19666
UID:cfp135074-E@wikicfp.com
END:VEVENT
BEGIN:VEVENT
DTSTAMP:20260424T024501Z
DTSTART;VALUE=DATE:20110301
SUMMARY:IWTMP2PS  2011 Deadline
DESCRIPTION:Second International Workshop on Trust Management in P2P Syst
 ems 
URL:http://www.wikicfp.com/cfp/servlet/event.showcfp?eventid=11804&copyow
 nerid=19666
UID:cfp135074-D@wikicfp.com
END:VEVENT
BEGIN:VEVENT
DTSTAMP:20260424T024501Z
DTSTART;VALUE=DATE:20110410
SUMMARY:IWTMP2PS  2011 Notification Due
DESCRIPTION:Second International Workshop on Trust Management in P2P Syst
 ems 
URL:http://www.wikicfp.com/cfp/servlet/event.showcfp?eventid=11804&copyow
 nerid=19666
UID:cfp135074-N@wikicfp.com
END:VEVENT
BEGIN:VEVENT
DTSTAMP:20260424T024501Z
DTSTART;VALUE=DATE:20110501
SUMMARY:IWTMP2PS  2011 Final Version Due
DESCRIPTION:Second International Workshop on Trust Management in P2P Syst
 ems 
URL:http://www.wikicfp.com/cfp/servlet/event.showcfp?eventid=11804&copyow
 nerid=19666
UID:cfp135074-N@wikicfp.com
END:VEVENT
BEGIN:VEVENT
DTSTAMP:20260424T024501Z
DTSTART;VALUE=DATE:20110301
SUMMARY:IJAACS  2011 Deadline
DESCRIPTION:Special issue âRecent Advances in Wireless Sensor Networks:
  Trust\, Reputation\, Security and Privacyâ of the Inderscience journa
 l of IJAACS 
URL:http://www.wikicfp.com/cfp/servlet/event.showcfp?eventid=12057&copyow
 nerid=19666
UID:cfp135077-D@wikicfp.com
END:VEVENT
BEGIN:VEVENT
DTSTAMP:20260424T024501Z
DTSTART;VALUE=DATE:20110701
SUMMARY:IJAACS  2011 Notification Due
DESCRIPTION:Special issue âRecent Advances in Wireless Sensor Networks:
  Trust\, Reputation\, Security and Privacyâ of the Inderscience journa
 l of IJAACS 
URL:http://www.wikicfp.com/cfp/servlet/event.showcfp?eventid=12057&copyow
 nerid=19666
UID:cfp135077-N@wikicfp.com
END:VEVENT
BEGIN:VEVENT
DTSTAMP:20260424T024501Z
DTSTART;VALUE=DATE:20110710
SUMMARY:IJAACS  2011 Final Version Due
DESCRIPTION:Special issue âRecent Advances in Wireless Sensor Networks:
  Trust\, Reputation\, Security and Privacyâ of the Inderscience journa
 l of IJAACS 
URL:http://www.wikicfp.com/cfp/servlet/event.showcfp?eventid=12057&copyow
 nerid=19666
UID:cfp135077-N@wikicfp.com
END:VEVENT
BEGIN:VEVENT
DTSTAMP:20260424T024501Z
DTSTART;VALUE=DATE:20110722
DTEND;VALUE=DATE:20110725
SUMMARY:IT-CoTeS 2011
DESCRIPTION:Second International Workshop on Intelligent Technologies for
  Counter Terrorism and Security  (IT-CoTeS)
URL:http://www.wikicfp.com/cfp/servlet/event.showcfp?eventid=12497&copyow
 nerid=19666
UID:cfp135084-E@wikicfp.com
END:VEVENT
BEGIN:VEVENT
DTSTAMP:20260424T024501Z
DTSTART;VALUE=DATE:20110301
SUMMARY:IT-CoTeS 2011 Deadline
DESCRIPTION:Second International Workshop on Intelligent Technologies for
  Counter Terrorism and Security  (IT-CoTeS)
URL:http://www.wikicfp.com/cfp/servlet/event.showcfp?eventid=12497&copyow
 nerid=19666
UID:cfp135084-D@wikicfp.com
END:VEVENT
BEGIN:VEVENT
DTSTAMP:20260424T024501Z
DTSTART;VALUE=DATE:20110415
SUMMARY:IT-CoTeS 2011 Notification Due
DESCRIPTION:Second International Workshop on Intelligent Technologies for
  Counter Terrorism and Security  (IT-CoTeS)
URL:http://www.wikicfp.com/cfp/servlet/event.showcfp?eventid=12497&copyow
 nerid=19666
UID:cfp135084-N@wikicfp.com
END:VEVENT
BEGIN:VEVENT
DTSTAMP:20260424T024501Z
DTSTART;VALUE=DATE:20110501
SUMMARY:IT-CoTeS 2011 Final Version Due
DESCRIPTION:Second International Workshop on Intelligent Technologies for
  Counter Terrorism and Security  (IT-CoTeS)
URL:http://www.wikicfp.com/cfp/servlet/event.showcfp?eventid=12497&copyow
 nerid=19666
UID:cfp135084-N@wikicfp.com
END:VEVENT
BEGIN:VEVENT
DTSTAMP:20260424T024501Z
DTSTART;VALUE=DATE:20110824
DTEND;VALUE=DATE:20110827
SUMMARY:ICGS3 2011
DESCRIPTION: 7th International Conference on Global Security\, Safety & S
 ustainability
URL:http://www.wikicfp.com/cfp/servlet/event.showcfp?eventid=13617&copyow
 nerid=19666
UID:cfp135092-E@wikicfp.com
END:VEVENT
BEGIN:VEVENT
DTSTAMP:20260424T024501Z
DTSTART;VALUE=DATE:20110307
SUMMARY:ICGS3 2011 Deadline
DESCRIPTION: 7th International Conference on Global Security\, Safety & S
 ustainability
URL:http://www.wikicfp.com/cfp/servlet/event.showcfp?eventid=13617&copyow
 nerid=19666
UID:cfp135092-D@wikicfp.com
END:VEVENT
BEGIN:VEVENT
DTSTAMP:20260424T024501Z
DTSTART;VALUE=DATE:20110429
SUMMARY:ICGS3 2011 Notification Due
DESCRIPTION: 7th International Conference on Global Security\, Safety & S
 ustainability
URL:http://www.wikicfp.com/cfp/servlet/event.showcfp?eventid=13617&copyow
 nerid=19666
UID:cfp135092-N@wikicfp.com
END:VEVENT
BEGIN:VEVENT
DTSTAMP:20260424T024501Z
DTSTART;VALUE=DATE:20110528
SUMMARY:ICGS3 2011 Final Version Due
DESCRIPTION: 7th International Conference on Global Security\, Safety & S
 ustainability
URL:http://www.wikicfp.com/cfp/servlet/event.showcfp?eventid=13617&copyow
 nerid=19666
UID:cfp135092-N@wikicfp.com
END:VEVENT
BEGIN:VEVENT
DTSTAMP:20260424T024501Z
DTSTART;VALUE=DATE:20011019
DTEND;VALUE=DATE:20011022
SUMMARY:CMS 2011
DESCRIPTION:12th Conference in the Communications and Multimedia Security
 
URL:http://www.wikicfp.com/cfp/servlet/event.showcfp?eventid=12264&copyow
 nerid=19666
UID:cfp135081-E@wikicfp.com
END:VEVENT
BEGIN:VEVENT
DTSTAMP:20260424T024501Z
DTSTART;VALUE=DATE:20110318
SUMMARY:CMS 2011 Deadline
DESCRIPTION:12th Conference in the Communications and Multimedia Security
 
URL:http://www.wikicfp.com/cfp/servlet/event.showcfp?eventid=12264&copyow
 nerid=19666
UID:cfp135081-D@wikicfp.com
END:VEVENT
BEGIN:VEVENT
DTSTAMP:20260424T024501Z
DTSTART;VALUE=DATE:20110521
SUMMARY:CMS 2011 Notification Due
DESCRIPTION:12th Conference in the Communications and Multimedia Security
 
URL:http://www.wikicfp.com/cfp/servlet/event.showcfp?eventid=12264&copyow
 nerid=19666
UID:cfp135081-N@wikicfp.com
END:VEVENT
BEGIN:VEVENT
DTSTAMP:20260424T024501Z
DTSTART;VALUE=DATE:20110617
SUMMARY:CMS 2011 Final Version Due
DESCRIPTION:12th Conference in the Communications and Multimedia Security
 
URL:http://www.wikicfp.com/cfp/servlet/event.showcfp?eventid=12264&copyow
 nerid=19666
UID:cfp135081-N@wikicfp.com
END:VEVENT
BEGIN:VEVENT
DTSTAMP:20260424T024501Z
DTSTART;VALUE=DATE:20111019
DTEND;VALUE=DATE:20111022
SUMMARY:CMS 2011
DESCRIPTION:12th Joint IFIP TC6 and TC11 Conference on Communications and
  Multimedia Security
URL:http://www.wikicfp.com/cfp/servlet/event.showcfp?eventid=12294&copyow
 nerid=19666
UID:cfp135082-E@wikicfp.com
END:VEVENT
BEGIN:VEVENT
DTSTAMP:20260424T024501Z
DTSTART;VALUE=DATE:20110318
SUMMARY:CMS 2011 Deadline
DESCRIPTION:12th Joint IFIP TC6 and TC11 Conference on Communications and
  Multimedia Security
URL:http://www.wikicfp.com/cfp/servlet/event.showcfp?eventid=12294&copyow
 nerid=19666
UID:cfp135082-D@wikicfp.com
END:VEVENT
BEGIN:VEVENT
DTSTAMP:20260424T024501Z
DTSTART;VALUE=DATE:20100521
SUMMARY:CMS 2011 Notification Due
DESCRIPTION:12th Joint IFIP TC6 and TC11 Conference on Communications and
  Multimedia Security
URL:http://www.wikicfp.com/cfp/servlet/event.showcfp?eventid=12294&copyow
 nerid=19666
UID:cfp135082-N@wikicfp.com
END:VEVENT
BEGIN:VEVENT
DTSTAMP:20260424T024501Z
DTSTART;VALUE=DATE:20100617
SUMMARY:CMS 2011 Final Version Due
DESCRIPTION:12th Joint IFIP TC6 and TC11 Conference on Communications and
  Multimedia Security
URL:http://www.wikicfp.com/cfp/servlet/event.showcfp?eventid=12294&copyow
 nerid=19666
UID:cfp135082-N@wikicfp.com
END:VEVENT
BEGIN:VEVENT
DTSTAMP:20260424T024501Z
DTSTART;VALUE=DATE:20110627
DTEND;VALUE=DATE:20110629
SUMMARY:STM 2011
DESCRIPTION:7th International Workshop on  SECURITY and TRUST MANAGEMENT 
 
URL:http://www.wikicfp.com/cfp/servlet/event.showcfp?eventid=13401&copyow
 nerid=19666
UID:cfp135089-E@wikicfp.com
END:VEVENT
BEGIN:VEVENT
DTSTAMP:20260424T024501Z
DTSTART;VALUE=DATE:20110318
SUMMARY:STM 2011 Deadline
DESCRIPTION:7th International Workshop on  SECURITY and TRUST MANAGEMENT 
 
URL:http://www.wikicfp.com/cfp/servlet/event.showcfp?eventid=13401&copyow
 nerid=19666
UID:cfp135089-D@wikicfp.com
END:VEVENT
BEGIN:VEVENT
DTSTAMP:20260424T024501Z
DTSTART;VALUE=DATE:20110505
SUMMARY:STM 2011 Notification Due
DESCRIPTION:7th International Workshop on  SECURITY and TRUST MANAGEMENT 
 
URL:http://www.wikicfp.com/cfp/servlet/event.showcfp?eventid=13401&copyow
 nerid=19666
UID:cfp135089-N@wikicfp.com
END:VEVENT
BEGIN:VEVENT
DTSTAMP:20260424T024501Z
DTSTART;VALUE=DATE:20110527
SUMMARY:STM 2011 Final Version Due
DESCRIPTION:7th International Workshop on  SECURITY and TRUST MANAGEMENT 
 
URL:http://www.wikicfp.com/cfp/servlet/event.showcfp?eventid=13401&copyow
 nerid=19666
UID:cfp135089-N@wikicfp.com
END:VEVENT
BEGIN:VEVENT
DTSTAMP:20260424T024501Z
DTSTART;VALUE=DATE:20110919
DTEND;VALUE=DATE:20110922
SUMMARY:SAFECOMP 2011
DESCRIPTION:The 30th International Conference on Computer Safety\, Reliab
 ility and Security
URL:http://www.wikicfp.com/cfp/servlet/event.showcfp?eventid=11885&copyow
 nerid=19666
UID:cfp135075-E@wikicfp.com
END:VEVENT
BEGIN:VEVENT
DTSTAMP:20260424T024501Z
DTSTART;VALUE=DATE:20110321
SUMMARY:SAFECOMP 2011 Deadline
DESCRIPTION:The 30th International Conference on Computer Safety\, Reliab
 ility and Security
URL:http://www.wikicfp.com/cfp/servlet/event.showcfp?eventid=11885&copyow
 nerid=19666
UID:cfp135075-D@wikicfp.com
END:VEVENT
BEGIN:VEVENT
DTSTAMP:20260424T024501Z
DTSTART;VALUE=DATE:20110509
SUMMARY:SAFECOMP 2011 Notification Due
DESCRIPTION:The 30th International Conference on Computer Safety\, Reliab
 ility and Security
URL:http://www.wikicfp.com/cfp/servlet/event.showcfp?eventid=11885&copyow
 nerid=19666
UID:cfp135075-N@wikicfp.com
END:VEVENT
BEGIN:VEVENT
DTSTAMP:20260424T024501Z
DTSTART;VALUE=DATE:20110613
SUMMARY:SAFECOMP 2011 Final Version Due
DESCRIPTION:The 30th International Conference on Computer Safety\, Reliab
 ility and Security
URL:http://www.wikicfp.com/cfp/servlet/event.showcfp?eventid=11885&copyow
 nerid=19666
UID:cfp135075-N@wikicfp.com
END:VEVENT
BEGIN:VEVENT
DTSTAMP:20260424T024501Z
DTSTART;VALUE=DATE:20110821
DTEND;VALUE=DATE:20110828
SUMMARY:SECURWARE 2011
DESCRIPTION:The Fifth International Conference on Emerging Security Infor
 mation\, Systems and Technologies 2011
URL:http://www.wikicfp.com/cfp/servlet/event.showcfp?eventid=12227&copyow
 nerid=19666
UID:cfp135080-E@wikicfp.com
END:VEVENT
BEGIN:VEVENT
DTSTAMP:20260424T024501Z
DTSTART;VALUE=DATE:20110323
SUMMARY:SECURWARE 2011 Deadline
DESCRIPTION:The Fifth International Conference on Emerging Security Infor
 mation\, Systems and Technologies 2011
URL:http://www.wikicfp.com/cfp/servlet/event.showcfp?eventid=12227&copyow
 nerid=19666
UID:cfp135080-D@wikicfp.com
END:VEVENT
BEGIN:VEVENT
DTSTAMP:20260424T024501Z
DTSTART;VALUE=DATE:20110430
SUMMARY:SECURWARE 2011 Notification Due
DESCRIPTION:The Fifth International Conference on Emerging Security Infor
 mation\, Systems and Technologies 2011
URL:http://www.wikicfp.com/cfp/servlet/event.showcfp?eventid=12227&copyow
 nerid=19666
UID:cfp135080-N@wikicfp.com
END:VEVENT
BEGIN:VEVENT
DTSTAMP:20260424T024501Z
DTSTART;VALUE=DATE:20110522
SUMMARY:SECURWARE 2011 Final Version Due
DESCRIPTION:The Fifth International Conference on Emerging Security Infor
 mation\, Systems and Technologies 2011
URL:http://www.wikicfp.com/cfp/servlet/event.showcfp?eventid=12227&copyow
 nerid=19666
UID:cfp135080-N@wikicfp.com
END:VEVENT
BEGIN:VEVENT
DTSTAMP:20260424T024501Z
DTSTART;VALUE=DATE:20101025
DTEND;VALUE=DATE:20111001
SUMMARY:RSRS-BOOK 2012
DESCRIPTION:CALL FOR BOOK CHAPTERS: Railway Safety\, Reliability and Secu
 rity: Technologies and Systems Engineering (IGI Global)
URL:http://www.wikicfp.com/cfp/servlet/event.showcfp?eventid=12147&copyow
 nerid=19666
UID:cfp135079-E@wikicfp.com
END:VEVENT
BEGIN:VEVENT
DTSTAMP:20260424T024501Z
DTSTART;VALUE=DATE:20101125
SUMMARY:RSRS-BOOK 2012 Abstract Due
DESCRIPTION:CALL FOR BOOK CHAPTERS: Railway Safety\, Reliability and Secu
 rity: Technologies and Systems Engineering (IGI Global)
URL:http://www.wikicfp.com/cfp/servlet/event.showcfp?eventid=12147&copyow
 nerid=19666
UID:cfp135079-A@wikicfp.com
END:VEVENT
BEGIN:VEVENT
DTSTAMP:20260424T024501Z
DTSTART;VALUE=DATE:20110325
SUMMARY:RSRS-BOOK 2012 Deadline
DESCRIPTION:CALL FOR BOOK CHAPTERS: Railway Safety\, Reliability and Secu
 rity: Technologies and Systems Engineering (IGI Global)
URL:http://www.wikicfp.com/cfp/servlet/event.showcfp?eventid=12147&copyow
 nerid=19666
UID:cfp135079-D@wikicfp.com
END:VEVENT
BEGIN:VEVENT
DTSTAMP:20260424T024501Z
DTSTART;VALUE=DATE:20110610
SUMMARY:RSRS-BOOK 2012 Notification Due
DESCRIPTION:CALL FOR BOOK CHAPTERS: Railway Safety\, Reliability and Secu
 rity: Technologies and Systems Engineering (IGI Global)
URL:http://www.wikicfp.com/cfp/servlet/event.showcfp?eventid=12147&copyow
 nerid=19666
UID:cfp135079-N@wikicfp.com
END:VEVENT
BEGIN:VEVENT
DTSTAMP:20260424T024501Z
DTSTART;VALUE=DATE:20110807
SUMMARY:RSRS-BOOK 2012 Final Version Due
DESCRIPTION:CALL FOR BOOK CHAPTERS: Railway Safety\, Reliability and Secu
 rity: Technologies and Systems Engineering (IGI Global)
URL:http://www.wikicfp.com/cfp/servlet/event.showcfp?eventid=12147&copyow
 nerid=19666
UID:cfp135079-N@wikicfp.com
END:VEVENT
BEGIN:VEVENT
DTSTAMP:20260424T024501Z
DTSTART;VALUE=DATE:20110921
DTEND;VALUE=DATE:20110924
SUMMARY:e-Smart 2011
DESCRIPTION:12th Conference on the Future of Digital Security Technologie
 s - Part of SMart Event
URL:http://www.wikicfp.com/cfp/servlet/event.showcfp?eventid=13613&copyow
 nerid=19666
UID:cfp135091-E@wikicfp.com
END:VEVENT
BEGIN:VEVENT
DTSTAMP:20260424T024501Z
DTSTART;VALUE=DATE:20110331
SUMMARY:e-Smart 2011 Deadline
DESCRIPTION:12th Conference on the Future of Digital Security Technologie
 s - Part of SMart Event
URL:http://www.wikicfp.com/cfp/servlet/event.showcfp?eventid=13613&copyow
 nerid=19666
UID:cfp135091-D@wikicfp.com
END:VEVENT
BEGIN:VEVENT
DTSTAMP:20260424T024501Z
DTSTART;VALUE=DATE:20110523
SUMMARY:e-Smart 2011 Notification Due
DESCRIPTION:12th Conference on the Future of Digital Security Technologie
 s - Part of SMart Event
URL:http://www.wikicfp.com/cfp/servlet/event.showcfp?eventid=13613&copyow
 nerid=19666
UID:cfp135091-N@wikicfp.com
END:VEVENT
BEGIN:VEVENT
DTSTAMP:20260424T024501Z
DTSTART;VALUE=DATE:20110831
SUMMARY:e-Smart 2011 Final Version Due
DESCRIPTION:12th Conference on the Future of Digital Security Technologie
 s - Part of SMart Event
URL:http://www.wikicfp.com/cfp/servlet/event.showcfp?eventid=13613&copyow
 nerid=19666
UID:cfp135091-N@wikicfp.com
END:VEVENT
BEGIN:VEVENT
DTSTAMP:20260424T024501Z
DTSTART;VALUE=DATE:20110719
DTEND;VALUE=DATE:20110722
SUMMARY:PST 2011
DESCRIPTION:9th International Conference on Privacy\, Security and Trust
URL:http://www.wikicfp.com/cfp/servlet/event.showcfp?eventid=12005&copyow
 nerid=19666
UID:cfp135076-E@wikicfp.com
END:VEVENT
BEGIN:VEVENT
DTSTAMP:20260424T024501Z
DTSTART;VALUE=DATE:20110403
SUMMARY:PST 2011 Deadline
DESCRIPTION:9th International Conference on Privacy\, Security and Trust
URL:http://www.wikicfp.com/cfp/servlet/event.showcfp?eventid=12005&copyow
 nerid=19666
UID:cfp135076-D@wikicfp.com
END:VEVENT
BEGIN:VEVENT
DTSTAMP:20260424T024501Z
DTSTART;VALUE=DATE:20110516
SUMMARY:PST 2011 Notification Due
DESCRIPTION:9th International Conference on Privacy\, Security and Trust
URL:http://www.wikicfp.com/cfp/servlet/event.showcfp?eventid=12005&copyow
 nerid=19666
UID:cfp135076-N@wikicfp.com
END:VEVENT
BEGIN:VEVENT
DTSTAMP:20260424T024501Z
DTSTART;VALUE=DATE:20110522
SUMMARY:PST 2011 Final Version Due
DESCRIPTION:9th International Conference on Privacy\, Security and Trust
URL:http://www.wikicfp.com/cfp/servlet/event.showcfp?eventid=12005&copyow
 nerid=19666
UID:cfp135076-N@wikicfp.com
END:VEVENT
BEGIN:VEVENT
DTSTAMP:20260424T024501Z
DTSTART;VALUE=DATE:20110912
DTEND;VALUE=DATE:20110916
SUMMARY:NSPW 2011
DESCRIPTION:New Security Paradigms Workshop
URL:http://www.wikicfp.com/cfp/servlet/event.showcfp?eventid=12734&copyow
 nerid=19666
UID:cfp135088-E@wikicfp.com
END:VEVENT
BEGIN:VEVENT
DTSTAMP:20260424T024501Z
DTSTART;VALUE=DATE:20110404
SUMMARY:NSPW 2011 Deadline
DESCRIPTION:New Security Paradigms Workshop
URL:http://www.wikicfp.com/cfp/servlet/event.showcfp?eventid=12734&copyow
 nerid=19666
UID:cfp135088-D@wikicfp.com
END:VEVENT
BEGIN:VEVENT
DTSTAMP:20260424T024501Z
DTSTART;VALUE=DATE:20110603
SUMMARY:NSPW 2011 Notification Due
DESCRIPTION:New Security Paradigms Workshop
URL:http://www.wikicfp.com/cfp/servlet/event.showcfp?eventid=12734&copyow
 nerid=19666
UID:cfp135088-N@wikicfp.com
END:VEVENT
BEGIN:VEVENT
DTSTAMP:20260424T024501Z
DTSTART;VALUE=DATE:20110801
SUMMARY:NSPW 2011 Final Version Due
DESCRIPTION:New Security Paradigms Workshop
URL:http://www.wikicfp.com/cfp/servlet/event.showcfp?eventid=12734&copyow
 nerid=19666
UID:cfp135088-N@wikicfp.com
END:VEVENT
BEGIN:VEVENT
DTSTAMP:20260424T024501Z
DTSTART;VALUE=DATE:20111004
DTEND;VALUE=DATE:20111008
SUMMARY:LCN 2011
DESCRIPTION:IEEE 36th Conference on Local Computer Networks
URL:http://www.wikicfp.com/cfp/servlet/event.showcfp?eventid=12069&copyow
 nerid=19666
UID:cfp135078-E@wikicfp.com
END:VEVENT
BEGIN:VEVENT
DTSTAMP:20260424T024501Z
DTSTART;VALUE=DATE:20110405
SUMMARY:LCN 2011 Abstract Due
DESCRIPTION:IEEE 36th Conference on Local Computer Networks
URL:http://www.wikicfp.com/cfp/servlet/event.showcfp?eventid=12069&copyow
 nerid=19666
UID:cfp135078-A@wikicfp.com
END:VEVENT
BEGIN:VEVENT
DTSTAMP:20260424T024501Z
DTSTART;VALUE=DATE:20110412
SUMMARY:LCN 2011 Deadline
DESCRIPTION:IEEE 36th Conference on Local Computer Networks
URL:http://www.wikicfp.com/cfp/servlet/event.showcfp?eventid=12069&copyow
 nerid=19666
UID:cfp135078-D@wikicfp.com
END:VEVENT
BEGIN:VEVENT
DTSTAMP:20260424T024501Z
DTSTART;VALUE=DATE:20110630
SUMMARY:LCN 2011 Notification Due
DESCRIPTION:IEEE 36th Conference on Local Computer Networks
URL:http://www.wikicfp.com/cfp/servlet/event.showcfp?eventid=12069&copyow
 nerid=19666
UID:cfp135078-N@wikicfp.com
END:VEVENT
BEGIN:VEVENT
DTSTAMP:20260424T024501Z
DTSTART;VALUE=DATE:20110728
SUMMARY:LCN 2011 Final Version Due
DESCRIPTION:IEEE 36th Conference on Local Computer Networks
URL:http://www.wikicfp.com/cfp/servlet/event.showcfp?eventid=12069&copyow
 nerid=19666
UID:cfp135078-N@wikicfp.com
END:VEVENT
BEGIN:VEVENT
DTSTAMP:20260424T024501Z
DTSTART;VALUE=DATE:20110415
SUMMARY:ProtectIoT-SCN 2011 Deadline
DESCRIPTION:Protecting the Internet of Things: Special Issue of Journal o
 f Security and Communication Networks (Wiley)
URL:http://www.wikicfp.com/cfp/servlet/event.showcfp?eventid=12361&copyow
 nerid=19666
UID:cfp135083-D@wikicfp.com
END:VEVENT
BEGIN:VEVENT
DTSTAMP:20260424T024501Z
DTSTART;VALUE=DATE:20110527
DTEND;VALUE=DATE:20110531
SUMMARY:GSBCSR 2011
DESCRIPTION:6th Silk Road International Conferenceon  Globalization and S
 ecurity in Black and Caspian Seas Region
URL:http://www.wikicfp.com/cfp/servlet/event.showcfp?eventid=13409&copyow
 nerid=19666
UID:cfp135090-E@wikicfp.com
END:VEVENT
BEGIN:VEVENT
DTSTAMP:20260424T024501Z
DTSTART;VALUE=DATE:20110301
SUMMARY:GSBCSR 2011 Abstract Due
DESCRIPTION:6th Silk Road International Conferenceon  Globalization and S
 ecurity in Black and Caspian Seas Region
URL:http://www.wikicfp.com/cfp/servlet/event.showcfp?eventid=13409&copyow
 nerid=19666
UID:cfp135090-A@wikicfp.com
END:VEVENT
BEGIN:VEVENT
DTSTAMP:20260424T024501Z
DTSTART;VALUE=DATE:20110501
SUMMARY:GSBCSR 2011 Deadline
DESCRIPTION:6th Silk Road International Conferenceon  Globalization and S
 ecurity in Black and Caspian Seas Region
URL:http://www.wikicfp.com/cfp/servlet/event.showcfp?eventid=13409&copyow
 nerid=19666
UID:cfp135090-D@wikicfp.com
END:VEVENT
BEGIN:VEVENT
DTSTAMP:20260424T024501Z
DTSTART;VALUE=DATE:20110501
SUMMARY:GSBCSR 2011 Notification Due
DESCRIPTION:6th Silk Road International Conferenceon  Globalization and S
 ecurity in Black and Caspian Seas Region
URL:http://www.wikicfp.com/cfp/servlet/event.showcfp?eventid=13409&copyow
 nerid=19666
UID:cfp135090-N@wikicfp.com
END:VEVENT
BEGIN:VEVENT
DTSTAMP:20260424T024501Z
DTSTART;VALUE=DATE:20110510
SUMMARY:GSBCSR 2011 Final Version Due
DESCRIPTION:6th Silk Road International Conferenceon  Globalization and S
 ecurity in Black and Caspian Seas Region
URL:http://www.wikicfp.com/cfp/servlet/event.showcfp?eventid=13409&copyow
 nerid=19666
UID:cfp135090-N@wikicfp.com
END:VEVENT
BEGIN:VEVENT
DTSTAMP:20260424T024501Z
DTSTART;VALUE=DATE:20111114
DTEND;VALUE=DATE:20111118
SUMMARY:ISSRE 2011
DESCRIPTION:22nd annual International Symposium on Software Reliability E
 ngineering
URL:http://www.wikicfp.com/cfp/servlet/event.showcfp?eventid=12507&copyow
 nerid=19666
UID:cfp135085-E@wikicfp.com
END:VEVENT
BEGIN:VEVENT
DTSTAMP:20260424T024501Z
DTSTART;VALUE=DATE:20110501
SUMMARY:ISSRE 2011 Abstract Due
DESCRIPTION:22nd annual International Symposium on Software Reliability E
 ngineering
URL:http://www.wikicfp.com/cfp/servlet/event.showcfp?eventid=12507&copyow
 nerid=19666
UID:cfp135085-A@wikicfp.com
END:VEVENT
BEGIN:VEVENT
DTSTAMP:20260424T024501Z
DTSTART;VALUE=DATE:20110510
SUMMARY:ISSRE 2011 Deadline
DESCRIPTION:22nd annual International Symposium on Software Reliability E
 ngineering
URL:http://www.wikicfp.com/cfp/servlet/event.showcfp?eventid=12507&copyow
 nerid=19666
UID:cfp135085-D@wikicfp.com
END:VEVENT
BEGIN:VEVENT
DTSTAMP:20260424T024501Z
DTSTART;VALUE=DATE:20111031
DTEND;VALUE=DATE:20111106
SUMMARY:SSRR 2011
DESCRIPTION:IEEE International Symposium on Safety\, Security\, and Rescu
 e Robotics
URL:http://www.wikicfp.com/cfp/servlet/event.showcfp?eventid=11069&copyow
 nerid=19666
UID:cfp135073-E@wikicfp.com
END:VEVENT
BEGIN:VEVENT
DTSTAMP:20260424T024501Z
DTSTART;VALUE=DATE:20110630
SUMMARY:SSRR 2011 Deadline
DESCRIPTION:IEEE International Symposium on Safety\, Security\, and Rescu
 e Robotics
URL:http://www.wikicfp.com/cfp/servlet/event.showcfp?eventid=11069&copyow
 nerid=19666
UID:cfp135073-D@wikicfp.com
END:VEVENT
BEGIN:VEVENT
DTSTAMP:20260424T024501Z
DTSTART;VALUE=DATE:20110731
SUMMARY:SSRR 2011 Notification Due
DESCRIPTION:IEEE International Symposium on Safety\, Security\, and Rescu
 e Robotics
URL:http://www.wikicfp.com/cfp/servlet/event.showcfp?eventid=11069&copyow
 nerid=19666
UID:cfp135073-N@wikicfp.com
END:VEVENT
BEGIN:VEVENT
DTSTAMP:20260424T024501Z
DTSTART;VALUE=DATE:20110831
SUMMARY:SSRR 2011 Final Version Due
DESCRIPTION:IEEE International Symposium on Safety\, Security\, and Rescu
 e Robotics
URL:http://www.wikicfp.com/cfp/servlet/event.showcfp?eventid=11069&copyow
 nerid=19666
UID:cfp135073-N@wikicfp.com
END:VEVENT
BEGIN:VEVENT
DTSTAMP:20260424T024501Z
DTSTART;VALUE=DATE:20111211
DTEND;VALUE=DATE:20111215
SUMMARY:ICITST 2011
DESCRIPTION:6th International Conference for Internet Technology and Secu
 red Transactions
URL:http://www.wikicfp.com/cfp/servlet/event.showcfp?eventid=12523&copyow
 nerid=19666
UID:cfp135086-E@wikicfp.com
END:VEVENT
BEGIN:VEVENT
DTSTAMP:20260424T024501Z
DTSTART;VALUE=DATE:20110630
SUMMARY:ICITST 2011 Deadline
DESCRIPTION:6th International Conference for Internet Technology and Secu
 red Transactions
URL:http://www.wikicfp.com/cfp/servlet/event.showcfp?eventid=12523&copyow
 nerid=19666
UID:cfp135086-D@wikicfp.com
END:VEVENT
BEGIN:VEVENT
DTSTAMP:20260424T024501Z
DTSTART;VALUE=DATE:20110926
SUMMARY:ICITST 2011 Notification Due
DESCRIPTION:6th International Conference for Internet Technology and Secu
 red Transactions
URL:http://www.wikicfp.com/cfp/servlet/event.showcfp?eventid=12523&copyow
 nerid=19666
UID:cfp135086-N@wikicfp.com
END:VEVENT
BEGIN:VEVENT
DTSTAMP:20260424T024501Z
DTSTART;VALUE=DATE:20111010
SUMMARY:ICITST 2011 Final Version Due
DESCRIPTION:6th International Conference for Internet Technology and Secu
 red Transactions
URL:http://www.wikicfp.com/cfp/servlet/event.showcfp?eventid=12523&copyow
 nerid=19666
UID:cfp135086-N@wikicfp.com
END:VEVENT
END:VCALENDAR
