BEGIN:VCALENDAR
PRODID:-//WikiCFP//karimamin 1.0//EN
VERSION:2.0
CALSCALE:GREGORIAN
BEGIN:VEVENT
DTSTAMP:20260421T065425Z
DTSTART;VALUE=DATE:20110404
DTEND;VALUE=DATE:20110408
SUMMARY:WCEEENG 2011
DESCRIPTION:The 2011 World Congress on Electronics and Electrical Enginee
 ring
URL:http://www.wikicfp.com/cfp/servlet/event.showcfp?eventid=12373&copyow
 nerid=19471
UID:cfp133874-E@wikicfp.com
END:VEVENT
BEGIN:VEVENT
DTSTAMP:20260421T065425Z
DTSTART;VALUE=DATE:20101231
SUMMARY:WCEEENG 2011 Deadline
DESCRIPTION:The 2011 World Congress on Electronics and Electrical Enginee
 ring
URL:http://www.wikicfp.com/cfp/servlet/event.showcfp?eventid=12373&copyow
 nerid=19471
UID:cfp133874-D@wikicfp.com
END:VEVENT
BEGIN:VEVENT
DTSTAMP:20260421T065425Z
DTSTART;VALUE=DATE:20110407
DTEND;VALUE=DATE:20110410
SUMMARY:ICVCI 2011
DESCRIPTION:INTERNATIONAL CONFERENCE ON VLSI\, COMMUNICATION & INSTRUMENT
 ATION 
URL:http://www.wikicfp.com/cfp/servlet/event.showcfp?eventid=12176&copyow
 nerid=19471
UID:cfp133853-E@wikicfp.com
END:VEVENT
BEGIN:VEVENT
DTSTAMP:20260421T065425Z
DTSTART;VALUE=DATE:20110110
SUMMARY:ICVCI 2011 Deadline
DESCRIPTION:INTERNATIONAL CONFERENCE ON VLSI\, COMMUNICATION & INSTRUMENT
 ATION 
URL:http://www.wikicfp.com/cfp/servlet/event.showcfp?eventid=12176&copyow
 nerid=19471
UID:cfp133853-D@wikicfp.com
END:VEVENT
BEGIN:VEVENT
DTSTAMP:20260421T065425Z
DTSTART;VALUE=DATE:20110215
SUMMARY:ICVCI 2011 Notification Due
DESCRIPTION:INTERNATIONAL CONFERENCE ON VLSI\, COMMUNICATION & INSTRUMENT
 ATION 
URL:http://www.wikicfp.com/cfp/servlet/event.showcfp?eventid=12176&copyow
 nerid=19471
UID:cfp133853-N@wikicfp.com
END:VEVENT
BEGIN:VEVENT
DTSTAMP:20260421T065425Z
DTSTART;VALUE=DATE:20110227
SUMMARY:ICVCI 2011 Final Version Due
DESCRIPTION:INTERNATIONAL CONFERENCE ON VLSI\, COMMUNICATION & INSTRUMENT
 ATION 
URL:http://www.wikicfp.com/cfp/servlet/event.showcfp?eventid=12176&copyow
 nerid=19471
UID:cfp133853-N@wikicfp.com
END:VEVENT
BEGIN:VEVENT
DTSTAMP:20260421T065425Z
DTSTART;VALUE=DATE:20110605
DTEND;VALUE=DATE:20110608
SUMMARY:RFIC 2011
DESCRIPTION:IEEE Radio Frequency Integrated Circuits Symposium
URL:http://www.wikicfp.com/cfp/servlet/event.showcfp?eventid=10015&copyow
 nerid=19471
UID:cfp133925-E@wikicfp.com
END:VEVENT
BEGIN:VEVENT
DTSTAMP:20260421T065425Z
DTSTART;VALUE=DATE:20110111
SUMMARY:RFIC 2011 Deadline
DESCRIPTION:IEEE Radio Frequency Integrated Circuits Symposium
URL:http://www.wikicfp.com/cfp/servlet/event.showcfp?eventid=10015&copyow
 nerid=19471
UID:cfp133925-D@wikicfp.com
END:VEVENT
BEGIN:VEVENT
DTSTAMP:20260421T065425Z
DTSTART;VALUE=DATE:20110315
SUMMARY:RFIC 2011 Final Version Due
DESCRIPTION:IEEE Radio Frequency Integrated Circuits Symposium
URL:http://www.wikicfp.com/cfp/servlet/event.showcfp?eventid=10015&copyow
 nerid=19471
UID:cfp133925-N@wikicfp.com
END:VEVENT
BEGIN:VEVENT
DTSTAMP:20260421T065425Z
DTSTART;VALUE=DATE:20110608
DTEND;VALUE=DATE:20110611
SUMMARY:PESA 2011
DESCRIPTION:4th International Conference on Power Electronics Systems and
  Applications (PESA) - Charging System & Energy Storage
URL:http://www.wikicfp.com/cfp/servlet/event.showcfp?eventid=13197&copyow
 nerid=19471
UID:cfp133879-E@wikicfp.com
END:VEVENT
BEGIN:VEVENT
DTSTAMP:20260421T065425Z
DTSTART;VALUE=DATE:20110115
SUMMARY:PESA 2011 Deadline
DESCRIPTION:4th International Conference on Power Electronics Systems and
  Applications (PESA) - Charging System & Energy Storage
URL:http://www.wikicfp.com/cfp/servlet/event.showcfp?eventid=13197&copyow
 nerid=19471
UID:cfp133879-D@wikicfp.com
END:VEVENT
BEGIN:VEVENT
DTSTAMP:20260421T065425Z
DTSTART;VALUE=DATE:20110131
SUMMARY:PESA 2011 Notification Due
DESCRIPTION:4th International Conference on Power Electronics Systems and
  Applications (PESA) - Charging System & Energy Storage
URL:http://www.wikicfp.com/cfp/servlet/event.showcfp?eventid=13197&copyow
 nerid=19471
UID:cfp133879-N@wikicfp.com
END:VEVENT
BEGIN:VEVENT
DTSTAMP:20260421T065425Z
DTSTART;VALUE=DATE:20110415
SUMMARY:PESA 2011 Final Version Due
DESCRIPTION:4th International Conference on Power Electronics Systems and
  Applications (PESA) - Charging System & Energy Storage
URL:http://www.wikicfp.com/cfp/servlet/event.showcfp?eventid=13197&copyow
 nerid=19471
UID:cfp133879-N@wikicfp.com
END:VEVENT
BEGIN:VEVENT
DTSTAMP:20260421T065425Z
DTSTART;VALUE=DATE:20110920
DTEND;VALUE=DATE:20110923
SUMMARY:ITC 2011
DESCRIPTION:International Test Conference
URL:http://www.wikicfp.com/cfp/servlet/event.showcfp?eventid=12325&copyow
 nerid=19471
UID:cfp133855-E@wikicfp.com
END:VEVENT
BEGIN:VEVENT
DTSTAMP:20260421T065425Z
DTSTART;VALUE=DATE:20110121
SUMMARY:ITC 2011 Deadline
DESCRIPTION:International Test Conference
URL:http://www.wikicfp.com/cfp/servlet/event.showcfp?eventid=12325&copyow
 nerid=19471
UID:cfp133855-D@wikicfp.com
END:VEVENT
BEGIN:VEVENT
DTSTAMP:20260421T065425Z
DTSTART;VALUE=DATE:20110422
DTEND;VALUE=DATE:20110423
SUMMARY:WMED 2011
DESCRIPTION:IEEE Workshop on Microelectronics and Electron Devices
URL:http://www.wikicfp.com/cfp/servlet/event.showcfp?eventid=11640&copyow
 nerid=19471
UID:cfp133926-E@wikicfp.com
END:VEVENT
BEGIN:VEVENT
DTSTAMP:20260421T065425Z
DTSTART;VALUE=DATE:20110128
SUMMARY:WMED 2011 Deadline
DESCRIPTION:IEEE Workshop on Microelectronics and Electron Devices
URL:http://www.wikicfp.com/cfp/servlet/event.showcfp?eventid=11640&copyow
 nerid=19471
UID:cfp133926-D@wikicfp.com
END:VEVENT
BEGIN:VEVENT
DTSTAMP:20260421T065425Z
DTSTART;VALUE=DATE:20110225
SUMMARY:WMED 2011 Final Version Due
DESCRIPTION:IEEE Workshop on Microelectronics and Electron Devices
URL:http://www.wikicfp.com/cfp/servlet/event.showcfp?eventid=11640&copyow
 nerid=19471
UID:cfp133926-N@wikicfp.com
END:VEVENT
BEGIN:VEVENT
DTSTAMP:20260421T065425Z
DTSTART;VALUE=DATE:20110424
DTEND;VALUE=DATE:20110427
SUMMARY:SIECPC 2011
DESCRIPTION:Saudi International Electronics\, Communications and Photonic
 s Conference
URL:http://www.wikicfp.com/cfp/servlet/event.showcfp?eventid=12400&copyow
 nerid=19471
UID:cfp133875-E@wikicfp.com
END:VEVENT
BEGIN:VEVENT
DTSTAMP:20260421T065425Z
DTSTART;VALUE=DATE:20110201
SUMMARY:SIECPC 2011 Deadline
DESCRIPTION:Saudi International Electronics\, Communications and Photonic
 s Conference
URL:http://www.wikicfp.com/cfp/servlet/event.showcfp?eventid=12400&copyow
 nerid=19471
UID:cfp133875-D@wikicfp.com
END:VEVENT
BEGIN:VEVENT
DTSTAMP:20260421T065425Z
DTSTART;VALUE=DATE:20110313
SUMMARY:SIECPC 2011 Notification Due
DESCRIPTION:Saudi International Electronics\, Communications and Photonic
 s Conference
URL:http://www.wikicfp.com/cfp/servlet/event.showcfp?eventid=12400&copyow
 nerid=19471
UID:cfp133875-N@wikicfp.com
END:VEVENT
BEGIN:VEVENT
DTSTAMP:20260421T065425Z
DTSTART;VALUE=DATE:20110327
SUMMARY:SIECPC 2011 Final Version Due
DESCRIPTION:Saudi International Electronics\, Communications and Photonic
 s Conference
URL:http://www.wikicfp.com/cfp/servlet/event.showcfp?eventid=12400&copyow
 nerid=19471
UID:cfp133875-N@wikicfp.com
END:VEVENT
BEGIN:VEVENT
DTSTAMP:20260421T065425Z
DTSTART;VALUE=DATE:20110704
DTEND;VALUE=DATE:20110709
SUMMARY:PRIME 2011
DESCRIPTION:7th Conference on Ph.D. Research in Microelectronics and Elec
 tronics
URL:http://www.wikicfp.com/cfp/servlet/event.showcfp?eventid=10805&copyow
 nerid=19471
UID:cfp133865-E@wikicfp.com
END:VEVENT
BEGIN:VEVENT
DTSTAMP:20260421T065425Z
DTSTART;VALUE=DATE:20110220
SUMMARY:PRIME 2011 Deadline
DESCRIPTION:7th Conference on Ph.D. Research in Microelectronics and Elec
 tronics
URL:http://www.wikicfp.com/cfp/servlet/event.showcfp?eventid=10805&copyow
 nerid=19471
UID:cfp133865-D@wikicfp.com
END:VEVENT
BEGIN:VEVENT
DTSTAMP:20260421T065425Z
DTSTART;VALUE=DATE:20110418
SUMMARY:PRIME 2011 Notification Due
DESCRIPTION:7th Conference on Ph.D. Research in Microelectronics and Elec
 tronics
URL:http://www.wikicfp.com/cfp/servlet/event.showcfp?eventid=10805&copyow
 nerid=19471
UID:cfp133865-N@wikicfp.com
END:VEVENT
BEGIN:VEVENT
DTSTAMP:20260421T065425Z
DTSTART;VALUE=DATE:20110515
SUMMARY:PRIME 2011 Final Version Due
DESCRIPTION:7th Conference on Ph.D. Research in Microelectronics and Elec
 tronics
URL:http://www.wikicfp.com/cfp/servlet/event.showcfp?eventid=10805&copyow
 nerid=19471
UID:cfp133865-N@wikicfp.com
END:VEVENT
BEGIN:VEVENT
DTSTAMP:20260421T065425Z
DTSTART;VALUE=DATE:20110419
DTEND;VALUE=DATE:20110421
SUMMARY:RADIOELEKTRONIKA 2011
DESCRIPTION:21st International Conference Radioelektronika
URL:http://www.wikicfp.com/cfp/servlet/event.showcfp?eventid=12401&copyow
 nerid=19471
UID:cfp133876-E@wikicfp.com
END:VEVENT
BEGIN:VEVENT
DTSTAMP:20260421T065425Z
DTSTART;VALUE=DATE:20110221
SUMMARY:RADIOELEKTRONIKA 2011 Deadline
DESCRIPTION:21st International Conference Radioelektronika
URL:http://www.wikicfp.com/cfp/servlet/event.showcfp?eventid=12401&copyow
 nerid=19471
UID:cfp133876-D@wikicfp.com
END:VEVENT
BEGIN:VEVENT
DTSTAMP:20260421T065425Z
DTSTART;VALUE=DATE:20110315
SUMMARY:RADIOELEKTRONIKA 2011 Notification Due
DESCRIPTION:21st International Conference Radioelektronika
URL:http://www.wikicfp.com/cfp/servlet/event.showcfp?eventid=12401&copyow
 nerid=19471
UID:cfp133876-N@wikicfp.com
END:VEVENT
BEGIN:VEVENT
DTSTAMP:20260421T065425Z
DTSTART;VALUE=DATE:20110322
SUMMARY:RADIOELEKTRONIKA 2011 Final Version Due
DESCRIPTION:21st International Conference Radioelektronika
URL:http://www.wikicfp.com/cfp/servlet/event.showcfp?eventid=12401&copyow
 nerid=19471
UID:cfp133876-N@wikicfp.com
END:VEVENT
BEGIN:VEVENT
DTSTAMP:20260421T065425Z
DTSTART;VALUE=DATE:20110710
DTEND;VALUE=DATE:20110713
SUMMARY:ICVES 2011
DESCRIPTION:IEEE International Conference on Vehicular Electronics and Sa
 fety
URL:http://www.wikicfp.com/cfp/servlet/event.showcfp?eventid=13651&copyow
 nerid=19471
UID:cfp133880-E@wikicfp.com
END:VEVENT
BEGIN:VEVENT
DTSTAMP:20260421T065425Z
DTSTART;VALUE=DATE:20110313
SUMMARY:ICVES 2011 Deadline
DESCRIPTION:IEEE International Conference on Vehicular Electronics and Sa
 fety
URL:http://www.wikicfp.com/cfp/servlet/event.showcfp?eventid=13651&copyow
 nerid=19471
UID:cfp133880-D@wikicfp.com
END:VEVENT
BEGIN:VEVENT
DTSTAMP:20260421T065425Z
DTSTART;VALUE=DATE:20110502
SUMMARY:ICVES 2011 Notification Due
DESCRIPTION:IEEE International Conference on Vehicular Electronics and Sa
 fety
URL:http://www.wikicfp.com/cfp/servlet/event.showcfp?eventid=13651&copyow
 nerid=19471
UID:cfp133880-N@wikicfp.com
END:VEVENT
BEGIN:VEVENT
DTSTAMP:20260421T065425Z
DTSTART;VALUE=DATE:20110523
SUMMARY:ICVES 2011 Final Version Due
DESCRIPTION:IEEE International Conference on Vehicular Electronics and Sa
 fety
URL:http://www.wikicfp.com/cfp/servlet/event.showcfp?eventid=13651&copyow
 nerid=19471
UID:cfp133880-N@wikicfp.com
END:VEVENT
BEGIN:VEVENT
DTSTAMP:20260421T065425Z
DTSTART;VALUE=DATE:20110418
DTEND;VALUE=DATE:20110421
SUMMARY:SPIE EMT 2011
DESCRIPTION:SPIE Microtechnologies
URL:http://www.wikicfp.com/cfp/servlet/event.showcfp?eventid=12295&copyow
 nerid=19471
UID:cfp133854-E@wikicfp.com
END:VEVENT
BEGIN:VEVENT
DTSTAMP:20260421T065425Z
DTSTART;VALUE=DATE:20101108
SUMMARY:SPIE EMT 2011 Abstract Due
DESCRIPTION:SPIE Microtechnologies
URL:http://www.wikicfp.com/cfp/servlet/event.showcfp?eventid=12295&copyow
 nerid=19471
UID:cfp133854-A@wikicfp.com
END:VEVENT
BEGIN:VEVENT
DTSTAMP:20260421T065425Z
DTSTART;VALUE=DATE:20110321
SUMMARY:SPIE EMT 2011 Deadline
DESCRIPTION:SPIE Microtechnologies
URL:http://www.wikicfp.com/cfp/servlet/event.showcfp?eventid=12295&copyow
 nerid=19471
UID:cfp133854-D@wikicfp.com
END:VEVENT
BEGIN:VEVENT
DTSTAMP:20260421T065425Z
DTSTART;VALUE=DATE:20110121
SUMMARY:SPIE EMT 2011 Notification Due
DESCRIPTION:SPIE Microtechnologies
URL:http://www.wikicfp.com/cfp/servlet/event.showcfp?eventid=12295&copyow
 nerid=19471
UID:cfp133854-N@wikicfp.com
END:VEVENT
BEGIN:VEVENT
DTSTAMP:20260421T065425Z
DTSTART;VALUE=DATE:20110321
SUMMARY:SPIE EMT 2011 Final Version Due
DESCRIPTION:SPIE Microtechnologies
URL:http://www.wikicfp.com/cfp/servlet/event.showcfp?eventid=12295&copyow
 nerid=19471
UID:cfp133854-N@wikicfp.com
END:VEVENT
BEGIN:VEVENT
DTSTAMP:20260421T065425Z
DTSTART;VALUE=DATE:20110727
DTEND;VALUE=DATE:20110730
SUMMARY:ICECS 2011
DESCRIPTION:International Conference on Electronics\, Circuits and System
 s
URL:http://www.wikicfp.com/cfp/servlet/event.showcfp?eventid=11516&copyow
 nerid=19471
UID:cfp133869-E@wikicfp.com
END:VEVENT
BEGIN:VEVENT
DTSTAMP:20260421T065425Z
DTSTART;VALUE=DATE:20110331
SUMMARY:ICECS 2011 Deadline
DESCRIPTION:International Conference on Electronics\, Circuits and System
 s
URL:http://www.wikicfp.com/cfp/servlet/event.showcfp?eventid=11516&copyow
 nerid=19471
UID:cfp133869-D@wikicfp.com
END:VEVENT
BEGIN:VEVENT
DTSTAMP:20260421T065425Z
DTSTART;VALUE=DATE:20110430
SUMMARY:ICECS 2011 Notification Due
DESCRIPTION:International Conference on Electronics\, Circuits and System
 s
URL:http://www.wikicfp.com/cfp/servlet/event.showcfp?eventid=11516&copyow
 nerid=19471
UID:cfp133869-N@wikicfp.com
END:VEVENT
BEGIN:VEVENT
DTSTAMP:20260421T065425Z
DTSTART;VALUE=DATE:20110531
SUMMARY:ICECS 2011 Final Version Due
DESCRIPTION:International Conference on Electronics\, Circuits and System
 s
URL:http://www.wikicfp.com/cfp/servlet/event.showcfp?eventid=11516&copyow
 nerid=19471
UID:cfp133869-N@wikicfp.com
END:VEVENT
BEGIN:VEVENT
DTSTAMP:20260421T065425Z
DTSTART;VALUE=DATE:20110925
DTEND;VALUE=DATE:20110929
SUMMARY:ISIEA 2011
DESCRIPTION:IEEE Symposium on Industrial Electronics and Applications
URL:http://www.wikicfp.com/cfp/servlet/event.showcfp?eventid=11021&copyow
 nerid=19471
UID:cfp133867-E@wikicfp.com
END:VEVENT
BEGIN:VEVENT
DTSTAMP:20260421T065425Z
DTSTART;VALUE=DATE:20110525
SUMMARY:ISIEA 2011 Deadline
DESCRIPTION:IEEE Symposium on Industrial Electronics and Applications
URL:http://www.wikicfp.com/cfp/servlet/event.showcfp?eventid=11021&copyow
 nerid=19471
UID:cfp133867-D@wikicfp.com
END:VEVENT
BEGIN:VEVENT
DTSTAMP:20260421T065425Z
DTSTART;VALUE=DATE:20110701
SUMMARY:ISIEA 2011 Notification Due
DESCRIPTION:IEEE Symposium on Industrial Electronics and Applications
URL:http://www.wikicfp.com/cfp/servlet/event.showcfp?eventid=11021&copyow
 nerid=19471
UID:cfp133867-N@wikicfp.com
END:VEVENT
BEGIN:VEVENT
DTSTAMP:20260421T065425Z
DTSTART;VALUE=DATE:20110801
SUMMARY:ISIEA 2011 Final Version Due
DESCRIPTION:IEEE Symposium on Industrial Electronics and Applications
URL:http://www.wikicfp.com/cfp/servlet/event.showcfp?eventid=11021&copyow
 nerid=19471
UID:cfp133867-N@wikicfp.com
END:VEVENT
BEGIN:VEVENT
DTSTAMP:20260421T065425Z
DTSTART;VALUE=DATE:20111008
DTEND;VALUE=DATE:20111010
SUMMARY:APED 2011
DESCRIPTION:2nd Asia-Pacific Conference on Power Electronics and Design
URL:http://www.wikicfp.com/cfp/servlet/event.showcfp?eventid=12647&copyow
 nerid=19471
UID:cfp133878-E@wikicfp.com
END:VEVENT
BEGIN:VEVENT
DTSTAMP:20260421T065425Z
DTSTART;VALUE=DATE:20110615
SUMMARY:APED 2011 Deadline
DESCRIPTION:2nd Asia-Pacific Conference on Power Electronics and Design
URL:http://www.wikicfp.com/cfp/servlet/event.showcfp?eventid=12647&copyow
 nerid=19471
UID:cfp133878-D@wikicfp.com
END:VEVENT
BEGIN:VEVENT
DTSTAMP:20260421T065425Z
DTSTART;VALUE=DATE:20110715
SUMMARY:APED 2011 Notification Due
DESCRIPTION:2nd Asia-Pacific Conference on Power Electronics and Design
URL:http://www.wikicfp.com/cfp/servlet/event.showcfp?eventid=12647&copyow
 nerid=19471
UID:cfp133878-N@wikicfp.com
END:VEVENT
BEGIN:VEVENT
DTSTAMP:20260421T065425Z
DTSTART;VALUE=DATE:20110815
SUMMARY:APED 2011 Final Version Due
DESCRIPTION:2nd Asia-Pacific Conference on Power Electronics and Design
URL:http://www.wikicfp.com/cfp/servlet/event.showcfp?eventid=12647&copyow
 nerid=19471
UID:cfp133878-N@wikicfp.com
END:VEVENT
BEGIN:VEVENT
DTSTAMP:20260421T065425Z
DTSTART;VALUE=DATE:20120306
DTEND;VALUE=DATE:20120309
SUMMARY:CIPS 2012
DESCRIPTION:International Conference on Integrated Power Electronics Syst
 ems
URL:http://www.wikicfp.com/cfp/servlet/event.showcfp?eventid=13189&copyow
 nerid=19471
UID:cfp133856-E@wikicfp.com
END:VEVENT
BEGIN:VEVENT
DTSTAMP:20260421T065425Z
DTSTART;VALUE=DATE:20110905
SUMMARY:CIPS 2012 Abstract Due
DESCRIPTION:International Conference on Integrated Power Electronics Syst
 ems
URL:http://www.wikicfp.com/cfp/servlet/event.showcfp?eventid=13189&copyow
 nerid=19471
UID:cfp133856-A@wikicfp.com
END:VEVENT
BEGIN:VEVENT
DTSTAMP:20260421T065425Z
DTSTART;VALUE=DATE:20111201
SUMMARY:CIPS 2012 Deadline
DESCRIPTION:International Conference on Integrated Power Electronics Syst
 ems
URL:http://www.wikicfp.com/cfp/servlet/event.showcfp?eventid=13189&copyow
 nerid=19471
UID:cfp133856-D@wikicfp.com
END:VEVENT
BEGIN:VEVENT
DTSTAMP:20260421T065425Z
DTSTART;VALUE=DATE:20111013
SUMMARY:CIPS 2012 Notification Due
DESCRIPTION:International Conference on Integrated Power Electronics Syst
 ems
URL:http://www.wikicfp.com/cfp/servlet/event.showcfp?eventid=13189&copyow
 nerid=19471
UID:cfp133856-N@wikicfp.com
END:VEVENT
BEGIN:VEVENT
DTSTAMP:20260421T065425Z
DTSTART;VALUE=DATE:20120625
DTEND;VALUE=DATE:20120629
SUMMARY:PEDG 2012
DESCRIPTION:3rd IEEE International Symposium on Power Electronics for Dis
 tributed Generation Systems
URL:http://www.wikicfp.com/cfp/servlet/event.showcfp?eventid=12110&copyow
 nerid=19471
UID:cfp133873-E@wikicfp.com
END:VEVENT
BEGIN:VEVENT
DTSTAMP:20260421T065425Z
DTSTART;VALUE=DATE:20111231
SUMMARY:PEDG 2012 Deadline
DESCRIPTION:3rd IEEE International Symposium on Power Electronics for Dis
 tributed Generation Systems
URL:http://www.wikicfp.com/cfp/servlet/event.showcfp?eventid=12110&copyow
 nerid=19471
UID:cfp133873-D@wikicfp.com
END:VEVENT
BEGIN:VEVENT
DTSTAMP:20260421T065425Z
DTSTART;VALUE=DATE:20120228
SUMMARY:PEDG 2012 Notification Due
DESCRIPTION:3rd IEEE International Symposium on Power Electronics for Dis
 tributed Generation Systems
URL:http://www.wikicfp.com/cfp/servlet/event.showcfp?eventid=12110&copyow
 nerid=19471
UID:cfp133873-N@wikicfp.com
END:VEVENT
BEGIN:VEVENT
DTSTAMP:20260421T065425Z
DTSTART;VALUE=DATE:20120415
SUMMARY:PEDG 2012 Final Version Due
DESCRIPTION:3rd IEEE International Symposium on Power Electronics for Dis
 tributed Generation Systems
URL:http://www.wikicfp.com/cfp/servlet/event.showcfp?eventid=12110&copyow
 nerid=19471
UID:cfp133873-N@wikicfp.com
END:VEVENT
BEGIN:VEVENT
DTSTAMP:20260421T065425Z
DTSTART;VALUE=DATE:20120909
DTEND;VALUE=DATE:20120913
SUMMARY:CICC 2012
DESCRIPTION:IEEE Custom Integrated Circuits Conference
URL:http://www.wikicfp.com/cfp/servlet/event.showcfp?eventid=7817&copyown
 erid=19471
UID:cfp133924-E@wikicfp.com
END:VEVENT
BEGIN:VEVENT
DTSTAMP:20260421T065425Z
DTSTART;VALUE=DATE:20120407
SUMMARY:CICC 2012 Deadline
DESCRIPTION:IEEE Custom Integrated Circuits Conference
URL:http://www.wikicfp.com/cfp/servlet/event.showcfp?eventid=7817&copyown
 erid=19471
UID:cfp133924-D@wikicfp.com
END:VEVENT
BEGIN:VEVENT
DTSTAMP:20260421T065425Z
DTSTART;VALUE=DATE:20150715
SUMMARY:ATN 2015 Deadline
DESCRIPTION:Acta Technica Napocensis- Electronics and Telecommunications 
 3/2015
URL:http://www.wikicfp.com/cfp/servlet/event.showcfp?eventid=9454&copyown
 erid=19471
UID:cfp133862-D@wikicfp.com
END:VEVENT
BEGIN:VEVENT
DTSTAMP:20260421T065425Z
DTSTART;VALUE=DATE:20150908
SUMMARY:ATN 2015 Notification Due
DESCRIPTION:Acta Technica Napocensis- Electronics and Telecommunications 
 3/2015
URL:http://www.wikicfp.com/cfp/servlet/event.showcfp?eventid=9454&copyown
 erid=19471
UID:cfp133862-N@wikicfp.com
END:VEVENT
BEGIN:VEVENT
DTSTAMP:20260421T065425Z
DTSTART;VALUE=DATE:20150921
SUMMARY:ATN 2015 Final Version Due
DESCRIPTION:Acta Technica Napocensis- Electronics and Telecommunications 
 3/2015
URL:http://www.wikicfp.com/cfp/servlet/event.showcfp?eventid=9454&copyown
 erid=19471
UID:cfp133862-N@wikicfp.com
END:VEVENT
END:VCALENDAR
