BEGIN:VCALENDAR
PRODID:-//WikiCFP//annushukla 1.0//EN
VERSION:2.0
CALSCALE:GREGORIAN
BEGIN:VEVENT
DTSTAMP:20260424T043103Z
DTSTART;VALUE=DATE:20120201
DTEND;VALUE=DATE:20120205
SUMMARY:APOS 2012
DESCRIPTION:3rd Asia-Pacific Optical Fiber Sensors Conference
URL:http://www.wikicfp.com/cfp/servlet/event.showcfp?eventid=13582&copyow
 nerid=19294
UID:cfp132652-E@wikicfp.com
END:VEVENT
BEGIN:VEVENT
DTSTAMP:20260424T043103Z
DTSTART;VALUE=DATE:20110321
DTEND;VALUE=DATE:20110322
SUMMARY:VAST 2011
DESCRIPTION:Workshop on Variability-intensive Systems Testing\, Validatio
 n and Verification
URL:http://www.wikicfp.com/cfp/servlet/event.showcfp?eventid=13565&copyow
 nerid=19294
UID:cfp132639-E@wikicfp.com
END:VEVENT
BEGIN:VEVENT
DTSTAMP:20260424T043103Z
DTSTART;VALUE=DATE:20101222
SUMMARY:VAST 2011 Deadline
DESCRIPTION:Workshop on Variability-intensive Systems Testing\, Validatio
 n and Verification
URL:http://www.wikicfp.com/cfp/servlet/event.showcfp?eventid=13565&copyow
 nerid=19294
UID:cfp132639-D@wikicfp.com
END:VEVENT
BEGIN:VEVENT
DTSTAMP:20260424T043103Z
DTSTART;VALUE=DATE:20110201
SUMMARY:VAST 2011 Notification Due
DESCRIPTION:Workshop on Variability-intensive Systems Testing\, Validatio
 n and Verification
URL:http://www.wikicfp.com/cfp/servlet/event.showcfp?eventid=13565&copyow
 nerid=19294
UID:cfp132639-N@wikicfp.com
END:VEVENT
BEGIN:VEVENT
DTSTAMP:20260424T043103Z
DTSTART;VALUE=DATE:20110523
DTEND;VALUE=DATE:20110527
SUMMARY:WConSC 2011
DESCRIPTION:World Conference on Soft Computing
URL:http://www.wikicfp.com/cfp/servlet/event.showcfp?eventid=13570&copyow
 nerid=19294
UID:cfp132644-E@wikicfp.com
END:VEVENT
BEGIN:VEVENT
DTSTAMP:20260424T043103Z
DTSTART;VALUE=DATE:20110107
SUMMARY:WConSC 2011 Deadline
DESCRIPTION:World Conference on Soft Computing
URL:http://www.wikicfp.com/cfp/servlet/event.showcfp?eventid=13570&copyow
 nerid=19294
UID:cfp132644-D@wikicfp.com
END:VEVENT
BEGIN:VEVENT
DTSTAMP:20260424T043103Z
DTSTART;VALUE=DATE:20110214
SUMMARY:WConSC 2011 Notification Due
DESCRIPTION:World Conference on Soft Computing
URL:http://www.wikicfp.com/cfp/servlet/event.showcfp?eventid=13570&copyow
 nerid=19294
UID:cfp132644-N@wikicfp.com
END:VEVENT
BEGIN:VEVENT
DTSTAMP:20260424T043103Z
DTSTART;VALUE=DATE:20110308
SUMMARY:WConSC 2011 Final Version Due
DESCRIPTION:World Conference on Soft Computing
URL:http://www.wikicfp.com/cfp/servlet/event.showcfp?eventid=13570&copyow
 nerid=19294
UID:cfp132644-N@wikicfp.com
END:VEVENT
BEGIN:VEVENT
DTSTAMP:20260424T043103Z
DTSTART;VALUE=DATE:20110704
DTEND;VALUE=DATE:20110709
SUMMARY:HPPD-DM 2011
DESCRIPTION:Special Session on High Performance Parallel and Distributed 
 Data Mining
URL:http://www.wikicfp.com/cfp/servlet/event.showcfp?eventid=13600&copyow
 nerid=19294
UID:cfp132658-E@wikicfp.com
END:VEVENT
BEGIN:VEVENT
DTSTAMP:20260424T043103Z
DTSTART;VALUE=DATE:20110111
SUMMARY:HPPD-DM 2011 Deadline
DESCRIPTION:Special Session on High Performance Parallel and Distributed 
 Data Mining
URL:http://www.wikicfp.com/cfp/servlet/event.showcfp?eventid=13600&copyow
 nerid=19294
UID:cfp132658-D@wikicfp.com
END:VEVENT
BEGIN:VEVENT
DTSTAMP:20260424T043103Z
DTSTART;VALUE=DATE:20110306
DTEND;VALUE=DATE:20110307
SUMMARY:CHANGE 2011
DESCRIPTION:1st International Workshop on Computing in Heterogeneous\, Au
 tonomous 'N' Goal-Oriented Environments
URL:http://www.wikicfp.com/cfp/servlet/event.showcfp?eventid=13575&copyow
 nerid=19294
UID:cfp132647-E@wikicfp.com
END:VEVENT
BEGIN:VEVENT
DTSTAMP:20260424T043103Z
DTSTART;VALUE=DATE:20110121
SUMMARY:CHANGE 2011 Deadline
DESCRIPTION:1st International Workshop on Computing in Heterogeneous\, Au
 tonomous 'N' Goal-Oriented Environments
URL:http://www.wikicfp.com/cfp/servlet/event.showcfp?eventid=13575&copyow
 nerid=19294
UID:cfp132647-D@wikicfp.com
END:VEVENT
BEGIN:VEVENT
DTSTAMP:20260424T043103Z
DTSTART;VALUE=DATE:20110207
SUMMARY:CHANGE 2011 Notification Due
DESCRIPTION:1st International Workshop on Computing in Heterogeneous\, Au
 tonomous 'N' Goal-Oriented Environments
URL:http://www.wikicfp.com/cfp/servlet/event.showcfp?eventid=13575&copyow
 nerid=19294
UID:cfp132647-N@wikicfp.com
END:VEVENT
BEGIN:VEVENT
DTSTAMP:20260424T043103Z
DTSTART;VALUE=DATE:20110122
SUMMARY:IJRRCS 2011 Deadline
DESCRIPTION:International Journal of Research and Reviews in Computer Sci
 ence Special Issue: Simulation\, Benchmarking and Modeling of Systems an
 d Communication Networks
URL:http://www.wikicfp.com/cfp/servlet/event.showcfp?eventid=13598&copyow
 nerid=19294
UID:cfp132656-D@wikicfp.com
END:VEVENT
BEGIN:VEVENT
DTSTAMP:20260424T043103Z
DTSTART;VALUE=DATE:20110201
SUMMARY:IJRRCS 2011 Notification Due
DESCRIPTION:International Journal of Research and Reviews in Computer Sci
 ence Special Issue: Simulation\, Benchmarking and Modeling of Systems an
 d Communication Networks
URL:http://www.wikicfp.com/cfp/servlet/event.showcfp?eventid=13598&copyow
 nerid=19294
UID:cfp132656-N@wikicfp.com
END:VEVENT
BEGIN:VEVENT
DTSTAMP:20260424T043103Z
DTSTART;VALUE=DATE:20110215
SUMMARY:IJRRCS 2011 Final Version Due
DESCRIPTION:International Journal of Research and Reviews in Computer Sci
 ence Special Issue: Simulation\, Benchmarking and Modeling of Systems an
 d Communication Networks
URL:http://www.wikicfp.com/cfp/servlet/event.showcfp?eventid=13598&copyow
 nerid=19294
UID:cfp132656-N@wikicfp.com
END:VEVENT
BEGIN:VEVENT
DTSTAMP:20260424T043103Z
DTSTART;VALUE=DATE:20110624
DTEND;VALUE=DATE:20110627
SUMMARY:Geoinformatics 2011
DESCRIPTION:19th International Conference on Geoinformatics
URL:http://www.wikicfp.com/cfp/servlet/event.showcfp?eventid=13587&copyow
 nerid=19294
UID:cfp132655-E@wikicfp.com
END:VEVENT
BEGIN:VEVENT
DTSTAMP:20260424T043103Z
DTSTART;VALUE=DATE:20110130
SUMMARY:Geoinformatics 2011 Deadline
DESCRIPTION:19th International Conference on Geoinformatics
URL:http://www.wikicfp.com/cfp/servlet/event.showcfp?eventid=13587&copyow
 nerid=19294
UID:cfp132655-D@wikicfp.com
END:VEVENT
BEGIN:VEVENT
DTSTAMP:20260424T043103Z
DTSTART;VALUE=DATE:20110228
SUMMARY:Geoinformatics 2011 Notification Due
DESCRIPTION:19th International Conference on Geoinformatics
URL:http://www.wikicfp.com/cfp/servlet/event.showcfp?eventid=13587&copyow
 nerid=19294
UID:cfp132655-N@wikicfp.com
END:VEVENT
BEGIN:VEVENT
DTSTAMP:20260424T043103Z
DTSTART;VALUE=DATE:20110410
SUMMARY:Geoinformatics 2011 Final Version Due
DESCRIPTION:19th International Conference on Geoinformatics
URL:http://www.wikicfp.com/cfp/servlet/event.showcfp?eventid=13587&copyow
 nerid=19294
UID:cfp132655-N@wikicfp.com
END:VEVENT
BEGIN:VEVENT
DTSTAMP:20260424T043103Z
DTSTART;VALUE=DATE:20110628
DTEND;VALUE=DATE:20110703
SUMMARY:ICML 2011
DESCRIPTION:The 28th International Conference on Machine Learning
URL:http://www.wikicfp.com/cfp/servlet/event.showcfp?eventid=11637&copyow
 nerid=19294
UID:cfp132637-E@wikicfp.com
END:VEVENT
BEGIN:VEVENT
DTSTAMP:20260424T043103Z
DTSTART;VALUE=DATE:20110201
SUMMARY:ICML 2011 Deadline
DESCRIPTION:The 28th International Conference on Machine Learning
URL:http://www.wikicfp.com/cfp/servlet/event.showcfp?eventid=11637&copyow
 nerid=19294
UID:cfp132637-D@wikicfp.com
END:VEVENT
BEGIN:VEVENT
DTSTAMP:20260424T043103Z
DTSTART;VALUE=DATE:20110419
SUMMARY:ICML 2011 Notification Due
DESCRIPTION:The 28th International Conference on Machine Learning
URL:http://www.wikicfp.com/cfp/servlet/event.showcfp?eventid=11637&copyow
 nerid=19294
UID:cfp132637-N@wikicfp.com
END:VEVENT
BEGIN:VEVENT
DTSTAMP:20260424T043103Z
DTSTART;VALUE=DATE:20110530
DTEND;VALUE=DATE:20110604
SUMMARY:DD 2011
DESCRIPTION:Days on Diffraction 2011
URL:http://www.wikicfp.com/cfp/servlet/event.showcfp?eventid=13566&copyow
 nerid=19294
UID:cfp132640-E@wikicfp.com
END:VEVENT
BEGIN:VEVENT
DTSTAMP:20260424T043103Z
DTSTART;VALUE=DATE:20110207
SUMMARY:DD 2011 Deadline
DESCRIPTION:Days on Diffraction 2011
URL:http://www.wikicfp.com/cfp/servlet/event.showcfp?eventid=13566&copyow
 nerid=19294
UID:cfp132640-D@wikicfp.com
END:VEVENT
BEGIN:VEVENT
DTSTAMP:20260424T043103Z
DTSTART;VALUE=DATE:20110214
SUMMARY:DD 2011 Notification Due
DESCRIPTION:Days on Diffraction 2011
URL:http://www.wikicfp.com/cfp/servlet/event.showcfp?eventid=13566&copyow
 nerid=19294
UID:cfp132640-N@wikicfp.com
END:VEVENT
BEGIN:VEVENT
DTSTAMP:20260424T043103Z
DTSTART;VALUE=DATE:20110511
DTEND;VALUE=DATE:20110514
SUMMARY:JCSSE 2011
DESCRIPTION:The 8th Joint Conference on Computer Science and Software Eng
 ineering
URL:http://www.wikicfp.com/cfp/servlet/event.showcfp?eventid=13572&copyow
 nerid=19294
UID:cfp132646-E@wikicfp.com
END:VEVENT
BEGIN:VEVENT
DTSTAMP:20260424T043103Z
DTSTART;VALUE=DATE:20110228
SUMMARY:JCSSE 2011 Deadline
DESCRIPTION:The 8th Joint Conference on Computer Science and Software Eng
 ineering
URL:http://www.wikicfp.com/cfp/servlet/event.showcfp?eventid=13572&copyow
 nerid=19294
UID:cfp132646-D@wikicfp.com
END:VEVENT
BEGIN:VEVENT
DTSTAMP:20260424T043103Z
DTSTART;VALUE=DATE:20110328
SUMMARY:JCSSE 2011 Notification Due
DESCRIPTION:The 8th Joint Conference on Computer Science and Software Eng
 ineering
URL:http://www.wikicfp.com/cfp/servlet/event.showcfp?eventid=13572&copyow
 nerid=19294
UID:cfp132646-N@wikicfp.com
END:VEVENT
BEGIN:VEVENT
DTSTAMP:20260424T043103Z
DTSTART;VALUE=DATE:20110410
SUMMARY:JCSSE 2011 Final Version Due
DESCRIPTION:The 8th Joint Conference on Computer Science and Software Eng
 ineering
URL:http://www.wikicfp.com/cfp/servlet/event.showcfp?eventid=13572&copyow
 nerid=19294
UID:cfp132646-N@wikicfp.com
END:VEVENT
BEGIN:VEVENT
DTSTAMP:20260424T043103Z
DTSTART;VALUE=DATE:20110407
DTEND;VALUE=DATE:20110409
SUMMARY:EDP 2011
DESCRIPTION:IEEE/DATC Electronic Design Processes Symposium
URL:http://www.wikicfp.com/cfp/servlet/event.showcfp?eventid=13579&copyow
 nerid=19294
UID:cfp132650-E@wikicfp.com
END:VEVENT
BEGIN:VEVENT
DTSTAMP:20260424T043103Z
DTSTART;VALUE=DATE:20110228
SUMMARY:EDP 2011 Deadline
DESCRIPTION:IEEE/DATC Electronic Design Processes Symposium
URL:http://www.wikicfp.com/cfp/servlet/event.showcfp?eventid=13579&copyow
 nerid=19294
UID:cfp132650-D@wikicfp.com
END:VEVENT
BEGIN:VEVENT
DTSTAMP:20260424T043103Z
DTSTART;VALUE=DATE:20110315
SUMMARY:EDP 2011 Notification Due
DESCRIPTION:IEEE/DATC Electronic Design Processes Symposium
URL:http://www.wikicfp.com/cfp/servlet/event.showcfp?eventid=13579&copyow
 nerid=19294
UID:cfp132650-N@wikicfp.com
END:VEVENT
BEGIN:VEVENT
DTSTAMP:20260424T043103Z
DTSTART;VALUE=DATE:20110331
SUMMARY:EDP 2011 Final Version Due
DESCRIPTION:IEEE/DATC Electronic Design Processes Symposium
URL:http://www.wikicfp.com/cfp/servlet/event.showcfp?eventid=13579&copyow
 nerid=19294
UID:cfp132650-N@wikicfp.com
END:VEVENT
BEGIN:VEVENT
DTSTAMP:20260424T043103Z
DTSTART;VALUE=DATE:20110914
DTEND;VALUE=DATE:20110917
SUMMARY:ELMAR 2011
DESCRIPTION:53rd International Symposium ELMAR
URL:http://www.wikicfp.com/cfp/servlet/event.showcfp?eventid=13568&copyow
 nerid=19294
UID:cfp132642-E@wikicfp.com
END:VEVENT
BEGIN:VEVENT
DTSTAMP:20260424T043103Z
DTSTART;VALUE=DATE:20110406
SUMMARY:ELMAR 2011 Deadline
DESCRIPTION:53rd International Symposium ELMAR
URL:http://www.wikicfp.com/cfp/servlet/event.showcfp?eventid=13568&copyow
 nerid=19294
UID:cfp132642-D@wikicfp.com
END:VEVENT
BEGIN:VEVENT
DTSTAMP:20260424T043103Z
DTSTART;VALUE=DATE:20110520
SUMMARY:ELMAR 2011 Notification Due
DESCRIPTION:53rd International Symposium ELMAR
URL:http://www.wikicfp.com/cfp/servlet/event.showcfp?eventid=13568&copyow
 nerid=19294
UID:cfp132642-N@wikicfp.com
END:VEVENT
BEGIN:VEVENT
DTSTAMP:20260424T043103Z
DTSTART;VALUE=DATE:20110531
SUMMARY:ELMAR 2011 Final Version Due
DESCRIPTION:53rd International Symposium ELMAR
URL:http://www.wikicfp.com/cfp/servlet/event.showcfp?eventid=13568&copyow
 nerid=19294
UID:cfp132642-N@wikicfp.com
END:VEVENT
BEGIN:VEVENT
DTSTAMP:20260424T043103Z
DTSTART;VALUE=DATE:20110624
DTEND;VALUE=DATE:20110625
SUMMARY:BUCC 2011
DESCRIPTION:4th Workshop on Building and Using Comparable Corpora
URL:http://www.wikicfp.com/cfp/servlet/event.showcfp?eventid=13599&copyow
 nerid=19294
UID:cfp132657-E@wikicfp.com
END:VEVENT
BEGIN:VEVENT
DTSTAMP:20260424T043103Z
DTSTART;VALUE=DATE:20110411
SUMMARY:BUCC 2011 Deadline
DESCRIPTION:4th Workshop on Building and Using Comparable Corpora
URL:http://www.wikicfp.com/cfp/servlet/event.showcfp?eventid=13599&copyow
 nerid=19294
UID:cfp132657-D@wikicfp.com
END:VEVENT
BEGIN:VEVENT
DTSTAMP:20260424T043103Z
DTSTART;VALUE=DATE:20110427
SUMMARY:BUCC 2011 Notification Due
DESCRIPTION:4th Workshop on Building and Using Comparable Corpora
URL:http://www.wikicfp.com/cfp/servlet/event.showcfp?eventid=13599&copyow
 nerid=19294
UID:cfp132657-N@wikicfp.com
END:VEVENT
BEGIN:VEVENT
DTSTAMP:20260424T043103Z
DTSTART;VALUE=DATE:20110506
SUMMARY:BUCC 2011 Final Version Due
DESCRIPTION:4th Workshop on Building and Using Comparable Corpora
URL:http://www.wikicfp.com/cfp/servlet/event.showcfp?eventid=13599&copyow
 nerid=19294
UID:cfp132657-N@wikicfp.com
END:VEVENT
BEGIN:VEVENT
DTSTAMP:20260424T043103Z
DTSTART;VALUE=DATE:20110918
DTEND;VALUE=DATE:20110923
SUMMARY:ECOC 2011
DESCRIPTION:37th European Conference and Exhibition on Optical Communicat
 ion
URL:http://www.wikicfp.com/cfp/servlet/event.showcfp?eventid=13584&copyow
 nerid=19294
UID:cfp132653-E@wikicfp.com
END:VEVENT
BEGIN:VEVENT
DTSTAMP:20260424T043103Z
DTSTART;VALUE=DATE:20110414
SUMMARY:ECOC 2011 Deadline
DESCRIPTION:37th European Conference and Exhibition on Optical Communicat
 ion
URL:http://www.wikicfp.com/cfp/servlet/event.showcfp?eventid=13584&copyow
 nerid=19294
UID:cfp132653-D@wikicfp.com
END:VEVENT
BEGIN:VEVENT
DTSTAMP:20260424T043103Z
DTSTART;VALUE=DATE:20110529
SUMMARY:ECOC 2011 Notification Due
DESCRIPTION:37th European Conference and Exhibition on Optical Communicat
 ion
URL:http://www.wikicfp.com/cfp/servlet/event.showcfp?eventid=13584&copyow
 nerid=19294
UID:cfp132653-N@wikicfp.com
END:VEVENT
BEGIN:VEVENT
DTSTAMP:20260424T043103Z
DTSTART;VALUE=DATE:20111020
SUMMARY:ECOC 2011 Final Version Due
DESCRIPTION:37th European Conference and Exhibition on Optical Communicat
 ion
URL:http://www.wikicfp.com/cfp/servlet/event.showcfp?eventid=13584&copyow
 nerid=19294
UID:cfp132653-N@wikicfp.com
END:VEVENT
BEGIN:VEVENT
DTSTAMP:20260424T043103Z
DTSTART;VALUE=DATE:20111211
DTEND;VALUE=DATE:20111215
SUMMARY:WSC 2011
DESCRIPTION:Winter Simulation Conference
URL:http://www.wikicfp.com/cfp/servlet/event.showcfp?eventid=13571&copyow
 nerid=19294
UID:cfp132645-E@wikicfp.com
END:VEVENT
BEGIN:VEVENT
DTSTAMP:20260424T043103Z
DTSTART;VALUE=DATE:20110415
SUMMARY:WSC 2011 Deadline
DESCRIPTION:Winter Simulation Conference
URL:http://www.wikicfp.com/cfp/servlet/event.showcfp?eventid=13571&copyow
 nerid=19294
UID:cfp132645-D@wikicfp.com
END:VEVENT
BEGIN:VEVENT
DTSTAMP:20260424T043103Z
DTSTART;VALUE=DATE:20110610
SUMMARY:WSC 2011 Notification Due
DESCRIPTION:Winter Simulation Conference
URL:http://www.wikicfp.com/cfp/servlet/event.showcfp?eventid=13571&copyow
 nerid=19294
UID:cfp132645-N@wikicfp.com
END:VEVENT
BEGIN:VEVENT
DTSTAMP:20260424T043103Z
DTSTART;VALUE=DATE:20110715
SUMMARY:WSC 2011 Final Version Due
DESCRIPTION:Winter Simulation Conference
URL:http://www.wikicfp.com/cfp/servlet/event.showcfp?eventid=13571&copyow
 nerid=19294
UID:cfp132645-N@wikicfp.com
END:VEVENT
BEGIN:VEVENT
DTSTAMP:20260424T043103Z
DTSTART;VALUE=DATE:20111003
DTEND;VALUE=DATE:20111008
SUMMARY:SASO 2011
DESCRIPTION:5th IEEE International Conference on Self-Adaptive and Self-O
 rganizing Systems
URL:http://www.wikicfp.com/cfp/servlet/event.showcfp?eventid=13581&copyow
 nerid=19294
UID:cfp132651-E@wikicfp.com
END:VEVENT
BEGIN:VEVENT
DTSTAMP:20260424T043103Z
DTSTART;VALUE=DATE:20110424
SUMMARY:SASO 2011 Abstract Due
DESCRIPTION:5th IEEE International Conference on Self-Adaptive and Self-O
 rganizing Systems
URL:http://www.wikicfp.com/cfp/servlet/event.showcfp?eventid=13581&copyow
 nerid=19294
UID:cfp132651-A@wikicfp.com
END:VEVENT
BEGIN:VEVENT
DTSTAMP:20260424T043103Z
DTSTART;VALUE=DATE:20110501
SUMMARY:SASO 2011 Deadline
DESCRIPTION:5th IEEE International Conference on Self-Adaptive and Self-O
 rganizing Systems
URL:http://www.wikicfp.com/cfp/servlet/event.showcfp?eventid=13581&copyow
 nerid=19294
UID:cfp132651-D@wikicfp.com
END:VEVENT
BEGIN:VEVENT
DTSTAMP:20260424T043103Z
DTSTART;VALUE=DATE:20110620
SUMMARY:SASO 2011 Notification Due
DESCRIPTION:5th IEEE International Conference on Self-Adaptive and Self-O
 rganizing Systems
URL:http://www.wikicfp.com/cfp/servlet/event.showcfp?eventid=13581&copyow
 nerid=19294
UID:cfp132651-N@wikicfp.com
END:VEVENT
BEGIN:VEVENT
DTSTAMP:20260424T043103Z
DTSTART;VALUE=DATE:20110718
SUMMARY:SASO 2011 Final Version Due
DESCRIPTION:5th IEEE International Conference on Self-Adaptive and Self-O
 rganizing Systems
URL:http://www.wikicfp.com/cfp/servlet/event.showcfp?eventid=13581&copyow
 nerid=19294
UID:cfp132651-N@wikicfp.com
END:VEVENT
BEGIN:VEVENT
DTSTAMP:20260424T043103Z
DTSTART;VALUE=DATE:20110926
DTEND;VALUE=DATE:20110929
SUMMARY:SOCC 2011
DESCRIPTION:IEEE 24th International SOC Conference
URL:http://www.wikicfp.com/cfp/servlet/event.showcfp?eventid=13567&copyow
 nerid=19294
UID:cfp132641-E@wikicfp.com
END:VEVENT
BEGIN:VEVENT
DTSTAMP:20260424T043103Z
DTSTART;VALUE=DATE:20110502
SUMMARY:SOCC 2011 Deadline
DESCRIPTION:IEEE 24th International SOC Conference
URL:http://www.wikicfp.com/cfp/servlet/event.showcfp?eventid=13567&copyow
 nerid=19294
UID:cfp132641-D@wikicfp.com
END:VEVENT
BEGIN:VEVENT
DTSTAMP:20260424T043103Z
DTSTART;VALUE=DATE:20110613
SUMMARY:SOCC 2011 Notification Due
DESCRIPTION:IEEE 24th International SOC Conference
URL:http://www.wikicfp.com/cfp/servlet/event.showcfp?eventid=13567&copyow
 nerid=19294
UID:cfp132641-N@wikicfp.com
END:VEVENT
BEGIN:VEVENT
DTSTAMP:20260424T043103Z
DTSTART;VALUE=DATE:20110711
SUMMARY:SOCC 2011 Final Version Due
DESCRIPTION:IEEE 24th International SOC Conference
URL:http://www.wikicfp.com/cfp/servlet/event.showcfp?eventid=13567&copyow
 nerid=19294
UID:cfp132641-N@wikicfp.com
END:VEVENT
BEGIN:VEVENT
DTSTAMP:20260424T043103Z
DTSTART;VALUE=DATE:20110805
DTEND;VALUE=DATE:20110808
SUMMARY:OSSC 2011
DESCRIPTION:IEEE International Workshop on Open-source Software for Scien
 tific Computation
URL:http://www.wikicfp.com/cfp/servlet/event.showcfp?eventid=13569&copyow
 nerid=19294
UID:cfp132643-E@wikicfp.com
END:VEVENT
BEGIN:VEVENT
DTSTAMP:20260424T043103Z
DTSTART;VALUE=DATE:20110515
SUMMARY:OSSC 2011 Deadline
DESCRIPTION:IEEE International Workshop on Open-source Software for Scien
 tific Computation
URL:http://www.wikicfp.com/cfp/servlet/event.showcfp?eventid=13569&copyow
 nerid=19294
UID:cfp132643-D@wikicfp.com
END:VEVENT
BEGIN:VEVENT
DTSTAMP:20260424T043103Z
DTSTART;VALUE=DATE:20110615
SUMMARY:OSSC 2011 Notification Due
DESCRIPTION:IEEE International Workshop on Open-source Software for Scien
 tific Computation
URL:http://www.wikicfp.com/cfp/servlet/event.showcfp?eventid=13569&copyow
 nerid=19294
UID:cfp132643-N@wikicfp.com
END:VEVENT
BEGIN:VEVENT
DTSTAMP:20260424T043103Z
DTSTART;VALUE=DATE:20110707
SUMMARY:OSSC 2011 Final Version Due
DESCRIPTION:IEEE International Workshop on Open-source Software for Scien
 tific Computation
URL:http://www.wikicfp.com/cfp/servlet/event.showcfp?eventid=13569&copyow
 nerid=19294
UID:cfp132643-N@wikicfp.com
END:VEVENT
BEGIN:VEVENT
DTSTAMP:20260424T043103Z
DTSTART;VALUE=DATE:20111025
DTEND;VALUE=DATE:20111030
SUMMARY:ICPCA 2011
DESCRIPTION:6th International Conference on Pervasive Computing and Appli
 cations
URL:http://www.wikicfp.com/cfp/servlet/event.showcfp?eventid=13585&copyow
 nerid=19294
UID:cfp132654-E@wikicfp.com
END:VEVENT
BEGIN:VEVENT
DTSTAMP:20260424T043103Z
DTSTART;VALUE=DATE:20110515
SUMMARY:ICPCA 2011 Deadline
DESCRIPTION:6th International Conference on Pervasive Computing and Appli
 cations
URL:http://www.wikicfp.com/cfp/servlet/event.showcfp?eventid=13585&copyow
 nerid=19294
UID:cfp132654-D@wikicfp.com
END:VEVENT
BEGIN:VEVENT
DTSTAMP:20260424T043103Z
DTSTART;VALUE=DATE:20110615
SUMMARY:ICPCA 2011 Notification Due
DESCRIPTION:6th International Conference on Pervasive Computing and Appli
 cations
URL:http://www.wikicfp.com/cfp/servlet/event.showcfp?eventid=13585&copyow
 nerid=19294
UID:cfp132654-N@wikicfp.com
END:VEVENT
BEGIN:VEVENT
DTSTAMP:20260424T043103Z
DTSTART;VALUE=DATE:20110731
SUMMARY:ICPCA 2011 Final Version Due
DESCRIPTION:6th International Conference on Pervasive Computing and Appli
 cations
URL:http://www.wikicfp.com/cfp/servlet/event.showcfp?eventid=13585&copyow
 nerid=19294
UID:cfp132654-N@wikicfp.com
END:VEVENT
BEGIN:VEVENT
DTSTAMP:20260424T043103Z
DTSTART;VALUE=DATE:20110727
DTEND;VALUE=DATE:20110731
SUMMARY:CGAMES 2011
DESCRIPTION:16th International Conference on Computer Games: AI\, Animati
 on\, Mobile\, Interactive Multimedia\, Educational & Serious Games
URL:http://www.wikicfp.com/cfp/servlet/event.showcfp?eventid=13576&copyow
 nerid=19294
UID:cfp132648-E@wikicfp.com
END:VEVENT
BEGIN:VEVENT
DTSTAMP:20260424T043103Z
DTSTART;VALUE=DATE:20110613
SUMMARY:CGAMES 2011 Deadline
DESCRIPTION:16th International Conference on Computer Games: AI\, Animati
 on\, Mobile\, Interactive Multimedia\, Educational & Serious Games
URL:http://www.wikicfp.com/cfp/servlet/event.showcfp?eventid=13576&copyow
 nerid=19294
UID:cfp132648-D@wikicfp.com
END:VEVENT
BEGIN:VEVENT
DTSTAMP:20260424T043103Z
DTSTART;VALUE=DATE:20110701
SUMMARY:CGAMES 2011 Notification Due
DESCRIPTION:16th International Conference on Computer Games: AI\, Animati
 on\, Mobile\, Interactive Multimedia\, Educational & Serious Games
URL:http://www.wikicfp.com/cfp/servlet/event.showcfp?eventid=13576&copyow
 nerid=19294
UID:cfp132648-N@wikicfp.com
END:VEVENT
BEGIN:VEVENT
DTSTAMP:20260424T043103Z
DTSTART;VALUE=DATE:20120319
DTEND;VALUE=DATE:20120323
SUMMARY:ICMTS 2012
DESCRIPTION:IEEE International Conference on Microelectronic Test Structu
 res
URL:http://www.wikicfp.com/cfp/servlet/event.showcfp?eventid=13578&copyow
 nerid=19294
UID:cfp132649-E@wikicfp.com
END:VEVENT
BEGIN:VEVENT
DTSTAMP:20260424T043103Z
DTSTART;VALUE=DATE:20110916
SUMMARY:ICMTS 2012 Deadline
DESCRIPTION:IEEE International Conference on Microelectronic Test Structu
 res
URL:http://www.wikicfp.com/cfp/servlet/event.showcfp?eventid=13578&copyow
 nerid=19294
UID:cfp132649-D@wikicfp.com
END:VEVENT
BEGIN:VEVENT
DTSTAMP:20260424T043103Z
DTSTART;VALUE=DATE:20111107
SUMMARY:ICMTS 2012 Notification Due
DESCRIPTION:IEEE International Conference on Microelectronic Test Structu
 res
URL:http://www.wikicfp.com/cfp/servlet/event.showcfp?eventid=13578&copyow
 nerid=19294
UID:cfp132649-N@wikicfp.com
END:VEVENT
BEGIN:VEVENT
DTSTAMP:20260424T043103Z
DTSTART;VALUE=DATE:20120106
SUMMARY:ICMTS 2012 Final Version Due
DESCRIPTION:IEEE International Conference on Microelectronic Test Structu
 res
URL:http://www.wikicfp.com/cfp/servlet/event.showcfp?eventid=13578&copyow
 nerid=19294
UID:cfp132649-N@wikicfp.com
END:VEVENT
BEGIN:VEVENT
DTSTAMP:20260424T043103Z
DTSTART;VALUE=DATE:20101215
SUMMARY:ISERP 2011 Abstract Due
DESCRIPTION:International Journals on All Engineering Sciences\, Business
  Administration Management and Medical Sciences
URL:http://www.wikicfp.com/cfp/servlet/event.showcfp?eventid=12329&copyow
 nerid=19294
UID:cfp132638-A@wikicfp.com
END:VEVENT
BEGIN:VEVENT
DTSTAMP:20260424T043103Z
DTSTART;VALUE=DATE:20111231
SUMMARY:ISERP 2011 Deadline
DESCRIPTION:International Journals on All Engineering Sciences\, Business
  Administration Management and Medical Sciences
URL:http://www.wikicfp.com/cfp/servlet/event.showcfp?eventid=12329&copyow
 nerid=19294
UID:cfp132638-D@wikicfp.com
END:VEVENT
END:VCALENDAR
