BEGIN:VCALENDAR
PRODID:-//WikiCFP//oliver254 1.0//EN
VERSION:2.0
CALSCALE:GREGORIAN
BEGIN:VEVENT
DTSTAMP:20260421T161500Z
DTSTART;VALUE=DATE:20101215
DTEND;VALUE=DATE:20101219
SUMMARY:KARE 2010
DESCRIPTION:Knowledge Acquisition\, Reuse and Evaluation 2010
URL:http://www.wikicfp.com/cfp/servlet/event.showcfp?eventid=9642&copyown
 erid=19229
UID:cfp132357-E@wikicfp.com
END:VEVENT
BEGIN:VEVENT
DTSTAMP:20260421T161500Z
DTSTART;VALUE=DATE:20100601
SUMMARY:KARE 2010 Deadline
DESCRIPTION:Knowledge Acquisition\, Reuse and Evaluation 2010
URL:http://www.wikicfp.com/cfp/servlet/event.showcfp?eventid=9642&copyown
 erid=19229
UID:cfp132357-D@wikicfp.com
END:VEVENT
BEGIN:VEVENT
DTSTAMP:20260421T161500Z
DTSTART;VALUE=DATE:20100715
SUMMARY:KARE 2010 Notification Due
DESCRIPTION:Knowledge Acquisition\, Reuse and Evaluation 2010
URL:http://www.wikicfp.com/cfp/servlet/event.showcfp?eventid=9642&copyown
 erid=19229
UID:cfp132357-N@wikicfp.com
END:VEVENT
BEGIN:VEVENT
DTSTAMP:20260421T161500Z
DTSTART;VALUE=DATE:20100730
SUMMARY:KARE 2010 Final Version Due
DESCRIPTION:Knowledge Acquisition\, Reuse and Evaluation 2010
URL:http://www.wikicfp.com/cfp/servlet/event.showcfp?eventid=9642&copyown
 erid=19229
UID:cfp132357-N@wikicfp.com
END:VEVENT
BEGIN:VEVENT
DTSTAMP:20260421T161500Z
DTSTART;VALUE=DATE:20110628
DTEND;VALUE=DATE:20110701
SUMMARY:TOOLS Europe 2011
DESCRIPTION:49th International Conference Objects\, Models\, Components\,
  Patterns
URL:http://www.wikicfp.com/cfp/servlet/event.showcfp?eventid=11350&copyow
 nerid=19229
UID:cfp132361-E@wikicfp.com
END:VEVENT
BEGIN:VEVENT
DTSTAMP:20260421T161500Z
DTSTART;VALUE=DATE:20110128
SUMMARY:TOOLS Europe 2011 Deadline
DESCRIPTION:49th International Conference Objects\, Models\, Components\,
  Patterns
URL:http://www.wikicfp.com/cfp/servlet/event.showcfp?eventid=11350&copyow
 nerid=19229
UID:cfp132361-D@wikicfp.com
END:VEVENT
BEGIN:VEVENT
DTSTAMP:20260421T161500Z
DTSTART;VALUE=DATE:20110323
SUMMARY:TOOLS Europe 2011 Notification Due
DESCRIPTION:49th International Conference Objects\, Models\, Components\,
  Patterns
URL:http://www.wikicfp.com/cfp/servlet/event.showcfp?eventid=11350&copyow
 nerid=19229
UID:cfp132361-N@wikicfp.com
END:VEVENT
BEGIN:VEVENT
DTSTAMP:20260421T161500Z
DTSTART;VALUE=DATE:20110404
SUMMARY:TOOLS Europe 2011 Final Version Due
DESCRIPTION:49th International Conference Objects\, Models\, Components\,
  Patterns
URL:http://www.wikicfp.com/cfp/servlet/event.showcfp?eventid=11350&copyow
 nerid=19229
UID:cfp132361-N@wikicfp.com
END:VEVENT
END:VCALENDAR
