BEGIN:VCALENDAR
PRODID:-//WikiCFP//bretier 1.0//EN
VERSION:2.0
CALSCALE:GREGORIAN
BEGIN:VEVENT
DTSTAMP:20260424T052930Z
DTSTART;VALUE=DATE:20100711
DTEND;VALUE=DATE:20100716
SUMMARY:AAAI 2010
DESCRIPTION:The Twenty-Fourth AAAI Conference on Artificial Intelligence
URL:http://www.wikicfp.com/cfp/servlet/event.showcfp?eventid=6149&copyown
 erid=1910
UID:cfp57884-E@wikicfp.com
END:VEVENT
BEGIN:VEVENT
DTSTAMP:20260424T052930Z
DTSTART;VALUE=DATE:20100118
SUMMARY:AAAI 2010 Abstract Due
DESCRIPTION:The Twenty-Fourth AAAI Conference on Artificial Intelligence
URL:http://www.wikicfp.com/cfp/servlet/event.showcfp?eventid=6149&copyown
 erid=1910
UID:cfp57884-A@wikicfp.com
END:VEVENT
BEGIN:VEVENT
DTSTAMP:20260424T052930Z
DTSTART;VALUE=DATE:20100121
SUMMARY:AAAI 2010 Deadline
DESCRIPTION:The Twenty-Fourth AAAI Conference on Artificial Intelligence
URL:http://www.wikicfp.com/cfp/servlet/event.showcfp?eventid=6149&copyown
 erid=1910
UID:cfp57884-D@wikicfp.com
END:VEVENT
BEGIN:VEVENT
DTSTAMP:20260424T052930Z
DTSTART;VALUE=DATE:20100326
SUMMARY:AAAI 2010 Notification Due
DESCRIPTION:The Twenty-Fourth AAAI Conference on Artificial Intelligence
URL:http://www.wikicfp.com/cfp/servlet/event.showcfp?eventid=6149&copyown
 erid=1910
UID:cfp57884-N@wikicfp.com
END:VEVENT
BEGIN:VEVENT
DTSTAMP:20260424T052930Z
DTSTART;VALUE=DATE:20100413
SUMMARY:AAAI 2010 Final Version Due
DESCRIPTION:The Twenty-Fourth AAAI Conference on Artificial Intelligence
URL:http://www.wikicfp.com/cfp/servlet/event.showcfp?eventid=6149&copyown
 erid=1910
UID:cfp57884-N@wikicfp.com
END:VEVENT
BEGIN:VEVENT
DTSTAMP:20260424T052930Z
DTSTART;VALUE=DATE:20100920
DTEND;VALUE=DATE:20100924
SUMMARY:HCI 2010
DESCRIPTION:Human Computer Interaction
URL:http://www.wikicfp.com/cfp/servlet/event.showcfp?eventid=6327&copyown
 erid=1910
UID:cfp57889-E@wikicfp.com
END:VEVENT
BEGIN:VEVENT
DTSTAMP:20260424T052930Z
DTSTART;VALUE=DATE:20100131
SUMMARY:HCI 2010 Deadline
DESCRIPTION:Human Computer Interaction
URL:http://www.wikicfp.com/cfp/servlet/event.showcfp?eventid=6327&copyown
 erid=1910
UID:cfp57889-D@wikicfp.com
END:VEVENT
BEGIN:VEVENT
DTSTAMP:20260424T052930Z
DTSTART;VALUE=DATE:20100423
SUMMARY:HCI 2010 Notification Due
DESCRIPTION:Human Computer Interaction
URL:http://www.wikicfp.com/cfp/servlet/event.showcfp?eventid=6327&copyown
 erid=1910
UID:cfp57889-N@wikicfp.com
END:VEVENT
BEGIN:VEVENT
DTSTAMP:20260424T052930Z
DTSTART;VALUE=DATE:20100515
SUMMARY:HCI 2010 Final Version Due
DESCRIPTION:Human Computer Interaction
URL:http://www.wikicfp.com/cfp/servlet/event.showcfp?eventid=6327&copyown
 erid=1910
UID:cfp57889-N@wikicfp.com
END:VEVENT
BEGIN:VEVENT
DTSTAMP:20260424T052930Z
DTSTART;VALUE=DATE:20100621
DTEND;VALUE=DATE:20100625
SUMMARY:ICML 2010
DESCRIPTION:The 27th International Conference on Machine Learning
URL:http://www.wikicfp.com/cfp/servlet/event.showcfp?eventid=6668&copyown
 erid=1910
UID:cfp49449-E@wikicfp.com
END:VEVENT
BEGIN:VEVENT
DTSTAMP:20260424T052930Z
DTSTART;VALUE=DATE:20100201
SUMMARY:ICML 2010 Deadline
DESCRIPTION:The 27th International Conference on Machine Learning
URL:http://www.wikicfp.com/cfp/servlet/event.showcfp?eventid=6668&copyown
 erid=1910
UID:cfp49449-D@wikicfp.com
END:VEVENT
BEGIN:VEVENT
DTSTAMP:20260424T052930Z
DTSTART;VALUE=DATE:20100416
SUMMARY:ICML 2010 Notification Due
DESCRIPTION:The 27th International Conference on Machine Learning
URL:http://www.wikicfp.com/cfp/servlet/event.showcfp?eventid=6668&copyown
 erid=1910
UID:cfp49449-N@wikicfp.com
END:VEVENT
BEGIN:VEVENT
DTSTAMP:20260424T052930Z
DTSTART;VALUE=DATE:20100711
DTEND;VALUE=DATE:20100717
SUMMARY:ACL 2010
DESCRIPTION:The 48th Annual Meeting of the Association for Computational 
 Linguistics
URL:http://www.wikicfp.com/cfp/servlet/event.showcfp?eventid=6126&copyown
 erid=1910
UID:cfp57879-E@wikicfp.com
END:VEVENT
BEGIN:VEVENT
DTSTAMP:20260424T052930Z
DTSTART;VALUE=DATE:20100215
SUMMARY:ACL 2010 Deadline
DESCRIPTION:The 48th Annual Meeting of the Association for Computational 
 Linguistics
URL:http://www.wikicfp.com/cfp/servlet/event.showcfp?eventid=6126&copyown
 erid=1910
UID:cfp57879-D@wikicfp.com
END:VEVENT
BEGIN:VEVENT
DTSTAMP:20260424T052930Z
DTSTART;VALUE=DATE:20100420
SUMMARY:ACL 2010 Notification Due
DESCRIPTION:The 48th Annual Meeting of the Association for Computational 
 Linguistics
URL:http://www.wikicfp.com/cfp/servlet/event.showcfp?eventid=6126&copyown
 erid=1910
UID:cfp57879-N@wikicfp.com
END:VEVENT
BEGIN:VEVENT
DTSTAMP:20260424T052930Z
DTSTART;VALUE=DATE:20100516
SUMMARY:ACL 2010 Final Version Due
DESCRIPTION:The 48th Annual Meeting of the Association for Computational 
 Linguistics
URL:http://www.wikicfp.com/cfp/servlet/event.showcfp?eventid=6126&copyown
 erid=1910
UID:cfp57879-N@wikicfp.com
END:VEVENT
BEGIN:VEVENT
DTSTAMP:20260424T052930Z
DTSTART;VALUE=DATE:20100816
DTEND;VALUE=DATE:20100821
SUMMARY:ECAI 2010
DESCRIPTION:The 19th European Conference on Artificial Intelligence
URL:http://www.wikicfp.com/cfp/servlet/event.showcfp?eventid=5380&copyown
 erid=1910
UID:cfp57883-E@wikicfp.com
END:VEVENT
BEGIN:VEVENT
DTSTAMP:20260424T052930Z
DTSTART;VALUE=DATE:20100215
SUMMARY:ECAI 2010 Abstract Due
DESCRIPTION:The 19th European Conference on Artificial Intelligence
URL:http://www.wikicfp.com/cfp/servlet/event.showcfp?eventid=5380&copyown
 erid=1910
UID:cfp57883-A@wikicfp.com
END:VEVENT
BEGIN:VEVENT
DTSTAMP:20260424T052930Z
DTSTART;VALUE=DATE:20100222
SUMMARY:ECAI 2010 Deadline
DESCRIPTION:The 19th European Conference on Artificial Intelligence
URL:http://www.wikicfp.com/cfp/servlet/event.showcfp?eventid=5380&copyown
 erid=1910
UID:cfp57883-D@wikicfp.com
END:VEVENT
BEGIN:VEVENT
DTSTAMP:20260424T052930Z
DTSTART;VALUE=DATE:20100430
SUMMARY:ECAI 2010 Notification Due
DESCRIPTION:The 19th European Conference on Artificial Intelligence
URL:http://www.wikicfp.com/cfp/servlet/event.showcfp?eventid=5380&copyown
 erid=1910
UID:cfp57883-N@wikicfp.com
END:VEVENT
BEGIN:VEVENT
DTSTAMP:20260424T052930Z
DTSTART;VALUE=DATE:20100528
SUMMARY:ECAI 2010 Final Version Due
DESCRIPTION:The 19th European Conference on Artificial Intelligence
URL:http://www.wikicfp.com/cfp/servlet/event.showcfp?eventid=5380&copyown
 erid=1910
UID:cfp57883-N@wikicfp.com
END:VEVENT
BEGIN:VEVENT
DTSTAMP:20260424T052930Z
DTSTART;VALUE=DATE:20100823
DTEND;VALUE=DATE:20100828
SUMMARY:COLING 2010
DESCRIPTION:23rd International Conference on Computational Linguistics
URL:http://www.wikicfp.com/cfp/servlet/event.showcfp?eventid=6446&copyown
 erid=1910
UID:cfp57880-E@wikicfp.com
END:VEVENT
BEGIN:VEVENT
DTSTAMP:20260424T052930Z
DTSTART;VALUE=DATE:20100422
SUMMARY:COLING 2010 Deadline
DESCRIPTION:23rd International Conference on Computational Linguistics
URL:http://www.wikicfp.com/cfp/servlet/event.showcfp?eventid=6446&copyown
 erid=1910
UID:cfp57880-D@wikicfp.com
END:VEVENT
BEGIN:VEVENT
DTSTAMP:20260424T052930Z
DTSTART;VALUE=DATE:20100528
SUMMARY:COLING 2010 Notification Due
DESCRIPTION:23rd International Conference on Computational Linguistics
URL:http://www.wikicfp.com/cfp/servlet/event.showcfp?eventid=6446&copyown
 erid=1910
UID:cfp57880-N@wikicfp.com
END:VEVENT
BEGIN:VEVENT
DTSTAMP:20260424T052930Z
DTSTART;VALUE=DATE:20100702
SUMMARY:COLING 2010 Final Version Due
DESCRIPTION:23rd International Conference on Computational Linguistics
URL:http://www.wikicfp.com/cfp/servlet/event.showcfp?eventid=6446&copyown
 erid=1910
UID:cfp57880-N@wikicfp.com
END:VEVENT
BEGIN:VEVENT
DTSTAMP:20260424T052930Z
DTSTART;VALUE=DATE:20100926
DTEND;VALUE=DATE:20101001
SUMMARY:INTERSPEECH 2010
DESCRIPTION:International Conference on Spoken Language Processing
URL:http://www.wikicfp.com/cfp/servlet/event.showcfp?eventid=6781&copyown
 erid=1910
UID:cfp57881-E@wikicfp.com
END:VEVENT
BEGIN:VEVENT
DTSTAMP:20260424T052930Z
DTSTART;VALUE=DATE:20100728
SUMMARY:INTERSPEECH 2010 Abstract Due
DESCRIPTION:International Conference on Spoken Language Processing
URL:http://www.wikicfp.com/cfp/servlet/event.showcfp?eventid=6781&copyown
 erid=1910
UID:cfp57881-A@wikicfp.com
END:VEVENT
BEGIN:VEVENT
DTSTAMP:20260424T052930Z
DTSTART;VALUE=DATE:20100430
SUMMARY:INTERSPEECH 2010 Deadline
DESCRIPTION:International Conference on Spoken Language Processing
URL:http://www.wikicfp.com/cfp/servlet/event.showcfp?eventid=6781&copyown
 erid=1910
UID:cfp57881-D@wikicfp.com
END:VEVENT
BEGIN:VEVENT
DTSTAMP:20260424T052930Z
DTSTART;VALUE=DATE:20100702
SUMMARY:INTERSPEECH 2010 Notification Due
DESCRIPTION:International Conference on Spoken Language Processing
URL:http://www.wikicfp.com/cfp/servlet/event.showcfp?eventid=6781&copyown
 erid=1910
UID:cfp57881-N@wikicfp.com
END:VEVENT
BEGIN:VEVENT
DTSTAMP:20260424T052930Z
DTSTART;VALUE=DATE:20100709
SUMMARY:INTERSPEECH 2010 Final Version Due
DESCRIPTION:International Conference on Spoken Language Processing
URL:http://www.wikicfp.com/cfp/servlet/event.showcfp?eventid=6781&copyown
 erid=1910
UID:cfp57881-N@wikicfp.com
END:VEVENT
END:VCALENDAR
