BEGIN:VCALENDAR
PRODID:-//WikiCFP//xonobo 1.0//EN
VERSION:2.0
CALSCALE:GREGORIAN
BEGIN:VEVENT
DTSTAMP:20260423T071132Z
DTSTART;VALUE=DATE:20110516
DTEND;VALUE=DATE:20110519
SUMMARY:3DTV-CON 2011
DESCRIPTION:3DTV-CONFERENCE 
URL:http://www.wikicfp.com/cfp/servlet/event.showcfp?eventid=11352&copyow
 nerid=18995
UID:cfp130887-E@wikicfp.com
END:VEVENT
BEGIN:VEVENT
DTSTAMP:20260423T071132Z
DTSTART;VALUE=DATE:20101215
SUMMARY:3DTV-CON 2011 Deadline
DESCRIPTION:3DTV-CONFERENCE 
URL:http://www.wikicfp.com/cfp/servlet/event.showcfp?eventid=11352&copyow
 nerid=18995
UID:cfp130887-D@wikicfp.com
END:VEVENT
BEGIN:VEVENT
DTSTAMP:20260423T071132Z
DTSTART;VALUE=DATE:20110210
SUMMARY:3DTV-CON 2011 Notification Due
DESCRIPTION:3DTV-CONFERENCE 
URL:http://www.wikicfp.com/cfp/servlet/event.showcfp?eventid=11352&copyow
 nerid=18995
UID:cfp130887-N@wikicfp.com
END:VEVENT
BEGIN:VEVENT
DTSTAMP:20260423T071132Z
DTSTART;VALUE=DATE:20100309
SUMMARY:3DTV-CON 2011 Final Version Due
DESCRIPTION:3DTV-CONFERENCE 
URL:http://www.wikicfp.com/cfp/servlet/event.showcfp?eventid=11352&copyow
 nerid=18995
UID:cfp130887-N@wikicfp.com
END:VEVENT
BEGIN:VEVENT
DTSTAMP:20260423T071132Z
DTSTART;VALUE=DATE:20110911
DTEND;VALUE=DATE:20110915
SUMMARY:ICIP 2011
DESCRIPTION:2011 IEEE International Conference on Image Processing 
URL:http://www.wikicfp.com/cfp/servlet/event.showcfp?eventid=11066&copyow
 nerid=18995
UID:cfp130883-E@wikicfp.com
END:VEVENT
BEGIN:VEVENT
DTSTAMP:20260423T071132Z
DTSTART;VALUE=DATE:20110121
SUMMARY:ICIP 2011 Deadline
DESCRIPTION:2011 IEEE International Conference on Image Processing 
URL:http://www.wikicfp.com/cfp/servlet/event.showcfp?eventid=11066&copyow
 nerid=18995
UID:cfp130883-D@wikicfp.com
END:VEVENT
BEGIN:VEVENT
DTSTAMP:20260423T071132Z
DTSTART;VALUE=DATE:20110418
SUMMARY:ICIP 2011 Notification Due
DESCRIPTION:2011 IEEE International Conference on Image Processing 
URL:http://www.wikicfp.com/cfp/servlet/event.showcfp?eventid=11066&copyow
 nerid=18995
UID:cfp130883-N@wikicfp.com
END:VEVENT
BEGIN:VEVENT
DTSTAMP:20260423T071132Z
DTSTART;VALUE=DATE:20110506
SUMMARY:ICIP 2011 Final Version Due
DESCRIPTION:2011 IEEE International Conference on Image Processing 
URL:http://www.wikicfp.com/cfp/servlet/event.showcfp?eventid=11066&copyow
 nerid=18995
UID:cfp130883-N@wikicfp.com
END:VEVENT
BEGIN:VEVENT
DTSTAMP:20260423T071132Z
DTSTART;VALUE=DATE:20110616
DTEND;VALUE=DATE:20110619
SUMMARY:IWSSIP 2011
DESCRIPTION:International Conference on Systems\, Signals and Image Proce
 ssing
URL:http://www.wikicfp.com/cfp/servlet/event.showcfp?eventid=12649&copyow
 nerid=18995
UID:cfp130892-E@wikicfp.com
END:VEVENT
BEGIN:VEVENT
DTSTAMP:20260423T071132Z
DTSTART;VALUE=DATE:20110207
SUMMARY:IWSSIP 2011 Deadline
DESCRIPTION:International Conference on Systems\, Signals and Image Proce
 ssing
URL:http://www.wikicfp.com/cfp/servlet/event.showcfp?eventid=12649&copyow
 nerid=18995
UID:cfp130892-D@wikicfp.com
END:VEVENT
BEGIN:VEVENT
DTSTAMP:20260423T071132Z
DTSTART;VALUE=DATE:20110314
SUMMARY:IWSSIP 2011 Notification Due
DESCRIPTION:International Conference on Systems\, Signals and Image Proce
 ssing
URL:http://www.wikicfp.com/cfp/servlet/event.showcfp?eventid=12649&copyow
 nerid=18995
UID:cfp130892-N@wikicfp.com
END:VEVENT
BEGIN:VEVENT
DTSTAMP:20260423T071132Z
DTSTART;VALUE=DATE:20110405
SUMMARY:IWSSIP 2011 Final Version Due
DESCRIPTION:International Conference on Systems\, Signals and Image Proce
 ssing
URL:http://www.wikicfp.com/cfp/servlet/event.showcfp?eventid=12649&copyow
 nerid=18995
UID:cfp130892-N@wikicfp.com
END:VEVENT
BEGIN:VEVENT
DTSTAMP:20260423T071132Z
DTSTART;VALUE=DATE:20110829
DTEND;VALUE=DATE:20110904
SUMMARY:EUSIPCO 2011
DESCRIPTION:European Signal Processing Conference
URL:http://www.wikicfp.com/cfp/servlet/event.showcfp?eventid=10580&copyow
 nerid=18995
UID:cfp130885-E@wikicfp.com
END:VEVENT
BEGIN:VEVENT
DTSTAMP:20260423T071132Z
DTSTART;VALUE=DATE:20110221
SUMMARY:EUSIPCO 2011 Deadline
DESCRIPTION:European Signal Processing Conference
URL:http://www.wikicfp.com/cfp/servlet/event.showcfp?eventid=10580&copyow
 nerid=18995
UID:cfp130885-D@wikicfp.com
END:VEVENT
BEGIN:VEVENT
DTSTAMP:20260423T071132Z
DTSTART;VALUE=DATE:20110523
SUMMARY:EUSIPCO 2011 Notification Due
DESCRIPTION:European Signal Processing Conference
URL:http://www.wikicfp.com/cfp/servlet/event.showcfp?eventid=10580&copyow
 nerid=18995
UID:cfp130885-N@wikicfp.com
END:VEVENT
BEGIN:VEVENT
DTSTAMP:20260423T071132Z
DTSTART;VALUE=DATE:20110606
SUMMARY:EUSIPCO 2011 Final Version Due
DESCRIPTION:European Signal Processing Conference
URL:http://www.wikicfp.com/cfp/servlet/event.showcfp?eventid=10580&copyow
 nerid=18995
UID:cfp130885-N@wikicfp.com
END:VEVENT
BEGIN:VEVENT
DTSTAMP:20260423T071132Z
DTSTART;VALUE=DATE:20110622
DTEND;VALUE=DATE:20110625
SUMMARY:SIPA 2011
DESCRIPTION:The  International Conference on Signal and Image Processing 
 and Applications
URL:http://www.wikicfp.com/cfp/servlet/event.showcfp?eventid=12516&copyow
 nerid=18995
UID:cfp130889-E@wikicfp.com
END:VEVENT
BEGIN:VEVENT
DTSTAMP:20260423T071132Z
DTSTART;VALUE=DATE:20110301
SUMMARY:SIPA 2011 Deadline
DESCRIPTION:The  International Conference on Signal and Image Processing 
 and Applications
URL:http://www.wikicfp.com/cfp/servlet/event.showcfp?eventid=12516&copyow
 nerid=18995
UID:cfp130889-D@wikicfp.com
END:VEVENT
BEGIN:VEVENT
DTSTAMP:20260423T071132Z
DTSTART;VALUE=DATE:20110401
SUMMARY:SIPA 2011 Notification Due
DESCRIPTION:The  International Conference on Signal and Image Processing 
 and Applications
URL:http://www.wikicfp.com/cfp/servlet/event.showcfp?eventid=12516&copyow
 nerid=18995
UID:cfp130889-N@wikicfp.com
END:VEVENT
BEGIN:VEVENT
DTSTAMP:20260423T071132Z
DTSTART;VALUE=DATE:20110415
SUMMARY:SIPA 2011 Final Version Due
DESCRIPTION:The  International Conference on Signal and Image Processing 
 and Applications
URL:http://www.wikicfp.com/cfp/servlet/event.showcfp?eventid=12516&copyow
 nerid=18995
UID:cfp130889-N@wikicfp.com
END:VEVENT
BEGIN:VEVENT
DTSTAMP:20260423T071132Z
DTSTART;VALUE=DATE:20110601
DTEND;VALUE=DATE:20110604
SUMMARY:CV 2011
DESCRIPTION:International Conference on Computer Vision
URL:http://www.wikicfp.com/cfp/servlet/event.showcfp?eventid=13289&copyow
 nerid=18995
UID:cfp130891-E@wikicfp.com
END:VEVENT
BEGIN:VEVENT
DTSTAMP:20260423T071132Z
DTSTART;VALUE=DATE:20110301
SUMMARY:CV 2011 Deadline
DESCRIPTION:International Conference on Computer Vision
URL:http://www.wikicfp.com/cfp/servlet/event.showcfp?eventid=13289&copyow
 nerid=18995
UID:cfp130891-D@wikicfp.com
END:VEVENT
BEGIN:VEVENT
DTSTAMP:20260423T071132Z
DTSTART;VALUE=DATE:20110321
SUMMARY:CV 2011 Notification Due
DESCRIPTION:International Conference on Computer Vision
URL:http://www.wikicfp.com/cfp/servlet/event.showcfp?eventid=13289&copyow
 nerid=18995
UID:cfp130891-N@wikicfp.com
END:VEVENT
BEGIN:VEVENT
DTSTAMP:20260423T071132Z
DTSTART;VALUE=DATE:20110408
SUMMARY:CV 2011 Final Version Due
DESCRIPTION:International Conference on Computer Vision
URL:http://www.wikicfp.com/cfp/servlet/event.showcfp?eventid=13289&copyow
 nerid=18995
UID:cfp130891-N@wikicfp.com
END:VEVENT
BEGIN:VEVENT
DTSTAMP:20260423T071132Z
DTSTART;VALUE=DATE:20110718
DTEND;VALUE=DATE:20110722
SUMMARY:IPCV 2011
DESCRIPTION:The 2011 International Conference on Image Processing\, Compu
 ter Vision\, and Pattern Recognition
URL:http://www.wikicfp.com/cfp/servlet/event.showcfp?eventid=13359&copyow
 nerid=18995
UID:cfp130894-E@wikicfp.com
END:VEVENT
BEGIN:VEVENT
DTSTAMP:20260423T071132Z
DTSTART;VALUE=DATE:20110310
SUMMARY:IPCV 2011 Deadline
DESCRIPTION:The 2011 International Conference on Image Processing\, Compu
 ter Vision\, and Pattern Recognition
URL:http://www.wikicfp.com/cfp/servlet/event.showcfp?eventid=13359&copyow
 nerid=18995
UID:cfp130894-D@wikicfp.com
END:VEVENT
BEGIN:VEVENT
DTSTAMP:20260423T071132Z
DTSTART;VALUE=DATE:20110829
DTEND;VALUE=DATE:20110901
SUMMARY:CAIP 2011
DESCRIPTION:14th International Conference on Computer Analysis of Images 
 and Pattern
URL:http://www.wikicfp.com/cfp/servlet/event.showcfp?eventid=11065&copyow
 nerid=18995
UID:cfp130884-E@wikicfp.com
END:VEVENT
BEGIN:VEVENT
DTSTAMP:20260423T071132Z
DTSTART;VALUE=DATE:20110325
SUMMARY:CAIP 2011 Deadline
DESCRIPTION:14th International Conference on Computer Analysis of Images 
 and Pattern
URL:http://www.wikicfp.com/cfp/servlet/event.showcfp?eventid=11065&copyow
 nerid=18995
UID:cfp130884-D@wikicfp.com
END:VEVENT
BEGIN:VEVENT
DTSTAMP:20260423T071132Z
DTSTART;VALUE=DATE:20110513
SUMMARY:CAIP 2011 Notification Due
DESCRIPTION:14th International Conference on Computer Analysis of Images 
 and Pattern
URL:http://www.wikicfp.com/cfp/servlet/event.showcfp?eventid=11065&copyow
 nerid=18995
UID:cfp130884-N@wikicfp.com
END:VEVENT
BEGIN:VEVENT
DTSTAMP:20260423T071132Z
DTSTART;VALUE=DATE:20110601
SUMMARY:CAIP 2011 Final Version Due
DESCRIPTION:14th International Conference on Computer Analysis of Images 
 and Pattern
URL:http://www.wikicfp.com/cfp/servlet/event.showcfp?eventid=11065&copyow
 nerid=18995
UID:cfp130884-N@wikicfp.com
END:VEVENT
BEGIN:VEVENT
DTSTAMP:20260423T071132Z
DTSTART;VALUE=DATE:20110621
DTEND;VALUE=DATE:20110623
SUMMARY:SMPTE 3D  2011
DESCRIPTION:2nd Annual SMPTE International Conference  on Stereoscopic 3D
  for Media & Entertainment
URL:http://www.wikicfp.com/cfp/servlet/event.showcfp?eventid=12515&copyow
 nerid=18995
UID:cfp130893-E@wikicfp.com
END:VEVENT
BEGIN:VEVENT
DTSTAMP:20260423T071132Z
DTSTART;VALUE=DATE:20110228
SUMMARY:SMPTE 3D  2011 Abstract Due
DESCRIPTION:2nd Annual SMPTE International Conference  on Stereoscopic 3D
  for Media & Entertainment
URL:http://www.wikicfp.com/cfp/servlet/event.showcfp?eventid=12515&copyow
 nerid=18995
UID:cfp130893-A@wikicfp.com
END:VEVENT
BEGIN:VEVENT
DTSTAMP:20260423T071132Z
DTSTART;VALUE=DATE:20110415
SUMMARY:SMPTE 3D  2011 Deadline
DESCRIPTION:2nd Annual SMPTE International Conference  on Stereoscopic 3D
  for Media & Entertainment
URL:http://www.wikicfp.com/cfp/servlet/event.showcfp?eventid=12515&copyow
 nerid=18995
UID:cfp130893-D@wikicfp.com
END:VEVENT
BEGIN:VEVENT
DTSTAMP:20260423T071132Z
DTSTART;VALUE=DATE:20110311
SUMMARY:SMPTE 3D  2011 Notification Due
DESCRIPTION:2nd Annual SMPTE International Conference  on Stereoscopic 3D
  for Media & Entertainment
URL:http://www.wikicfp.com/cfp/servlet/event.showcfp?eventid=12515&copyow
 nerid=18995
UID:cfp130893-N@wikicfp.com
END:VEVENT
BEGIN:VEVENT
DTSTAMP:20260423T071132Z
DTSTART;VALUE=DATE:20110520
SUMMARY:SMPTE 3D  2011 Final Version Due
DESCRIPTION:2nd Annual SMPTE International Conference  on Stereoscopic 3D
  for Media & Entertainment
URL:http://www.wikicfp.com/cfp/servlet/event.showcfp?eventid=12515&copyow
 nerid=18995
UID:cfp130893-N@wikicfp.com
END:VEVENT
BEGIN:VEVENT
DTSTAMP:20260423T071132Z
DTSTART;VALUE=DATE:20111006
DTEND;VALUE=DATE:20111008
SUMMARY:SPIT 2011
DESCRIPTION:International Joint Conference on Advances in Signal Processi
 ng and Information Technology
URL:http://www.wikicfp.com/cfp/servlet/event.showcfp?eventid=13211&copyow
 nerid=18995
UID:cfp130890-E@wikicfp.com
END:VEVENT
BEGIN:VEVENT
DTSTAMP:20260423T071132Z
DTSTART;VALUE=DATE:20110501
SUMMARY:SPIT 2011 Deadline
DESCRIPTION:International Joint Conference on Advances in Signal Processi
 ng and Information Technology
URL:http://www.wikicfp.com/cfp/servlet/event.showcfp?eventid=13211&copyow
 nerid=18995
UID:cfp130890-D@wikicfp.com
END:VEVENT
BEGIN:VEVENT
DTSTAMP:20260423T071132Z
DTSTART;VALUE=DATE:20110602
SUMMARY:SPIT 2011 Notification Due
DESCRIPTION:International Joint Conference on Advances in Signal Processi
 ng and Information Technology
URL:http://www.wikicfp.com/cfp/servlet/event.showcfp?eventid=13211&copyow
 nerid=18995
UID:cfp130890-N@wikicfp.com
END:VEVENT
BEGIN:VEVENT
DTSTAMP:20260423T071132Z
DTSTART;VALUE=DATE:20110710
SUMMARY:SPIT 2011 Final Version Due
DESCRIPTION:International Joint Conference on Advances in Signal Processi
 ng and Information Technology
URL:http://www.wikicfp.com/cfp/servlet/event.showcfp?eventid=13211&copyow
 nerid=18995
UID:cfp130890-N@wikicfp.com
END:VEVENT
BEGIN:VEVENT
DTSTAMP:20260423T071132Z
DTSTART;VALUE=DATE:20110904
DTEND;VALUE=DATE:20110907
SUMMARY:ISPA 2011
DESCRIPTION:7th International Symposium on Image and Signal Processing an
 d Analysis
URL:http://www.wikicfp.com/cfp/servlet/event.showcfp?eventid=14341&copyow
 nerid=18995
UID:cfp173091-E@wikicfp.com
END:VEVENT
BEGIN:VEVENT
DTSTAMP:20260423T071132Z
DTSTART;VALUE=DATE:20110515
SUMMARY:ISPA 2011 Deadline
DESCRIPTION:7th International Symposium on Image and Signal Processing an
 d Analysis
URL:http://www.wikicfp.com/cfp/servlet/event.showcfp?eventid=14341&copyow
 nerid=18995
UID:cfp173091-D@wikicfp.com
END:VEVENT
BEGIN:VEVENT
DTSTAMP:20260423T071132Z
DTSTART;VALUE=DATE:20110906
DTEND;VALUE=DATE:20110909
SUMMARY:ICCE-Berlin 2011
DESCRIPTION:1st IEEE Conference International Conference on Consumer Elec
 tronics Berlin
URL:http://www.wikicfp.com/cfp/servlet/event.showcfp?eventid=14936&copyow
 nerid=18995
UID:cfp153466-E@wikicfp.com
END:VEVENT
BEGIN:VEVENT
DTSTAMP:20260423T071132Z
DTSTART;VALUE=DATE:20110517
SUMMARY:ICCE-Berlin 2011 Deadline
DESCRIPTION:1st IEEE Conference International Conference on Consumer Elec
 tronics Berlin
URL:http://www.wikicfp.com/cfp/servlet/event.showcfp?eventid=14936&copyow
 nerid=18995
UID:cfp153466-D@wikicfp.com
END:VEVENT
BEGIN:VEVENT
DTSTAMP:20260423T071132Z
DTSTART;VALUE=DATE:20110525
SUMMARY:ICCE-Berlin 2011 Notification Due
DESCRIPTION:1st IEEE Conference International Conference on Consumer Elec
 tronics Berlin
URL:http://www.wikicfp.com/cfp/servlet/event.showcfp?eventid=14936&copyow
 nerid=18995
UID:cfp153466-N@wikicfp.com
END:VEVENT
BEGIN:VEVENT
DTSTAMP:20260423T071132Z
DTSTART;VALUE=DATE:20110707
SUMMARY:ICCE-Berlin 2011 Final Version Due
DESCRIPTION:1st IEEE Conference International Conference on Consumer Elec
 tronics Berlin
URL:http://www.wikicfp.com/cfp/servlet/event.showcfp?eventid=14936&copyow
 nerid=18995
UID:cfp153466-N@wikicfp.com
END:VEVENT
BEGIN:VEVENT
DTSTAMP:20260423T071132Z
DTSTART;VALUE=DATE:20130915
DTEND;VALUE=DATE:20130919
SUMMARY:ICIP 2013
DESCRIPTION:IEEE International Conference on Image Processing
URL:http://www.wikicfp.com/cfp/servlet/event.showcfp?eventid=22393&copyow
 nerid=18995
UID:cfp297196-E@wikicfp.com
END:VEVENT
BEGIN:VEVENT
DTSTAMP:20260423T071132Z
DTSTART;VALUE=DATE:20130205
SUMMARY:ICIP 2013 Deadline
DESCRIPTION:IEEE International Conference on Image Processing
URL:http://www.wikicfp.com/cfp/servlet/event.showcfp?eventid=22393&copyow
 nerid=18995
UID:cfp297196-D@wikicfp.com
END:VEVENT
BEGIN:VEVENT
DTSTAMP:20260423T071132Z
DTSTART;VALUE=DATE:20130412
SUMMARY:ICIP 2013 Notification Due
DESCRIPTION:IEEE International Conference on Image Processing
URL:http://www.wikicfp.com/cfp/servlet/event.showcfp?eventid=22393&copyow
 nerid=18995
UID:cfp297196-N@wikicfp.com
END:VEVENT
BEGIN:VEVENT
DTSTAMP:20260423T071132Z
DTSTART;VALUE=DATE:20130909
DTEND;VALUE=DATE:20130914
SUMMARY:EUSIPCO 2013
DESCRIPTION:European Signal Processing Conference
URL:http://www.wikicfp.com/cfp/servlet/event.showcfp?eventid=25063&copyow
 nerid=18995
UID:cfp297198-E@wikicfp.com
END:VEVENT
BEGIN:VEVENT
DTSTAMP:20260423T071132Z
DTSTART;VALUE=DATE:20130322
SUMMARY:EUSIPCO 2013 Deadline
DESCRIPTION:European Signal Processing Conference
URL:http://www.wikicfp.com/cfp/servlet/event.showcfp?eventid=25063&copyow
 nerid=18995
UID:cfp297198-D@wikicfp.com
END:VEVENT
BEGIN:VEVENT
DTSTAMP:20260423T071132Z
DTSTART;VALUE=DATE:20130603
SUMMARY:EUSIPCO 2013 Notification Due
DESCRIPTION:European Signal Processing Conference
URL:http://www.wikicfp.com/cfp/servlet/event.showcfp?eventid=25063&copyow
 nerid=18995
UID:cfp297198-N@wikicfp.com
END:VEVENT
BEGIN:VEVENT
DTSTAMP:20260423T071132Z
DTSTART;VALUE=DATE:20130630
SUMMARY:EUSIPCO 2013 Final Version Due
DESCRIPTION:European Signal Processing Conference
URL:http://www.wikicfp.com/cfp/servlet/event.showcfp?eventid=25063&copyow
 nerid=18995
UID:cfp297198-N@wikicfp.com
END:VEVENT
BEGIN:VEVENT
DTSTAMP:20260423T071132Z
DTSTART;VALUE=DATE:20130707
DTEND;VALUE=DATE:20130710
SUMMARY:IWSSIP 2013
DESCRIPTION:INTERNATIONAL CONFERENCE ON SYSTEMS\, SIGNALS AND IMAGE PROCE
 SSING
URL:http://www.wikicfp.com/cfp/servlet/event.showcfp?eventid=25061&copyow
 nerid=18995
UID:cfp297197-E@wikicfp.com
END:VEVENT
BEGIN:VEVENT
DTSTAMP:20260423T071132Z
DTSTART;VALUE=DATE:20130430
SUMMARY:IWSSIP 2013 Deadline
DESCRIPTION:INTERNATIONAL CONFERENCE ON SYSTEMS\, SIGNALS AND IMAGE PROCE
 SSING
URL:http://www.wikicfp.com/cfp/servlet/event.showcfp?eventid=25061&copyow
 nerid=18995
UID:cfp297197-D@wikicfp.com
END:VEVENT
BEGIN:VEVENT
DTSTAMP:20260423T071132Z
DTSTART;VALUE=DATE:20130517
SUMMARY:IWSSIP 2013 Notification Due
DESCRIPTION:INTERNATIONAL CONFERENCE ON SYSTEMS\, SIGNALS AND IMAGE PROCE
 SSING
URL:http://www.wikicfp.com/cfp/servlet/event.showcfp?eventid=25061&copyow
 nerid=18995
UID:cfp297197-N@wikicfp.com
END:VEVENT
BEGIN:VEVENT
DTSTAMP:20260423T071132Z
DTSTART;VALUE=DATE:20130614
SUMMARY:IWSSIP 2013 Final Version Due
DESCRIPTION:INTERNATIONAL CONFERENCE ON SYSTEMS\, SIGNALS AND IMAGE PROCE
 SSING
URL:http://www.wikicfp.com/cfp/servlet/event.showcfp?eventid=25061&copyow
 nerid=18995
UID:cfp297197-N@wikicfp.com
END:VEVENT
END:VCALENDAR
