BEGIN:VCALENDAR
PRODID:-//WikiCFP//lacovnk 1.0//EN
VERSION:2.0
CALSCALE:GREGORIAN
BEGIN:VEVENT
DTSTAMP:20260422T064524Z
DTSTART;VALUE=DATE:20090421
DTEND;VALUE=DATE:20090424
SUMMARY:DASFAA 2009
DESCRIPTION:The 14th International Conference on Database Systems for Adv
 anced Applications
URL:http://www.wikicfp.com/cfp/servlet/event.showcfp?eventid=3177&copyown
 erid=1871
UID:cfp14683-E@wikicfp.com
END:VEVENT
BEGIN:VEVENT
DTSTAMP:20260422T064524Z
DTSTART;VALUE=DATE:20081003
SUMMARY:DASFAA 2009 Deadline
DESCRIPTION:The 14th International Conference on Database Systems for Adv
 anced Applications
URL:http://www.wikicfp.com/cfp/servlet/event.showcfp?eventid=3177&copyown
 erid=1871
UID:cfp14683-D@wikicfp.com
END:VEVENT
BEGIN:VEVENT
DTSTAMP:20260422T064524Z
DTSTART;VALUE=DATE:20081212
SUMMARY:DASFAA 2009 Notification Due
DESCRIPTION:The 14th International Conference on Database Systems for Adv
 anced Applications
URL:http://www.wikicfp.com/cfp/servlet/event.showcfp?eventid=3177&copyown
 erid=1871
UID:cfp14683-N@wikicfp.com
END:VEVENT
BEGIN:VEVENT
DTSTAMP:20260422T064524Z
DTSTART;VALUE=DATE:20090405
DTEND;VALUE=DATE:20090408
SUMMARY:APWEB-WAIM 2009
DESCRIPTION:The Joint International Conferences on Asia-Pacific Web Confe
 rence and Web-Age Information Management
URL:http://www.wikicfp.com/cfp/servlet/event.showcfp?eventid=3295&copyown
 erid=1871
UID:cfp14684-E@wikicfp.com
END:VEVENT
BEGIN:VEVENT
DTSTAMP:20260422T064524Z
DTSTART;VALUE=DATE:20081008
SUMMARY:APWEB-WAIM 2009 Abstract Due
DESCRIPTION:The Joint International Conferences on Asia-Pacific Web Confe
 rence and Web-Age Information Management
URL:http://www.wikicfp.com/cfp/servlet/event.showcfp?eventid=3295&copyown
 erid=1871
UID:cfp14684-A@wikicfp.com
END:VEVENT
BEGIN:VEVENT
DTSTAMP:20260422T064524Z
DTSTART;VALUE=DATE:20081015
SUMMARY:APWEB-WAIM 2009 Deadline
DESCRIPTION:The Joint International Conferences on Asia-Pacific Web Confe
 rence and Web-Age Information Management
URL:http://www.wikicfp.com/cfp/servlet/event.showcfp?eventid=3295&copyown
 erid=1871
UID:cfp14684-D@wikicfp.com
END:VEVENT
BEGIN:VEVENT
DTSTAMP:20260422T064524Z
DTSTART;VALUE=DATE:20081210
SUMMARY:APWEB-WAIM 2009 Notification Due
DESCRIPTION:The Joint International Conferences on Asia-Pacific Web Confe
 rence and Web-Age Information Management
URL:http://www.wikicfp.com/cfp/servlet/event.showcfp?eventid=3295&copyown
 erid=1871
UID:cfp14684-N@wikicfp.com
END:VEVENT
BEGIN:VEVENT
DTSTAMP:20260422T064524Z
DTSTART;VALUE=DATE:20090323
DTEND;VALUE=DATE:20090324
SUMMARY:WEBIST 2009
DESCRIPTION:International Conference on Web Information Systems and Techn
 ologies
URL:http://www.wikicfp.com/cfp/servlet/event.showcfp?eventid=3203&copyown
 erid=1871
UID:cfp14685-E@wikicfp.com
END:VEVENT
BEGIN:VEVENT
DTSTAMP:20260422T064524Z
DTSTART;VALUE=DATE:20081114
SUMMARY:WEBIST 2009 Deadline
DESCRIPTION:International Conference on Web Information Systems and Techn
 ologies
URL:http://www.wikicfp.com/cfp/servlet/event.showcfp?eventid=3203&copyown
 erid=1871
UID:cfp14685-D@wikicfp.com
END:VEVENT
BEGIN:VEVENT
DTSTAMP:20260422T064524Z
DTSTART;VALUE=DATE:20090114
SUMMARY:WEBIST 2009 Notification Due
DESCRIPTION:International Conference on Web Information Systems and Techn
 ologies
URL:http://www.wikicfp.com/cfp/servlet/event.showcfp?eventid=3203&copyown
 erid=1871
UID:cfp14685-N@wikicfp.com
END:VEVENT
END:VCALENDAR
