BEGIN:VCALENDAR
PRODID:-//WikiCFP//giampaolo_bovenzi 1.0//EN
VERSION:2.0
CALSCALE:GREGORIAN
BEGIN:VEVENT
DTSTAMP:20260419T181139Z
DTSTART;VALUE=DATE:20240723
DTEND;VALUE=DATE:20240727
SUMMARY:AI-DCS 2024
DESCRIPTION:The 1st IEEE International Workshop on Generative\, Increment
 al\, Adversarial\, Explainable AI/ML in Distributed Computing Systems
URL:http://www.wikicfp.com/cfp/servlet/event.showcfp?eventid=178552&copyo
 wnerid=185582
UID:cfp985110-E@wikicfp.com
END:VEVENT
BEGIN:VEVENT
DTSTAMP:20260419T181139Z
DTSTART;VALUE=DATE:20240425
SUMMARY:AI-DCS 2024 Deadline
DESCRIPTION:The 1st IEEE International Workshop on Generative\, Increment
 al\, Adversarial\, Explainable AI/ML in Distributed Computing Systems
URL:http://www.wikicfp.com/cfp/servlet/event.showcfp?eventid=178552&copyo
 wnerid=185582
UID:cfp985110-D@wikicfp.com
END:VEVENT
BEGIN:VEVENT
DTSTAMP:20260419T181139Z
DTSTART;VALUE=DATE:20240505
SUMMARY:AI-DCS 2024 Notification Due
DESCRIPTION:The 1st IEEE International Workshop on Generative\, Increment
 al\, Adversarial\, Explainable AI/ML in Distributed Computing Systems
URL:http://www.wikicfp.com/cfp/servlet/event.showcfp?eventid=178552&copyo
 wnerid=185582
UID:cfp985110-N@wikicfp.com
END:VEVENT
BEGIN:VEVENT
DTSTAMP:20260419T181139Z
DTSTART;VALUE=DATE:20240510
SUMMARY:AI-DCS 2024 Final Version Due
DESCRIPTION:The 1st IEEE International Workshop on Generative\, Increment
 al\, Adversarial\, Explainable AI/ML in Distributed Computing Systems
URL:http://www.wikicfp.com/cfp/servlet/event.showcfp?eventid=178552&copyo
 wnerid=185582
UID:cfp985110-N@wikicfp.com
END:VEVENT
END:VCALENDAR
