BEGIN:VCALENDAR
PRODID:-//WikiCFP//xchen87 1.0//EN
VERSION:2.0
CALSCALE:GREGORIAN
BEGIN:VEVENT
DTSTAMP:20260420T051203Z
DTSTART;VALUE=DATE:20250519
DTEND;VALUE=DATE:20250523
SUMMARY:INFOCOM 2025
DESCRIPTION:International Conference on Computer Communications
URL:http://www.wikicfp.com/cfp/servlet/event.showcfp?eventid=181078&copyo
 wnerid=185406
UID:cfp995843-E@wikicfp.com
END:VEVENT
BEGIN:VEVENT
DTSTAMP:20260420T051203Z
DTSTART;VALUE=DATE:20240724
SUMMARY:INFOCOM 2025 Abstract Due
DESCRIPTION:International Conference on Computer Communications
URL:http://www.wikicfp.com/cfp/servlet/event.showcfp?eventid=181078&copyo
 wnerid=185406
UID:cfp995843-A@wikicfp.com
END:VEVENT
BEGIN:VEVENT
DTSTAMP:20260420T051203Z
DTSTART;VALUE=DATE:20240731
SUMMARY:INFOCOM 2025 Deadline
DESCRIPTION:International Conference on Computer Communications
URL:http://www.wikicfp.com/cfp/servlet/event.showcfp?eventid=181078&copyo
 wnerid=185406
UID:cfp995843-D@wikicfp.com
END:VEVENT
BEGIN:VEVENT
DTSTAMP:20260420T051203Z
DTSTART;VALUE=DATE:20241206
SUMMARY:INFOCOM 2025 Notification Due
DESCRIPTION:International Conference on Computer Communications
URL:http://www.wikicfp.com/cfp/servlet/event.showcfp?eventid=181078&copyo
 wnerid=185406
UID:cfp995843-N@wikicfp.com
END:VEVENT
BEGIN:VEVENT
DTSTAMP:20260420T051203Z
DTSTART;VALUE=DATE:20241208
DTEND;VALUE=DATE:20241213
SUMMARY:IEEE Globecom 2024 NEXTG-WESEC 2024
DESCRIPTION:WORKSHOP ON NEXTG (6G AND BEYOND) WIRELESS SECURITY (IEEE NEX
 TG-WESEC) with IEEE Globecom 2024\, 8â12 December\, 2024 - Cape Town\,
  South Africa
URL:http://www.wikicfp.com/cfp/servlet/event.showcfp?eventid=181402&copyo
 wnerid=185406
UID:cfp995842-E@wikicfp.com
END:VEVENT
BEGIN:VEVENT
DTSTAMP:20260420T051203Z
DTSTART;VALUE=DATE:20240805
SUMMARY:IEEE Globecom 2024 NEXTG-WESEC 2024 Deadline
DESCRIPTION:WORKSHOP ON NEXTG (6G AND BEYOND) WIRELESS SECURITY (IEEE NEX
 TG-WESEC) with IEEE Globecom 2024\, 8â12 December\, 2024 - Cape Town\,
  South Africa
URL:http://www.wikicfp.com/cfp/servlet/event.showcfp?eventid=181402&copyo
 wnerid=185406
UID:cfp995842-D@wikicfp.com
END:VEVENT
BEGIN:VEVENT
DTSTAMP:20260420T051203Z
DTSTART;VALUE=DATE:20240901
SUMMARY:IEEE Globecom 2024 NEXTG-WESEC 2024 Notification Due
DESCRIPTION:WORKSHOP ON NEXTG (6G AND BEYOND) WIRELESS SECURITY (IEEE NEX
 TG-WESEC) with IEEE Globecom 2024\, 8â12 December\, 2024 - Cape Town\,
  South Africa
URL:http://www.wikicfp.com/cfp/servlet/event.showcfp?eventid=181402&copyo
 wnerid=185406
UID:cfp995842-N@wikicfp.com
END:VEVENT
END:VCALENDAR
