BEGIN:VCALENDAR
PRODID:-//WikiCFP//Ritvik_Singh_Sabharwal 1.0//EN
VERSION:2.0
CALSCALE:GREGORIAN
BEGIN:VEVENT
DTSTAMP:20260419T170743Z
DTSTART;VALUE=DATE:20230324
SUMMARY:CCD 2023 Deadline
DESCRIPTION:Chalchitra Darpan
URL:http://www.wikicfp.com/cfp/servlet/event.showcfp?eventid=172274&copyo
 wnerid=183739
UID:cfp976013-D@wikicfp.com
END:VEVENT
BEGIN:VEVENT
DTSTAMP:20260419T170743Z
DTSTART;VALUE=DATE:20230404
SUMMARY:CCD 2023 Notification Due
DESCRIPTION:Chalchitra Darpan
URL:http://www.wikicfp.com/cfp/servlet/event.showcfp?eventid=172274&copyo
 wnerid=183739
UID:cfp976013-N@wikicfp.com
END:VEVENT
BEGIN:VEVENT
DTSTAMP:20260419T170743Z
DTSTART;VALUE=DATE:20230513
SUMMARY:CCD 2023 Final Version Due
DESCRIPTION:Chalchitra Darpan
URL:http://www.wikicfp.com/cfp/servlet/event.showcfp?eventid=172274&copyo
 wnerid=183739
UID:cfp976013-N@wikicfp.com
END:VEVENT
BEGIN:VEVENT
DTSTAMP:20260419T170743Z
DTSTART;VALUE=DATE:20231113
SUMMARY:Journal for Fantasy Research 2023 Deadline
DESCRIPTION:Journal for Fantasy Research Special Issue 'Fantasy Across Me
 dia'
URL:http://www.wikicfp.com/cfp/servlet/event.showcfp?eventid=169525&copyo
 wnerid=183739
UID:cfp976014-D@wikicfp.com
END:VEVENT
BEGIN:VEVENT
DTSTAMP:20260419T170743Z
DTSTART;VALUE=DATE:20260420
SUMMARY:JPS 2026 Deadline
DESCRIPTION:Journal of Political Science (JPS)
URL:http://www.wikicfp.com/cfp/servlet/event.showcfp?eventid=171188&copyo
 wnerid=183739
UID:cfp978967-D@wikicfp.com
END:VEVENT
BEGIN:VEVENT
DTSTAMP:20260419T170743Z
DTSTART;VALUE=DATE:20260523
SUMMARY:JPS 2026 Notification Due
DESCRIPTION:Journal of Political Science (JPS)
URL:http://www.wikicfp.com/cfp/servlet/event.showcfp?eventid=171188&copyo
 wnerid=183739
UID:cfp978967-N@wikicfp.com
END:VEVENT
BEGIN:VEVENT
DTSTAMP:20260419T170743Z
DTSTART;VALUE=DATE:20260530
SUMMARY:JPS 2026 Final Version Due
DESCRIPTION:Journal of Political Science (JPS)
URL:http://www.wikicfp.com/cfp/servlet/event.showcfp?eventid=171188&copyo
 wnerid=183739
UID:cfp978967-N@wikicfp.com
END:VEVENT
END:VCALENDAR
