BEGIN:VCALENDAR
PRODID:-//WikiCFP//A4257537582 1.0//EN
VERSION:2.0
CALSCALE:GREGORIAN
BEGIN:VEVENT
DTSTAMP:20260424T020047Z
DTSTART;VALUE=DATE:20231031
DTEND;VALUE=DATE:20250102
SUMMARY: Ideal Machine-Human Interface 2024
DESCRIPTION:Special Call for Computers in Human Behavior: The AI Interfac
 e: Designing for the Ideal Machine-Human Experience
URL:http://www.wikicfp.com/cfp/servlet/event.showcfp?eventid=175354&copyo
 wnerid=182452
UID:cfp971333-E@wikicfp.com
END:VEVENT
BEGIN:VEVENT
DTSTAMP:20260424T020047Z
DTSTART;VALUE=DATE:20231231
SUMMARY: Ideal Machine-Human Interface 2024 Deadline
DESCRIPTION:Special Call for Computers in Human Behavior: The AI Interfac
 e: Designing for the Ideal Machine-Human Experience
URL:http://www.wikicfp.com/cfp/servlet/event.showcfp?eventid=175354&copyo
 wnerid=182452
UID:cfp971333-D@wikicfp.com
END:VEVENT
BEGIN:VEVENT
DTSTAMP:20260424T020047Z
DTSTART;VALUE=DATE:20240831
SUMMARY: Ideal Machine-Human Interface 2024 Final Version Due
DESCRIPTION:Special Call for Computers in Human Behavior: The AI Interfac
 e: Designing for the Ideal Machine-Human Experience
URL:http://www.wikicfp.com/cfp/servlet/event.showcfp?eventid=175354&copyo
 wnerid=182452
UID:cfp971333-N@wikicfp.com
END:VEVENT
END:VCALENDAR
